{"text_format":"1","workbook":"xlsx","n_sheets":9,"sheets":["Исходные данные","Телескопы","Дифракционный анализ","Виньетирование","Чертёж","А-А","Расчёт диафрагм","Элементы конструкции","О программе"],"not_rendered":{"charts":2,"images":273,"macros":1,"external_links":0,"defined_names":3,"comments":1,"pivot_tables":0},"unopened":[],"bounds":{"document_bytes":16777216,"sheet_cells":100000,"rows_first":2000,"rows_last":500,"rows_between":2000,"halvings":0,"cell_chars":16384,"cell_head_chars":4096},"cells_cut":0,"cells_raw":0,"read":"whole","date_system":"1900"}

{"sheet":"Исходные данные","index":0,"n_rows":1219,"n_cols":68,"rows_kept":1219,"cut":false,"hidden":false,"merged":[[65,1,65,14],[59,7,63,7],[141,43,141,49],[141,51,141,57],[1,3,1,6],[37,5,37,6],[3,2,3,7],[39,5,39,6],[39,39,39,41],[39,43,39,45],[2,1,2,13],[5,11,7,13]]}
[" "]
[]
[null,"My",null,null,null,null,null,null,null,null,null,null,null,null,106]
[]
[]
[null,null,null,null,"D",150,"мм",null,null,null,null,{"$f":"O3-5","v":101},null,null,null,null,null,null,null,null,null,null,null,null,null,null,null,null,null,null,null,null,null,null,null,null,null,null,"Радиус конуса в месте перелома опт. Оси",{"$f":"(((F6-F10)*(F12/(F36-F62)))+F10)/2","v":22.325982456140352},null,{"$f":"(((F6-F18)*(F12/(F36-F62)))+F18)/2","v":21.164912280701756}]
[]
[null,null,null,null,"A","1/",5,null,null,null,null,null,null,null,null,null,null,{"$f":"S8+T8*U8+V8*W8","v":5.8990000000000009},1,0.1,48,1E-3,99,null,null,null,null,null,null,null,null,null,null,null,null,null,null,null,"Угловой радиус схождения конуса",{"$f":"DEGREES(ATAN((F6/2-F10/2)/(F36-F62)))","v":5.0077936393389022},null,{"$f":"DEGREES(ATAN((F6/2-F18/2)/(F36-F62)))","v":5.1175983443827997}]
[]
[null,null,null,null,"d",18.89,"мм",null,null,null,null,null,null,null,null,null,null,null,null,null,null,null,null,null,null,null,null,null,null,null,null,null,null,null,null,null,null,null,"Малая полуось большой оси ДЗ",{"$f":"$AN$6*SIN(RADIANS(90-$AN$8))/SIN(RADIANS(45+$AN$8))","v":29.029937673428609},null,{"$f":"$AP$6*SIN(RADIANS(90-$AP$8))/SIN(RADIANS(180-45-(90-$AP$8)))","v":27.471440020384097}]
[]
[null,null,null,null,"H",147,"мм",null,null,null,null,null,null,null,null,null,null,null,null,null,null,null,null,null,null,null,null,null,null,null,null,null,null,null,null,null,null,null,"Большая полуось большой оси ДЗ",{"$f":"$AN$6*SIN(RADIANS(90+$AN$8))/SIN(RADIANS(45-$AN$8))","v":34.606091223047294},null,{"$f":"$AP$6*SIN(RADIANS(90+$AP$8))/SIN(RADIANS(180-45-(90+$AP$8)))","v":32.875988323164748},null,null,null,null,null,null,null,null,null,null,{"$f":"1/2+1/3","v":0.83333333333333326}]
[null,null,null,null,null,150]
[null,null,null,null," L2",50,"мм",null,null,null,null,null,null,null,null,null,null,null,null,null,null,null,null,null,null,null,null,null,null,null,null,null,null,null,null,null,null,null,"Минимальная высота диафрагмирования",{"$f":"(F34-F32)/2","v":2},0,null,null,null,null,null,null,null,null,null,null,null,{"$f":"(2+3)/6","v":0.83333333333333337}]
[]
[null,null,null,null,"ΔT",3,"мм",null,null,null,"Параметры  готового  компелекта  оптики"]
[]
[null,null,null,null,"dmax",16,"мм",null,null,null,"Диаметр ГЗ","D",null,150,"мм",null,{"$f":"ROUND(N20/N18,6)","v":5}]
[]
[null,null,null,null,"BPM",18,"мм",null,null,null,"Фокусное расстояние ГЗ","F",null,750,"мм"]
[]
[null,null,null,null,"BSM",4.7,"мм",null,null,null,"Малая ось ДЗ","b",null,45,"мм",null,{"$f":"ROUND(IF(ISERROR((N18*(N22*SQRT(2))-2*SQRT(2)*(N20-F62)^2+2*(N20-F62)*SQRT(2*(N20-F62)^2-4*(N20-F62)*F12+2*F12^2+(N22*SQRT(2))^2-SQRT(2)*N18*(N22*SQRT(2)))+2*SQRT(2)*N20*F12)/(N22*SQRT(2))),\"\",(N18*(N22*SQRT(2))-2*SQRT(2)*(N20-F62)^2+2*(N20-F62)*SQRT(2*(N20-F62)^2-4*(N20-F62)*F12+2*F12^2+(N22*SQRT(2))^2-SQRT(2)*N18*(N22*SQRT(2)))+2*SQRT(2)*(N20-F62)*F12)/(N22*SQRT(2))),2)","v":18.89},null,null,null,null,null,null,null,null,null,null,null,null,null,null,null,null,null,null,null,null,null,null,null,null,null,null,{"$f":"4*F36*(SIN(RADIANS(45+AN26)))^2","v":1760.2318480995982}]
[null,null,null,null,null,null,null,null,null,null,null,null,null,45]
[null,null,null,null,"r",15,"мм",null,null,null,"Положение фокальной плоскости над трубой",null,null,null,null,null,null,null,null,null,null,null,null,null,null,null,null,null,null,null,null,null,null,null,null,null,null,null,"d=",{"$f":"(F6-F10)*F12/(2*F36)+F10/2","v":22.293780000000002}]
[]
[null,null,null,null,"n",60,"мм",null,null,null,null,"h",null,60,"мм",null,null,null,null,null,null,null,null,null,null,null,null,null,null,null,null,null,null,null,null,null,null,null,null,{"$f":"DEGREES(ATAN((F6-F10)/(F36*2)))","v":4.995337579998389}]
[]
[null,null,null,null,null,0,"мм"]
[]
[null,null,null,null,"ΔB",0,"мм",null,null,null,null,null,null,null,null,null,null,null,null,null,null,null,null,null,null,null,null,null,null,null,null,null,null,null,null,null,null,null,null,{"$f":"(2*F12*(F6-F10)+2*F36*F10)*SIN(RADIANS(90-AN26))/(4*F36*SIN(RADIANS(45+AN26)))","v":28.993905407264428}]
[]
[null,null,null,null,"Dо",164,"мм",null,null,null,null,null,null,null,null,null,null,null,null,null,null,null,null,null,null,null,null,null,null,null,null,null,null,null,null,null,null,null,null,{"$f":"(2*F12*(F6-F10)+2*F36*F10)*SIN(RADIANS(90+AN26))/(4*F36*SIN(RADIANS(45-AN26)))","v":34.547881165647411}]
[]
[null,null,null,null,"Dт",168,"мм"]
[]
[null,null,null,null,"F",750,"мм",null,null,null,null,null,null,null,null,null,null,null,null,null,null,null,null,null,null,null,null,null,null,null,null,null,null,null,null,null,null,null,null,{"$f":"AN12*SIN(RADIANS(45))","v":24.470201774177003}]
[]
[null,null,null,null,"γ",{"$f":"TEXT(AO42,\"00\")&\"º\"&TEXT(AO44,\"00\")&\"'\"&TEXT(AO46,\"00\")&\"\"\"\"","v":"01º26'34\""}]
[]
[null,null,null,null,"γmax",{"$f":"TEXT(AS42,\"00\")&\"º\"&TEXT(AS44,\"00\")&\"'\"&TEXT(AS46,\"00\")&\"\"\"\"","v":"01º13'20\""},null,null,null,null,null,null,null,null,null,null,null,null,null,null,null,null,null,null,null,null,null,null,null,null,null,null,null,null,null,null,null,null,null,"Не виньетированное поле",null,null,null,"Максимальное поле"]
[]
[null,null,null,null,"*Kob",{"$f":"F46/F6*100","v":29.998311706987462},"%",null,null,null,null,null,null,null,null,null,null,null,null,null,null,null,null,null,null,null,null,null,null,null,null,null,null,null,null,null,null,null,null,{"$f":"DEGREES(ATAN(F10/2/F36))*2","v":1.443013419745887},{"$f":"INT(AN42)","v":1},"град",null,{"$f":"DEGREES(ATAN(F18/2/F36))*2","v":1.2222636088730399},{"$f":"INT(AR42)","v":1},"град"]
[]
[null,null,null,null,"**Kvi",{"$f":"(PI()*(F46/2)^2)/(PI()*(F6/2)^2)*100","v":8.9989870526958118},"%",null,null,null,null,null,null,null,null,null,null,null,null,null,null,null,null,null,null,null,null,null,null,null,null,null,null,null,null,null,null,null,null,{"$f":"60*(AN42-INT(AN42))","v":26.580805184753224},{"$f":"INT(AN44)","v":26},"мин",null,{"$f":"60*(AR42-INT(AR42))","v":13.335816532382392},{"$f":"INT(AR44)","v":13},"мин"]
[]
[null,null,null,null,"b",{"$f":"(AN10+AN12)*SIN(RADIANS(45))","v":44.997467560481198},"мм",null,null,null,null,null,null,null,null,null,null,null,null,null,null,null,null,null,null,null,null,null,null,null,null,null,null,null,null,null,null,null,null,{"$f":"60*(AN44-INT(AN44))","v":34.848311085193444},{"$f":"INT(AN46)","v":34},"сек",null,{"$f":"60*(AR44-INT(AR44))","v":20.14899194294351},{"$f":"INT(AR46)","v":20},"сек"]
[]
[null,null,null,null,"a",35,"мм"]
[]
[null,null,null,null,"ΔC1",{"$f":"F46/SIN(RADIANS(45))/2-AN10","v":2.788076774809344},"мм"]
[]
[null,null,null,null,"ΔC2",{"$f":"F50*SIN(RADIANS(45))","v":1.9714679939364057},"мм",null,null,null,null,null,null,null,null,null,null,null,null,null,null,null,null,null,null,null,null,null,null,null,null,null,null,null,null,null,null,null,null,{"$f":"(2*F12*(F6-F10)+2*F36*F10)*SIN(RADIANS(90-AN26))","v":66627.310428659694},null,{"$f":"AN52/AN54","v":28.993905407264428}]
[]
[null,null,null,null,"DОР",{"$f":"F18*F60/F36+F6","v":164.14400000000001},"мм",null,null,null,null,null,null,null,null,null,null,null,null,null,null,null,null,null,null,null,null,null,null,null,null,null,null,null,null,null,null,null,null,{"$f":"(4*F36*SIN(RADIANS(45+AN26)))","v":2297.976402032622}]
[]
[null,null,null,null,"h",60]
[]
[null,null,null,null,"L",{"$f":"F60+F14","v":713},"мм",null,null,null,null,null,null,null,null,null,null,null,null,null,null,null,null,null,null,null,null,null,null,null,null,null,null,null,null,null,null,null,"Расстояние от края трубы до первой диафрагмы",{"$f":"ROUND(Чертёж!HR2323-F16,1)","v":-13.3}]
[]
[null,null,null,null,"L1",{"$f":"F36-F12+F26+F28","v":663},"мм",null,null,null,null,null,null,null,null,null,null,null,null,null,null,null,null,null,null,null,null,null,null,null,null,null,null,null,null,null,null,null,null,{"$f":"AN10*SIN(RADIANS(45))","v":20.527265786304195}]
[]
[null,null,null,null,"C",{"$f":"(F6/2)^2/(4*F36)","v":1.875},"мм"]
[]
[null,null,null,null,"e",{"$f":"Чертёж!$HP$2218","v":27.256},"мм",null,null,null,null,null,null,null,null,null,null,null,null,null,null,null,null,null,null,null,null,null,null,null,null,null,null,null,null,null,null,null,null,null,null,null,null,null,null,null,null,null,null,null,null,null,null,null,null,null,null,null,null,null,null,null,null,null,null,"Стрелка кривизны параболы",{"$f":"(F6/2)^2/(4*F36)","v":1.875},"мм"]
[null,null,null,null,null,null,null,null,null,null,null,null,null,null,null,null,null,null,null,null,null,null,null,null,null,null,null,null,null,null,null,null,null,null,null,null,null,null,null,null,null,null,null,null,null,null,null,null,null,null,null,null,null,null,null,null,null,null,null,null,null,null,null,null,null,"Стрелка кривизны сферы",{"$f":"F36*2-SQRT((F36*2)^2-(F6/2)^2)","v":1.8761733421365534},"мм"]
[null,"    ПРОГРАММА   ПРОЕКТИРОВАНИЯ   ТЕЛЕСКОПОВ   СИСТЕМЫ   НЬЮТОНА",null,null,null,null,null,null,null,null,null,null,null,null,null,null,null,null,null,null,null,null,null,null,null,null,null,null,null,null,null,null,null,null,null,null,null,null,null,null,null,null,null,null,null,null,null,null,null,null,null,null,null,null,null,null,null,null,null,null,null,null,null,null,null,"Разница",{"$f":"BO65-BO64","v":1.1733421365534014E-3},"мм"]
[]
[]
[]
[]
[]
[]
[]
[]
[]
[]
[]
[]
[]
[]
[]
[]
[]
[]
[]
[]
[]
[]
[]
[]
[]
[]
[]
[]
[]
[]
[]
[]
[]
[]
[]
[null,null,null,null,null,{"$f":"(F36-F62)","v":748.125}]
[]
[]
[]
[]
[]
[]
[]
[]
[]
[]
[]
[]
[]
[]
[]
[]
[]
[]
[]
[]
[]
[]
[]
[]
[]
[]
[]
[]
[]
[]
[]
[]
[]
[]
[]
[]
[]
[]
[]
[]
[]
[]
[]
[]
[]
[]
[]
[]
[]
[]
[]
[]
[]
[]
[]
[]
[]
[]
[]
[]
[]
[]
[]
[]
[]
[]
[]
[]
[]
[]
[]
[]
[]
[]
[]
[]
[]
[]
[]
[]
[]
[]
[]
[]
[]
[]
[]
[]
[]
[]
[]
[]
[]
[]
[]
[]
[]
[]
[]
[]
[]
[]
[]
[]
[]
[]
[]
[]
[]
[]
[]
[]
[]
[]
[]
[]
[]
[]
[]
[]
[]
[]
[]
[]
[]
[]
[]
[]
[]
[]
[]
[]
[]
[]
[]
[]
[]
[]
[]
[]
[]
[]
[]
[]
[]
[]
[]
[]
[]
[]
[]
[]
[]
[]
[]
[]
[]
[]
[]
[]
[]
[]
[]
[]
[]
[]
[]
[]
[]
[]
[]
[]
[]
[]
[]
[]
[]
[]
[]
[]
[]
[]
[]
[]
[]
[]
[]
[]
[]
[]
[]
[]
[]
[]
[]
[]
[]
[]
[]
[]
[]
[]
[]
[]
[]
[]
[]
[]
[]
[]
[]
[]
[]
[]
[]
[]
[]
[]
[]
[]
[]
[]
[]
[]
[]
[]
[]
[]
[]
[]
[]
[]
[]
[]
[]
[]
[]
[]
[]
[]
[]
[]
[]
[]
[]
[]
[]
[]
[]
[]
[]
[]
[]
[]
[]
[]
[]
[]
[]
[]
[]
[]
[]
[]
[]
[]
[]
[]
[]
[]
[]
[]
[]
[]
[]
[]
[]
[]
[]
[]
[]
[]
[]
[]
[]
[]
[]
[]
[]
[]
[]
[]
[]
[]
[]
[]
[]
[]
[]
[]
[]
[]
[]
[]
[]
[]
[]
[]
[]
[]
[]
[]
[]
[]
[]
[]
[]
[]
[]
[]
[]
[]
[]
[]
[]
[]
[]
[]
[]
[]
[]
[]
[]
[]
[]
[]
[]
[]
[]
[]
[]
[]
[]
[]
[]
[]
[]
[]
[]
[]
[]
[]
[]
[]
[]
[]
[]
[]
[]
[]
[]
[]
[]
[]
[]
[]
[]
[]
[]
[]
[]
[]
[]
[]
[]
[]
[]
[]
[]
[]
[]
[]
[]
[]
[]
[]
[]
[]
[]
[]
[]
[]
[]
[]
[]
[]
[]
[]
[]
[]
[]
[]
[]
[]
[]
[]
[]
[]
[]
[]
[]
[]
[]
[]
[]
[]
[]
[]
[]
[]
[]
[]
[]
[]
[]
[]
[]
[]
[]
[]
[]
[]
[]
[]
[]
[]
[]
[]
[]
[]
[]
[]
[]
[]
[]
[]
[]
[]
[]
[]
[]
[]
[]
[]
[]
[]
[]
[]
[]
[]
[]
[]
[]
[]
[]
[]
[]
[]
[]
[]
[]
[]
[]
[]
[]
[]
[]
[]
[]
[]
[]
[]
[]
[]
[]
[]
[]
[]
[]
[]
[]
[]
[]
[]
[]
[]
[]
[]
[]
[]
[]
[]
[]
[]
[]
[]
[]
[]
[]
[]
[]
[]
[]
[]
[]
[]
[]
[]
[]
[]
[]
[]
[]
[]
[]
[]
[]
[]
[]
[]
[]
[]
[]
[]
[]
[]
[]
[]
[]
[]
[]
[]
[]
[]
[]
[]
[]
[]
[]
[]
[]
[]
[]
[]
[]
[]
[]
[]
[]
[]
[]
[]
[]
[]
[]
[]
[]
[]
[]
[]
[]
[]
[]
[]
[]
[]
[]
[]
[]
[]
[]
[]
[]
[]
[]
[]
[]
[]
[]
[]
[]
[]
[]
[]
[]
[]
[]
[]
[]
[]
[]
[]
[]
[]
[]
[]
[]
[]
[]
[]
[]
[]
[]
[]
[]
[]
[]
[]
[]
[]
[]
[]
[]
[]
[]
[]
[]
[]
[]
[]
[]
[]
[]
[]
[]
[]
[]
[]
[]
[]
[]
[]
[]
[]
[]
[]
[]
[]
[]
[]
[]
[]
[]
[]
[]
[]
[]
[]
[]
[]
[]
[]
[]
[]
[]
[]
[]
[]
[]
[]
[]
[]
[]
[]
[]
[]
[]
[]
[]
[]
[]
[]
[]
[]
[]
[]
[]
[]
[]
[]
[]
[]
[]
[]
[]
[]
[]
[]
[]
[]
[]
[]
[]
[]
[]
[]
[]
[]
[]
[]
[]
[]
[]
[]
[]
[]
[]
[]
[]
[]
[]
[]
[]
[]
[]
[]
[]
[]
[]
[]
[]
[]
[]
[]
[]
[]
[]
[]
[]
[]
[]
[]
[]
[]
[]
[]
[]
[]
[]
[]
[]
[]
[]
[]
[]
[]
[]
[]
[]
[]
[]
[]
[]
[]
[]
[]
[]
[]
[]
[]
[]
[]
[]
[]
[]
[]
[]
[]
[]
[]
[]
[]
[]
[]
[]
[]
[]
[]
[]
[]
[]
[]
[]
[]
[]
[]
[]
[]
[]
[]
[]
[]
[]
[]
[]
[]
[]
[]
[]
[]
[]
[]
[]
[]
[]
[]
[]
[]
[]
[]
[]
[]
[]
[]
[]
[]
[]
[]
[]
[]
[]
[]
[]
[]
[]
[]
[]
[]
[]
[]
[]
[]
[]
[]
[]
[]
[]
[]
[]
[]
[]
[]
[]
[]
[]
[]
[]
[]
[]
[]
[]
[]
[]
[]
[]
[]
[]
[]
[]
[]
[]
[]
[]
[]
[]
[]
[]
[]
[]
[]
[]
[]
[]
[]
[]
[]
[]
[]
[]
[null,null,null,null,null,null,null,null,null,null,null,null,null,null,null,null,null,null,null,null,null,null,null,null,null,null,null,null,null,null,null,null,null,null,null,null,null,null,null,null,null,null,null,null,null,null,null,null,null,null,null,null,null,null,null,null,null,null,null,null,null,null,null,{"$f":"0.000556/$F$6","v":3.7066666666666666E-6}]
[]
[]
[]
[]
[]
[]
[]
[]
[]
[]
[]
[]
[]
[]
[]
[]
[]
[]
[]
[]
[]
[]
[]
[]
[]
[]
[]
[]
[]
[]
[]
[]
[]
[]
[]
[]
[]
[]
[]
[]
[]
[]
[]
[]
[]
[]
[]
[]
[]
[]
[]
[]
[]
[]
[]
[]
[]
[]
[]
[]
[]
[]
[]
[]
[]
[]
[]
[]
[]
[]
[]
[]
[]
[]
[]
[]
[null,null,null,null,null,null,null,null,null,null,null,null,null,null,null,null,null,null,null,null,null,null,null,null,null,null,null,null,null,null,null,null,null,null,null,null,null,null,null,null,null,null,null,null,null,null,null,null,null,null,null,null,null,null,null,null,null,null,-75,-15.000000007400001,{"$f":"BesselE('Исходные данные'!$F$42/100,BH1069)","v":1.4709318123033348E-3},{"$f":"BesselE(0.00000000001,BH1069)","v":7.4786962726148783E-4},{"$f":"TEXT(DEGREES(('Исходные данные'!BH1069/PI())*$BL$992)*1800,\"0,00\")&\"\"\"\"","v":"-0,02\""}]
[null,null,null,null,null,null,null,null,null,null,null,null,null,null,null,null,null,null,null,null,null,null,null,null,null,null,null,null,null,null,null,null,null,null,null,null,null,null,null,null,null,null,null,null,null,null,null,null,null,null,null,null,null,null,null,null,null,null,-74,-14.8000000073,{"$f":"BesselE('Исходные данные'!$F$42/100,BH1070)","v":1.4726175978450227E-3},7.7943258560122608E-4,{"$f":"TEXT(DEGREES(('Исходные данные'!BH1070/PI())*$BL$992)*1800,\"0,00\")&\"\"\"\"","v":"-0,02\""}]
[null,null,null,null,null,null,null,null,null,null,null,null,null,null,null,null,null,null,null,null,null,null,null,null,null,null,null,null,null,null,null,null,null,null,null,null,null,null,null,null,null,null,null,null,null,null,null,null,null,null,null,null,null,null,null,null,null,null,-73,-14.6000000072,{"$f":"BesselE('Исходные данные'!$F$42/100,BH1071)","v":1.3818536413939171E-3},7.49504267693669E-4,{"$f":"TEXT(DEGREES(('Исходные данные'!BH1071/PI())*$BL$992)*1800,\"0,00\")&\"\"\"\"","v":"-0,02\""}]
[null,null,null,null,null,null,null,null,null,null,null,null,null,null,null,null,null,null,null,null,null,null,null,null,null,null,null,null,null,null,null,null,null,null,null,null,null,null,null,null,null,null,null,null,null,null,null,null,null,null,null,null,null,null,null,null,null,null,-72,-14.400000007099999,{"$f":"BesselE('Исходные данные'!$F$42/100,BH1072)","v":1.2056358409592116E-3},6.6043047906926727E-4,{"$f":"TEXT(DEGREES(('Исходные данные'!BH1072/PI())*$BL$992)*1800,\"0,00\")&\"\"\"\"","v":"-0,02\""}]
[null,null,null,null,null,null,null,null,null,null,null,null,null,null,null,null,null,null,null,null,null,null,null,null,null,null,null,null,null,null,null,null,null,null,null,null,null,null,null,null,null,null,null,null,null,null,null,null,null,null,null,null,null,null,null,null,null,null,-71,-14.200000007,{"$f":"BesselE('Исходные данные'!$F$42/100,BH1073)","v":9.6357831999073365E-4},5.2454376455727202E-4,{"$f":"TEXT(DEGREES(('Исходные данные'!BH1073/PI())*$BL$992)*1800,\"0,00\")&\"\"\"\"","v":"-0,02\""}]
[null,null,null,null,null,null,null,null,null,null,null,null,null,null,null,null,null,null,null,null,null,null,null,null,null,null,null,null,null,null,null,null,null,null,null,null,null,null,null,null,null,null,null,null,null,null,null,null,null,null,null,null,null,null,null,null,null,null,-70,-14.000000006900001,{"$f":"BesselE('Исходные данные'!$F$42/100,BH1074)","v":6.8635457871356906E-4},3.6303943252519053E-4,{"$f":"TEXT(DEGREES(('Исходные данные'!BH1074/PI())*$BL$992)*1800,\"0,00\")&\"\"\"\"","v":"-0,02\""}]
[null,null,null,null,null,null,null,null,null,null,null,null,null,null,null,null,null,null,null,null,null,null,null,null,null,null,null,null,null,null,null,null,null,null,null,null,null,null,null,null,null,null,null,null,null,null,null,null,null,null,null,null,null,null,null,null,null,null,-69,-13.800000006799999,{"$f":"BesselE('Исходные данные'!$F$42/100,BH1075)","v":4.1235485369996486E-4},2.0333320789154671E-4,{"$f":"TEXT(DEGREES(('Исходные данные'!BH1075/PI())*$BL$992)*1800,\"0,00\")&\"\"\"\"","v":"-0,02\""}]
[null,null,null,null,null,null,null,null,null,null,null,null,null,null,null,null,null,null,null,null,null,null,null,null,null,null,null,null,null,null,null,null,null,null,null,null,null,null,null,null,null,null,null,null,null,null,null,null,null,null,null,null,null,null,null,null,null,null,-68,-13.6000000067,{"$f":"BesselE('Исходные данные'!$F$42/100,BH1076)","v":1.8289822039540128E-4},7.519072625958996E-5,{"$f":"TEXT(DEGREES(('Исходные данные'!BH1076/PI())*$BL$992)*1800,\"0,00\")&\"\"\"\"","v":"-0,02\""}]
[null,null,null,null,null,null,null,null,null,null,null,null,null,null,null,null,null,null,null,null,null,null,null,null,null,null,null,null,null,null,null,null,null,null,null,null,null,null,null,null,null,null,null,null,null,null,null,null,null,null,null,null,null,null,null,null,null,null,-67,-13.400000006599999,{"$f":"BesselE('Исходные данные'!$F$42/100,BH1077)","v":3.658605270794488E-5},6.1378371765349387E-6,{"$f":"TEXT(DEGREES(('Исходные данные'!BH1077/PI())*$BL$992)*1800,\"0,00\")&\"\"\"\"","v":"-0,02\""}]
[null,null,null,null,null,null,null,null,null,null,null,null,null,null,null,null,null,null,null,null,null,null,null,null,null,null,null,null,null,null,null,null,null,null,null,null,null,null,null,null,null,null,null,null,null,null,null,null,null,null,null,null,null,null,null,null,null,null,-66,-13.2000000065,{"$f":"BesselE('Исходные данные'!$F$42/100,BH1078)","v":3.5632921028091805E-6},1.6818326808597254E-5,{"$f":"TEXT(DEGREES(('Исходные данные'!BH1078/PI())*$BL$992)*1800,\"0,00\")&\"\"\"\"","v":"-0,02\""}]
[null,null,null,null,null,null,null,null,null,null,null,null,null,null,null,null,null,null,null,null,null,null,null,null,null,null,null,null,null,null,null,null,null,null,null,null,null,null,null,null,null,null,null,null,null,null,null,null,null,null,null,null,null,null,null,null,null,null,-65,-13.000000006400001,{"$f":"BesselE('Исходные данные'!$F$42/100,BH1079)","v":1.0053259561593481E-4},1.170326212088753E-4,{"$f":"TEXT(DEGREES(('Исходные данные'!BH1079/PI())*$BL$992)*1800,\"0,00\")&\"\"\"\"","v":"-0,02\""}]
[null,null,null,null,null,null,null,null,null,null,null,null,null,null,null,null,null,null,null,null,null,null,null,null,null,null,null,null,null,null,null,null,null,null,null,null,null,null,null,null,null,null,null,null,null,null,null,null,null,null,null,null,null,null,null,null,null,null,-64,-12.800000006299999,{"$f":"BesselE('Исходные данные'!$F$42/100,BH1080)","v":3.2732355303280935E-4},{"$f":"BesselE(0.00000000001,BH1080)","v":3.0314922111587074E-4},{"$f":"TEXT(DEGREES(('Исходные данные'!BH1080/PI())*$BL$992)*1800,\"0,00\")&\"\"\"\"","v":"-0,02\""}]
[null,null,null,null,null,null,null,null,null,null,null,null,null,null,null,null,null,null,null,null,null,null,null,null,null,null,null,null,null,null,null,null,null,null,null,null,null,null,null,null,null,null,null,null,null,null,null,null,null,null,null,null,null,null,null,null,null,null,-63,-12.6000000062,{"$f":"BesselE('Исходные данные'!$F$42/100,BH1081)","v":6.656512944216114E-4},5.5742716969330399E-4,{"$f":"TEXT(DEGREES(('Исходные данные'!BH1081/PI())*$BL$992)*1800,\"0,00\")&\"\"\"\"","v":"-0,02\""}]
[null,null,null,null,null,null,null,null,null,null,null,null,null,null,null,null,null,null,null,null,null,null,null,null,null,null,null,null,null,null,null,null,null,null,null,null,null,null,null,null,null,null,null,null,null,null,null,null,null,null,null,null,null,null,null,null,null,null,-62,-12.400000006100001,{"$f":"BesselE('Исходные данные'!$F$42/100,BH1082)","v":1.0804211065689082E-3},8.4953675761457244E-4,{"$f":"TEXT(DEGREES(('Исходные данные'!BH1082/PI())*$BL$992)*1800,\"0,00\")&\"\"\"\"","v":"-0,02\""}]
[null,null,null,null,null,null,null,null,null,null,null,null,null,null,null,null,null,null,null,null,null,null,null,null,null,null,null,null,null,null,null,null,null,null,null,null,null,null,null,null,null,null,null,null,null,null,null,null,null,null,null,null,null,null,null,null,null,null,-61,-12.200000006,{"$f":"BesselE('Исходные данные'!$F$42/100,BH1083)","v":1.523581162969448E-3},1.1402470557768359E-3,{"$f":"TEXT(DEGREES(('Исходные данные'!BH1083/PI())*$BL$992)*1800,\"0,00\")&\"\"\"\"","v":"-0,01\""}]
[null,null,null,null,null,null,null,null,null,null,null,null,null,null,null,null,null,null,null,null,null,null,null,null,null,null,null,null,null,null,null,null,null,null,null,null,null,null,null,null,null,null,null,null,null,null,null,null,null,null,null,null,null,null,null,null,null,null,-60,-12.0000000059,{"$f":"BesselE('Исходные данные'!$F$42/100,BH1084)","v":1.9401415122700775E-3},1.3869057855388123E-3,{"$f":"TEXT(DEGREES(('Исходные данные'!BH1084/PI())*$BL$992)*1800,\"0,00\")&\"\"\"\"","v":"-0,01\""}]
[null,null,null,null,null,null,null,null,null,null,null,null,null,null,null,null,null,null,null,null,null,null,null,null,null,null,null,null,null,null,null,null,null,null,null,null,null,null,null,null,null,null,null,null,null,null,null,null,null,null,null,null,null,null,null,null,null,null,-59,-11.800000005799999,{"$f":"BesselE('Исходные данные'!$F$42/100,BH1085)","v":2.2756198242402286E-3},1.5500200422290146E-3,{"$f":"TEXT(DEGREES(('Исходные данные'!BH1085/PI())*$BL$992)*1800,\"0,00\")&\"\"\"\"","v":"-0,01\""}]
[null,null,null,null,null,null,null,null,null,null,null,null,null,null,null,null,null,null,null,null,null,null,null,null,null,null,null,null,null,null,null,null,null,null,null,null,null,null,null,null,null,null,null,null,null,null,null,null,null,null,null,null,null,null,null,null,null,null,-58,-11.6000000057,{"$f":"BesselE('Исходные данные'!$F$42/100,BH1086)","v":2.4838995349013887E-3},1.6000065473614703E-3,{"$f":"TEXT(DEGREES(('Исходные данные'!BH1086/PI())*$BL$992)*1800,\"0,00\")&\"\"\"\"","v":"-0,01\""}]
[null,null,null,null,null,null,null,null,null,null,null,null,null,null,null,null,null,null,null,null,null,null,null,null,null,null,null,null,null,null,null,null,null,null,null,null,null,null,null,null,null,null,null,null,null,null,null,null,null,null,null,null,null,null,null,null,null,null,-57,-11.400000005600001,{"$f":"BesselE('Исходные данные'!$F$42/100,BH1087)","v":2.5343427437958489E-3},1.5230613588512174E-3,{"$f":"TEXT(DEGREES(('Исходные данные'!BH1087/PI())*$BL$992)*1800,\"0,00\")&\"\"\"\"","v":"-0,01\""}]
[null,null,null,null,null,null,null,null,null,null,null,null,null,null,null,null,null,null,null,null,null,null,null,null,null,null,null,null,null,null,null,null,null,null,null,null,null,null,null,null,null,null,null,null,null,null,null,null,null,null,null,null,null,null,null,null,null,null,-56,-11.2000000055,{"$f":"BesselE('Исходные данные'!$F$42/100,BH1088)","v":2.4170216299163644E-3},1.3251309096220269E-3,{"$f":"TEXT(DEGREES(('Исходные данные'!BH1088/PI())*$BL$992)*1800,\"0,00\")&\"\"\"\"","v":"-0,01\""}]
[null,null,null,null,null,null,null,null,null,null,null,null,null,null,null,null,null,null,null,null,null,null,null,null,null,null,null,null,null,null,null,null,null,null,null,null,null,null,null,null,null,null,null,null,null,null,null,null,null,null,null,null,null,null,null,null,null,null,-55,-11.0000000054,{"$f":"BesselE('Исходные данные'!$F$42/100,BH1089)","v":2.1451294662210418E-3},1.0331584206336925E-3,{"$f":"TEXT(DEGREES(('Исходные данные'!BH1089/PI())*$BL$992)*1800,\"0,00\")&\"\"\"\"","v":"-0,01\""}]
[null,null,null,null,null,null,null,null,null,null,null,null,null,null,null,null,null,null,null,null,null,null,null,null,null,null,null,null,null,null,null,null,null,null,null,null,null,null,null,null,null,null,null,null,null,null,null,null,null,null,null,null,null,null,null,null,null,null,-54,-10.800000005299999,{"$f":"BesselE('Исходные данные'!$F$42/100,BH1090)","v":1.7539912211772491E-3},6.931184306238474E-4,{"$f":"TEXT(DEGREES(('Исходные данные'!BH1090/PI())*$BL$992)*1800,\"0,00\")&\"\"\"\"","v":"-0,01\""}]
[null,null,null,null,null,null,null,null,null,null,null,null,null,null,null,null,null,null,null,null,null,null,null,null,null,null,null,null,null,null,null,null,null,null,null,null,null,null,null,null,null,null,null,null,null,null,null,null,null,null,null,null,null,null,null,null,null,null,-53,-10.6000000052,{"$f":"BesselE('Исходные данные'!$F$42/100,BH1091)","v":1.2965743306426931E-3},3.6480036918322623E-4,{"$f":"TEXT(DEGREES(('Исходные данные'!BH1091/PI())*$BL$992)*1800,\"0,00\")&\"\"\"\"","v":"-0,01\""}]
[null,null,null,null,null,null,null,null,null,null,null,null,null,null,null,null,null,null,null,null,null,null,null,null,null,null,null,null,null,null,null,null,null,null,null,null,null,null,null,null,null,null,null,null,null,null,null,null,null,null,null,null,null,null,null,null,null,null,-52,-10.400000005100001,{"$f":"BesselE('Исходные данные'!$F$42/100,BH1092)","v":8.3594065270014921E-4},1.1380279035713014E-4,{"$f":"TEXT(DEGREES(('Исходные данные'!BH1092/PI())*$BL$992)*1800,\"0,00\")&\"\"\"\"","v":"-0,01\""}]
[null,null,null,null,null,null,null,null,null,null,null,null,null,null,null,null,null,null,null,null,null,null,null,null,null,null,null,null,null,null,null,null,null,null,null,null,null,null,null,null,null,null,null,null,null,null,null,null,null,null,null,null,null,null,null,null,null,null,-51,-10.200000005,{"$f":"BesselE('Исходные данные'!$F$42/100,BH1093)","v":4.3560428621224853E-4},1.6827403799349374E-6,{"$f":"TEXT(DEGREES(('Исходные данные'!BH1093/PI())*$BL$992)*1800,\"0,00\")&\"\"\"\"","v":"-0,01\""}]
[null,null,null,null,null,null,null,null,null,null,null,null,null,null,null,null,null,null,null,null,null,null,null,null,null,null,null,null,null,null,null,null,null,null,null,null,null,null,null,null,null,null,null,null,null,null,null,null,null,null,null,null,null,null,null,null,null,null,-50,-10.0000000049,{"$f":"BesselE('Исходные данные'!$F$42/100,BH1094)","v":1.491854873607367E-4},7.5595181670361884E-5,{"$f":"TEXT(DEGREES(('Исходные данные'!BH1094/PI())*$BL$992)*1800,\"0,00\")&\"\"\"\"","v":"-0,01\""}]
[null,null,null,null,null,null,null,null,null,null,null,null,null,null,null,null,null,null,null,null,null,null,null,null,null,null,null,null,null,null,null,null,null,null,null,null,null,null,null,null,null,null,null,null,null,null,null,null,null,null,null,null,null,null,null,null,null,null,-49,-9.8000000047999993,{"$f":"BesselE('Исходные данные'!$F$42/100,BH1095)","v":1.1003805902140494E-5},3.5898718350718819E-4,{"$f":"TEXT(DEGREES(('Исходные данные'!BH1095/PI())*$BL$992)*1800,\"0,00\")&\"\"\"\"","v":"-0,01\""}]
[null,null,null,null,null,null,null,null,null,null,null,null,null,null,null,null,null,null,null,null,null,null,null,null,null,null,null,null,null,null,null,null,null,null,null,null,null,null,null,null,null,null,null,null,null,null,null,null,null,null,null,null,null,null,null,null,null,null,-48,-9.6000000047,{"$f":"BesselE('Исходные данные'!$F$42/100,BH1096)","v":2.9277635236312531E-5},8.449293730872292E-4,{"$f":"TEXT(DEGREES(('Исходные данные'!BH1096/PI())*$BL$992)*1800,\"0,00\")&\"\"\"\"","v":"-0,01\""}]
[null,null,null,null,null,null,null,null,null,null,null,null,null,null,null,null,null,null,null,null,null,null,null,null,null,null,null,null,null,null,null,null,null,null,null,null,null,null,null,null,null,null,null,null,null,null,null,null,null,null,null,null,null,null,null,null,null,null,-47,-9.4000000046000007,{"$f":"BesselE('Исходные данные'!$F$42/100,BH1097)","v":1.833648590325114E-4},1.493447584816947E-3,{"$f":"TEXT(DEGREES(('Исходные данные'!BH1097/PI())*$BL$992)*1800,\"0,00\")&\"\"\"\"","v":"-0,01\""}]
[null,null,null,null,null,null,null,null,null,null,null,null,null,null,null,null,null,null,null,null,null,null,null,null,null,null,null,null,null,null,null,null,null,null,null,null,null,null,null,null,null,null,null,null,null,null,null,null,null,null,null,null,null,null,null,null,null,null,-46,-9.2000000044999997,{"$f":"BesselE('Исходные данные'!$F$42/100,BH1098)","v":4.2599758503908815E-4},2.233767621543232E-3,{"$f":"TEXT(DEGREES(('Исходные данные'!BH1098/PI())*$BL$992)*1800,\"0,00\")&\"\"\"\"","v":"-0,01\""}]
[null,null,null,null,null,null,null,null,null,null,null,null,null,null,null,null,null,null,null,null,null,null,null,null,null,null,null,null,null,null,null,null,null,null,null,null,null,null,null,null,null,null,null,null,null,null,null,null,null,null,null,null,null,null,null,null,null,null,-45,-9.0000000044000004,{"$f":"BesselE('Исходные данные'!$F$42/100,BH1099)","v":6.9077802229725461E-4},2.9717467806304734E-3,{"$f":"TEXT(DEGREES(('Исходные данные'!BH1099/PI())*$BL$992)*1800,\"0,00\")&\"\"\"\"","v":"-0,01\""}]
[null,null,null,null,null,null,null,null,null,null,null,null,null,null,null,null,null,null,null,null,null,null,null,null,null,null,null,null,null,null,null,null,null,null,null,null,null,null,null,null,null,null,null,null,null,null,null,null,null,null,null,null,null,null,null,null,null,null,-44,-8.8000000042999993,{"$f":"BesselE('Исходные данные'!$F$42/100,BH1100)","v":9.0439207550213673E-4},3.6020103573196818E-3,{"$f":"TEXT(DEGREES(('Исходные данные'!BH1100/PI())*$BL$992)*1800,\"0,00\")&\"\"\"\"","v":"-0,01\""}]
[null,null,null,null,null,null,null,null,null,null,null,null,null,null,null,null,null,null,null,null,null,null,null,null,null,null,null,null,null,null,null,null,null,null,null,null,null,null,null,null,null,null,null,null,null,null,null,null,null,null,null,null,null,null,null,null,null,null,-43,-8.6000000042,{"$f":"BesselE('Исходные данные'!$F$42/100,BH1101)","v":1.0021686724908062E-3},4.0235373242361134E-3,{"$f":"TEXT(DEGREES(('Исходные данные'!BH1101/PI())*$BL$992)*1800,\"0,00\")&\"\"\"\"","v":"-0,01\""}]
[null,null,null,null,null,null,null,null,null,null,null,null,null,null,null,null,null,null,null,null,null,null,null,null,null,null,null,null,null,null,null,null,null,null,null,null,null,null,null,null,null,null,null,null,null,null,null,null,null,null,null,null,null,null,null,null,null,null,-42,-8.4000000041000007,{"$f":"BesselE('Исходные данные'!$F$42/100,BH1102)","v":9.4488695159531267E-4},4.1567575467275639E-3,{"$f":"TEXT(DEGREES(('Исходные данные'!BH1102/PI())*$BL$992)*1800,\"0,00\")&\"\"\"\"","v":"-0,01\""}]
[null,null,null,null,null,null,null,null,null,null,null,null,null,null,null,null,null,null,null,null,null,null,null,null,null,null,null,null,null,null,null,null,null,null,null,null,null,null,null,null,null,null,null,null,null,null,null,null,null,null,null,null,null,null,null,null,null,null,-41,-8.2000000039999996,{"$f":"BesselE('Исходные данные'!$F$42/100,BH1103)","v":7.3422954139485341E-4},3.9597428047609311E-3,{"$f":"TEXT(DEGREES(('Исходные данные'!BH1103/PI())*$BL$992)*1800,\"0,00\")&\"\"\"\"","v":"-0,01\""}]
[null,null,null,null,null,null,null,null,null,null,null,null,null,null,null,null,null,null,null,null,null,null,null,null,null,null,null,null,null,null,null,null,null,null,null,null,null,null,null,null,null,null,null,null,null,null,null,null,null,null,null,null,null,null,null,null,null,null,-40,-8.0000000039000003,{"$f":"BesselE('Исходные данные'!$F$42/100,BH1104)","v":4.2409920420538296E-4},3.4408884696806126E-3,{"$f":"TEXT(DEGREES(('Исходные данные'!BH1104/PI())*$BL$992)*1800,\"0,00\")&\"\"\"\"","v":"-0,01\""}]
[null,null,null,null,null,null,null,null,null,null,null,null,null,null,null,null,null,null,null,null,null,null,null,null,null,null,null,null,null,null,null,null,null,null,null,null,null,null,null,null,null,null,null,null,null,null,null,null,null,null,null,null,null,null,null,null,null,null,-39,-7.8000000038000001,{"$f":"BesselE('Исходные данные'!$F$42/100,BH1105)","v":1.252246081452969E-4},{"$f":"BesselE(0.00000000001,BH1105)","v":2.6656535474451249E-3},{"$f":"TEXT(DEGREES(('Исходные данные'!BH1105/PI())*$BL$992)*1800,\"0,00\")&\"\"\"\"","v":"-0,01\""}]
[null,null,null,null,null,null,null,null,null,null,null,null,null,null,null,null,null,null,null,null,null,null,null,null,null,null,null,null,null,null,null,null,null,null,null,null,null,null,null,null,null,null,null,null,null,null,null,null,null,null,null,null,null,null,null,null,null,null,-38,-7.6000000037,{"$f":"BesselE('Исходные данные'!$F$42/100,BH1106)","v":1.0982487428399214E-6},1.7554725965387671E-3,{"$f":"TEXT(DEGREES(('Исходные данные'!BH1106/PI())*$BL$992)*1800,\"0,00\")&\"\"\"\"","v":"-0,01\""}]
[null,null,null,null,null,null,null,null,null,null,null,null,null,null,null,null,null,null,null,null,null,null,null,null,null,null,null,null,null,null,null,null,null,null,null,null,null,null,null,null,null,null,null,null,null,null,null,null,null,null,null,null,null,null,null,null,null,null,-37,-7.4000000035999998,{"$f":"BesselE('Исходные данные'!$F$42/100,BH1107)","v":2.5428004991330278E-4},8.7784233880544387E-4,{"$f":"TEXT(DEGREES(('Исходные данные'!BH1107/PI())*$BL$992)*1800,\"0,00\")&\"\"\"\"","v":"-0,01\""}]
[null,null,null,null,null,null,null,null,null,null,null,null,null,null,null,null,null,null,null,null,null,null,null,null,null,null,null,null,null,null,null,null,null,null,null,null,null,null,null,null,null,null,null,null,null,null,null,null,null,null,null,null,null,null,null,null,null,null,-36,-7.2000000034999996,{"$f":"BesselE('Исходные данные'!$F$42/100,BH1108)","v":1.1033729051984076E-3},2.2773678198199782E-4,{"$f":"TEXT(DEGREES(('Исходные данные'!BH1108/PI())*$BL$992)*1800,\"0,00\")&\"\"\"\"","v":"-0,01\""}]
[null,null,null,null,null,null,null,null,null,null,null,null,null,null,null,null,null,null,null,null,null,null,null,null,null,null,null,null,null,null,null,null,null,null,null,null,null,null,null,null,null,null,null,null,null,null,null,null,null,null,null,null,null,null,null,null,null,null,-35,-7.0000000034000003,{"$f":"BesselE('Исходные данные'!$F$42/100,BH1109)","v":2.7523911049814795E-3},1.7901082587014743E-6,{"$f":"TEXT(DEGREES(('Исходные данные'!BH1109/PI())*$BL$992)*1800,\"0,00\")&\"\"\"\"","v":"-0,01\""}]
[null,null,null,null,null,null,null,null,null,null,null,null,null,null,null,null,null,null,null,null,null,null,null,null,null,null,null,null,null,null,null,null,null,null,null,null,null,null,null,null,null,null,null,null,null,null,null,null,null,null,null,null,null,null,null,null,null,null,-34,-6.8000000033000001,{"$f":"BesselE('Исходные данные'!$F$42/100,BH1110)","v":5.3556238925544205E-3},3.6794757106308607E-4,{"$f":"TEXT(DEGREES(('Исходные данные'!BH1110/PI())*$BL$992)*1800,\"0,00\")&\"\"\"\"","v":"-0,01\""}]
[null,null,null,null,null,null,null,null,null,null,null,null,null,null,null,null,null,null,null,null,null,null,null,null,null,null,null,null,null,null,null,null,null,null,null,null,null,null,null,null,null,null,null,null,null,null,null,null,null,null,null,null,null,null,null,null,null,null,-33,-6.6000000031999999,{"$f":"BesselE('Исходные данные'!$F$42/100,BH1111)","v":8.9822531544359301E-3},1.4343472391254535E-3,{"$f":"TEXT(DEGREES(('Исходные данные'!BH1111/PI())*$BL$992)*1800,\"0,00\")&\"\"\"\"","v":"-0,01\""}]
[null,null,null,null,null,null,null,null,null,null,null,null,null,null,null,null,null,null,null,null,null,null,null,null,null,null,null,null,null,null,null,null,null,null,null,null,null,null,null,null,null,null,null,null,null,null,null,null,null,null,null,null,null,null,null,null,null,null,-32,-6.4000000030999997,{"$f":"BesselE('Исходные данные'!$F$42/100,BH1112)","v":1.3585733417337171E-2},3.2218930025970363E-3,{"$f":"TEXT(DEGREES(('Исходные данные'!BH1112/PI())*$BL$992)*1800,\"0,00\")&\"\"\"\"","v":"-0,01\""}]
[null,null,null,null,null,null,null,null,null,null,null,null,null,null,null,null,null,null,null,null,null,null,null,null,null,null,null,null,null,null,null,null,null,null,null,null,null,null,null,null,null,null,null,null,null,null,null,null,null,null,null,null,null,null,null,null,null,null,-31,-6.2000000030000004,{"$f":"BesselE('Исходные данные'!$F$42/100,BH1113)","v":1.8983133448777664E-2},5.6451744880587724E-3,{"$f":"TEXT(DEGREES(('Исходные данные'!BH1113/PI())*$BL$992)*1800,\"0,00\")&\"\"\"\"","v":"-0,01\""}]
[null,null,null,null,null,null,null,null,null,null,null,null,null,null,null,null,null,null,null,null,null,null,null,null,null,null,null,null,null,null,null,null,null,null,null,null,null,null,null,null,null,null,null,null,null,null,null,null,null,null,null,null,null,null,null,null,null,null,-30,-6.0000000029000002,{"$f":"BesselE('Исходные данные'!$F$42/100,BH1114)","v":2.4849176760192739E-2},8.5059952176236246E-3,{"$f":"TEXT(DEGREES(('Исходные данные'!BH1114/PI())*$BL$992)*1800,\"0,00\")&\"\"\"\"","v":"-0,01\""}]
[null,null,null,null,null,null,null,null,null,null,null,null,null,null,null,null,null,null,null,null,null,null,null,null,null,null,null,null,null,null,null,null,null,null,null,null,null,null,null,null,null,null,null,null,null,null,null,null,null,null,null,null,null,null,null,null,null,null,-29,-5.8000000028000001,{"$f":"BesselE('Исходные данные'!$F$42/100,BH1115)","v":3.0728581090848365E-2},1.1502765443553194E-2,{"$f":"TEXT(DEGREES(('Исходные данные'!BH1115/PI())*$BL$992)*1800,\"0,00\")&\"\"\"\"","v":"-0,01\""}]
[null,null,null,null,null,null,null,null,null,null,null,null,null,null,null,null,null,null,null,null,null,null,null,null,null,null,null,null,null,null,null,null,null,null,null,null,null,null,null,null,null,null,null,null,null,null,null,null,null,null,null,null,null,null,null,null,null,null,-28,-5.6000000026999999,{"$f":"BesselE('Исходные данные'!$F$42/100,BH1116)","v":3.6068545287067579E-2},1.4257454739558051E-2,{"$f":"TEXT(DEGREES(('Исходные данные'!BH1116/PI())*$BL$992)*1800,\"0,00\")&\"\"\"\"","v":"-0,01\""}]
[null,null,null,null,null,null,null,null,null,null,null,null,null,null,null,null,null,null,null,null,null,null,null,null,null,null,null,null,null,null,null,null,null,null,null,null,null,null,null,null,null,null,null,null,null,null,null,null,null,null,null,null,null,null,null,null,null,null,-27,-5.4000000025999997,{"$f":"BesselE('Исходные данные'!$F$42/100,BH1117)","v":4.0271009848641591E-2},1.6359811298068454E-2,{"$f":"TEXT(DEGREES(('Исходные данные'!BH1117/PI())*$BL$992)*1800,\"0,00\")&\"\"\"\"","v":"-0,01\""}]
[null,null,null,null,null,null,null,null,null,null,null,null,null,null,null,null,null,null,null,null,null,null,null,null,null,null,null,null,null,null,null,null,null,null,null,null,null,null,null,null,null,null,null,null,null,null,null,null,null,null,null,null,null,null,null,null,null,null,-26,-5.2000000025000004,{"$f":"BesselE('Исходные данные'!$F$42/100,BH1118)","v":4.276184188143356E-2},1.7426336053623485E-2,{"$f":"TEXT(DEGREES(('Исходные данные'!BH1118/PI())*$BL$992)*1800,\"0,00\")&\"\"\"\"","v":"-0,01\""}]
[null,null,null,null,null,null,null,null,null,null,null,null,null,null,null,null,null,null,null,null,null,null,null,null,null,null,null,null,null,null,null,null,null,null,null,null,null,null,null,null,null,null,null,null,null,null,null,null,null,null,null,null,null,null,null,null,null,null,-25,-5.0000000024000002,{"$f":"BesselE('Исходные данные'!$F$42/100,BH1119)","v":4.3071636527810639E-2},1.7169294633342921E-2,{"$f":"TEXT(DEGREES(('Исходные данные'!BH1119/PI())*$BL$992)*1800,\"0,00\")&\"\"\"\"","v":"-0,01\""}]
[null,null,null,null,null,null,null,null,null,null,null,null,null,null,null,null,null,null,null,null,null,null,null,null,null,null,null,null,null,null,null,null,null,null,null,null,null,null,null,null,null,null,null,null,null,null,null,null,null,null,null,null,null,null,null,null,null,null,-24,-4.8000000023,{"$f":"BesselE('Исходные данные'!$F$42/100,BH1120)","v":4.0920680457543337E-2},1.5469125945279629E-2,{"$f":"TEXT(DEGREES(('Исходные данные'!BH1120/PI())*$BL$992)*1800,\"0,00\")&\"\"\"\"","v":"-0,01\""}]
[null,null,null,null,null,null,null,null,null,null,null,null,null,null,null,null,null,null,null,null,null,null,null,null,null,null,null,null,null,null,null,null,null,null,null,null,null,null,null,null,null,null,null,null,null,null,null,null,null,null,null,null,null,null,null,null,null,null,-23,-4.6000000021999998,{"$f":"BesselE('Исходные данные'!$F$42/100,BH1121)","v":3.6299075668434155E-2},1.2442222668813048E-2,{"$f":"TEXT(DEGREES(('Исходные данные'!BH1121/PI())*$BL$992)*1800,\"0,00\")&\"\"\"\"","v":"-0,01\""}]
[null,null,null,null,null,null,null,null,null,null,null,null,null,null,null,null,null,null,null,null,null,null,null,null,null,null,null,null,null,null,null,null,null,null,null,null,null,null,null,null,null,null,null,null,null,null,null,null,null,null,null,null,null,null,null,null,null,null,-22,-4.4000000020999996,{"$f":"BesselE('Исходные данные'!$F$42/100,BH1122)","v":2.9532317343039627E-2},8.4954364678038134E-3,{"$f":"TEXT(DEGREES(('Исходные данные'!BH1122/PI())*$BL$992)*1800,\"0,00\")&\"\"\"\"","v":"-0,01\""}]
[null,null,null,null,null,null,null,null,null,null,null,null,null,null,null,null,null,null,null,null,null,null,null,null,null,null,null,null,null,null,null,null,null,null,null,null,null,null,null,null,null,null,null,null,null,null,null,null,null,null,null,null,null,null,null,null,null,null,-21,-4.2000000020000003,{"$f":"BesselE('Исходные данные'!$F$42/100,BH1123)","v":2.1322925801526955E-2},4.358951186649326E-3,{"$f":"TEXT(DEGREES(('Исходные данные'!BH1123/PI())*$BL$992)*1800,\"0,00\")&\"\"\"\"","v":"-0,01\""}]
[null,null,null,null,null,null,null,null,null,null,null,null,null,null,null,null,null,null,null,null,null,null,null,null,null,null,null,null,null,null,null,null,null,null,null,null,null,null,null,null,null,null,null,null,null,null,null,null,null,null,null,null,null,null,null,null,null,null,-20,-4.0000000019000002,{"$f":"BesselE('Исходные данные'!$F$42/100,BH1124)","v":1.2760116168174582E-2},1.0904303169525047E-3,{"$f":"TEXT(DEGREES(('Исходные данные'!BH1124/PI())*$BL$992)*1800,\"0,00\")&\"\"\"\"","v":"0,00\""}]
[null,null,null,null,null,null,null,null,null,null,null,null,null,null,null,null,null,null,null,null,null,null,null,null,null,null,null,null,null,null,null,null,null,null,null,null,null,null,null,null,null,null,null,null,null,null,null,null,null,null,null,null,null,null,null,null,null,null,-19,-3.8000000018,{"$f":"BesselE('Исходные данные'!$F$42/100,BH1125)","v":5.2918996169702501E-3},4.5534098935035343E-5,{"$f":"TEXT(DEGREES(('Исходные данные'!BH1125/PI())*$BL$992)*1800,\"0,00\")&\"\"\"\"","v":"0,00\""}]
[null,null,null,null,null,null,null,null,null,null,null,null,null,null,null,null,null,null,null,null,null,null,null,null,null,null,null,null,null,null,null,null,null,null,null,null,null,null,null,null,null,null,null,null,null,null,null,null,null,null,null,null,null,null,null,null,null,null,-18,-3.6000000016999998,{"$f":"BesselE('Исходные данные'!$F$42/100,BH1126)","v":6.5727628495322707E-4},2.8128612819736448E-3,{"$f":"TEXT(DEGREES(('Исходные данные'!BH1126/PI())*$BL$992)*1800,\"0,00\")&\"\"\"\"","v":"0,00\""}]
[null,null,null,null,null,null,null,null,null,null,null,null,null,null,null,null,null,null,null,null,null,null,null,null,null,null,null,null,null,null,null,null,null,null,null,null,null,null,null,null,null,null,null,null,null,null,null,null,null,null,null,null,null,null,null,null,null,null,-17,-3.4000000016,{"$f":"BesselE('Исходные данные'!$F$42/100,BH1127)","v":7.8002213705569568E-4},1.1114846242755775E-2,{"$f":"TEXT(DEGREES(('Исходные данные'!BH1127/PI())*$BL$992)*1800,\"0,00\")&\"\"\"\"","v":"0,00\""}]
[null,null,null,null,null,null,null,null,null,null,null,null,null,null,null,null,null,null,null,null,null,null,null,null,null,null,null,null,null,null,null,null,null,null,null,null,null,null,null,null,null,null,null,null,null,null,null,null,null,null,null,null,null,null,null,null,null,null,-16,-3.2000000014999999,{"$f":"BesselE('Исходные данные'!$F$42/100,BH1128)","v":7.6296249867873738E-3},2.667980207189374E-2,{"$f":"TEXT(DEGREES(('Исходные данные'!BH1128/PI())*$BL$992)*1800,\"0,00\")&\"\"\"\"","v":"0,00\""}]
[null,null,null,null,null,null,null,null,null,null,null,null,null,null,null,null,null,null,null,null,null,null,null,null,null,null,null,null,null,null,null,null,null,null,null,null,null,null,null,null,null,null,null,null,null,null,null,null,null,null,null,null,null,null,null,null,null,null,-15,-3.0000000014000001,{"$f":"BesselE('Исходные данные'!$F$42/100,BH1129)","v":2.3058773326774092E-2},5.1093767508983916E-2,{"$f":"TEXT(DEGREES(('Исходные данные'!BH1129/PI())*$BL$992)*1800,\"0,00\")&\"\"\"\"","v":"0,00\""}]
[null,null,null,null,null,null,null,null,null,null,null,null,null,null,null,null,null,null,null,null,null,null,null,null,null,null,null,null,null,null,null,null,null,null,null,null,null,null,null,null,null,null,null,null,null,null,null,null,null,null,null,null,null,null,null,null,null,null,-14,-2.8000000012999999,{"$f":"BesselE('Исходные данные'!$F$42/100,BH1130)","v":4.8630023488078516E-2},8.5643707371131417E-2,{"$f":"TEXT(DEGREES(('Исходные данные'!BH1130/PI())*$BL$992)*1800,\"0,00\")&\"\"\"\"","v":"0,00\""}]
[null,null,null,null,null,null,null,null,null,null,null,null,null,null,null,null,null,null,null,null,null,null,null,null,null,null,null,null,null,null,null,null,null,null,null,null,null,null,null,null,null,null,null,null,null,null,null,null,null,null,null,null,null,null,null,null,null,null,-13,-2.6000000012000002,{"$f":"BesselE('Исходные данные'!$F$42/100,BH1131)","v":8.5446483106489543E-2},0.1311655855431921,{"$f":"TEXT(DEGREES(('Исходные данные'!BH1131/PI())*$BL$992)*1800,\"0,00\")&\"\"\"\"","v":"0,00\""}]
[null,null,null,null,null,null,null,null,null,null,null,null,null,null,null,null,null,null,null,null,null,null,null,null,null,null,null,null,null,null,null,null,null,null,null,null,null,null,null,null,null,null,null,null,null,null,null,null,null,null,null,null,null,null,null,null,null,null,-12,-2.4000000011,{"$f":"BesselE('Исходные данные'!$F$42/100,BH1132)","v":0.13400225264869725},0.18791160606964635,{"$f":"TEXT(DEGREES(('Исходные данные'!BH1132/PI())*$BL$992)*1800,\"0,00\")&\"\"\"\"","v":"0,00\""}]
[null,null,null,null,null,null,null,null,null,null,null,null,null,null,null,null,null,null,null,null,null,null,null,null,null,null,null,null,null,null,null,null,null,null,null,null,null,null,null,null,null,null,null,null,null,null,null,null,null,null,null,null,null,null,null,null,null,null,-11,-2.2000000009999998,{"$f":"BesselE('Исходные данные'!$F$42/100,BH1133)","v":0.19406778325943821},0.25545034076433004,{"$f":"TEXT(DEGREES(('Исходные данные'!BH1133/PI())*$BL$992)*1800,\"0,00\")&\"\"\"\"","v":"0,00\""}]
[null,null,null,null,null,null,null,null,null,null,null,null,null,null,null,null,null,null,null,null,null,null,null,null,null,null,null,null,null,null,null,null,null,null,null,null,null,null,null,null,null,null,null,null,null,null,null,null,null,null,null,null,null,null,null,null,null,null,-10,-2.0000000009000001,{"$f":"BesselE('Исходные данные'!$F$42/100,BH1134)","v":0.26462320608421824},0.33261150351592444,{"$f":"TEXT(DEGREES(('Исходные данные'!BH1134/PI())*$BL$992)*1800,\"0,00\")&\"\"\"\"","v":"0,00\""}]
[null,null,null,null,null,null,null,null,null,null,null,null,null,null,null,null,null,null,null,null,null,null,null,null,null,null,null,null,null,null,null,null,null,null,null,null,null,null,null,null,null,null,null,null,null,null,null,null,null,null,null,null,null,null,null,null,null,null,-9,-1.8000000008000001,{"$f":"BesselE('Исходные данные'!$F$42/100,BH1135)","v":0.34384918994378916},0.41748390724180601,{"$f":"TEXT(DEGREES(('Исходные данные'!BH1135/PI())*$BL$992)*1800,\"0,00\")&\"\"\"\"","v":"0,00\""}]
[null,null,null,null,null,null,null,null,null,null,null,null,null,null,null,null,null,null,null,null,null,null,null,null,null,null,null,null,null,null,null,null,null,null,null,null,null,null,null,null,null,null,null,null,null,null,null,null,null,null,null,null,null,null,null,null,null,null,-8,-1.6000000006999999,{"$f":"BesselE('Исходные данные'!$F$42/100,BH1136)","v":0.42918026582692703},0.50747090128556804,{"$f":"TEXT(DEGREES(('Исходные данные'!BH1136/PI())*$BL$992)*1800,\"0,00\")&\"\"\"\"","v":"0,00\""}]
[null,null,null,null,null,null,null,null,null,null,null,null,null,null,null,null,null,null,null,null,null,null,null,null,null,null,null,null,null,null,null,null,null,null,null,null,null,null,null,null,null,null,null,null,null,null,null,null,null,null,null,null,null,null,null,null,null,null,-7,-1.4000000006,{"$f":"BesselE('Исходные данные'!$F$42/100,BH1137)","v":0.5174202209035822},0.59940270306128374,{"$f":"TEXT(DEGREES(('Исходные данные'!BH1137/PI())*$BL$992)*1800,\"0,00\")&\"\"\"\"","v":"0,00\""}]
[null,null,null,null,null,null,null,null,null,null,null,null,null,null,null,null,null,null,null,null,null,null,null,null,null,null,null,null,null,null,null,null,null,null,null,null,null,null,null,null,null,null,null,null,null,null,null,null,null,null,null,null,null,null,null,null,null,null,-6,-1.2000000005,{"$f":"BesselE('Исходные данные'!$F$42/100,BH1138)","v":0.60491360459688237},0.68969995781061832,{"$f":"TEXT(DEGREES(('Исходные данные'!BH1138/PI())*$BL$992)*1800,\"0,00\")&\"\"\"\"","v":"0,00\""}]
[null,null,null,null,null,null,null,null,null,null,null,null,null,null,null,null,null,null,null,null,null,null,null,null,null,null,null,null,null,null,null,null,null,null,null,null,null,null,null,null,null,null,null,null,null,null,null,null,null,null,null,null,null,null,null,null,null,null,-5,-1.0000000004,{"$f":"BesselE('Исходные данные'!$F$42/100,BH1139)","v":0.68776213927205099},0.77457807189603611,{"$f":"TEXT(DEGREES(('Исходные данные'!BH1139/PI())*$BL$992)*1800,\"0,00\")&\"\"\"\"","v":"0,00\""}]
[null,null,null,null,null,null,null,null,null,null,null,null,null,null,null,null,null,null,null,null,null,null,null,null,null,null,null,null,null,null,null,null,null,null,null,null,null,null,null,null,null,null,null,null,null,null,null,null,null,null,null,null,null,null,null,null,null,null,-4,-0.80000000029999996,{"$f":"BesselE('Исходные данные'!$F$42/100,BH1140)","v":0.76207040999961084},0.85027784343847135,{"$f":"TEXT(DEGREES(('Исходные данные'!BH1140/PI())*$BL$992)*1800,\"0,00\")&\"\"\"\"","v":"0,00\""}]
[null,null,null,null,null,null,null,null,null,null,null,null,null,null,null,null,null,null,null,null,null,null,null,null,null,null,null,null,null,null,null,null,null,null,null,null,null,null,null,null,null,null,null,null,null,null,null,null,null,null,null,null,null,null,null,null,null,null,-3,-0.60000000019999999,{"$f":"BesselE('Исходные данные'!$F$42/100,BH1141)","v":0.82420207580136995},0.9133050727979809,{"$f":"TEXT(DEGREES(('Исходные данные'!BH1141/PI())*$BL$992)*1800,\"0,00\")&\"\"\"\"","v":"0,00\""}]
[null,null,null,null,null,null,null,null,null,null,null,null,null,null,null,null,null,null,null,null,null,null,null,null,null,null,null,null,null,null,null,null,null,null,null,null,null,null,null,null,null,null,null,null,null,null,null,null,null,null,null,null,null,null,null,null,null,null,-2,-0.40000000009999997,{"$f":"BesselE('Исходные данные'!$F$42/100,BH1142)","v":0.87102633665127915},0.96066048160247697,{"$f":"TEXT(DEGREES(('Исходные данные'!BH1142/PI())*$BL$992)*1800,\"0,00\")&\"\"\"\"","v":"0,00\""}]
[null,null,null,null,null,null,null,null,null,null,null,null,null,null,null,null,null,null,null,null,null,null,null,null,null,null,null,null,null,null,null,null,null,null,null,null,null,null,null,null,null,null,null,null,null,null,null,null,null,null,null,null,null,null,null,null,null,null,-1,-0.2,{"$f":"BesselE('Исходные данные'!$F$42/100,BH1143)","v":0.90013469033967797},0.99004156959012835,{"$f":"TEXT(DEGREES(('Исходные данные'!BH1143/PI())*$BL$992)*1800,\"0,00\")&\"\"\"\"","v":"0,00\""}]
[null,null,null,null,null,null,null,null,null,null,null,null,null,null,null,null,null,null,null,null,null,null,null,null,null,null,null,null,null,null,null,null,null,null,null,null,null,null,null,null,null,null,null,null,null,null,null,null,null,null,null,null,null,null,null,null,null,null,0,1E-10,{"$f":"BesselE('Исходные данные'!$F$42/100,BH1144)","v":0.91001012947304483},{"$f":"BesselE(0.00000000001,BH1144)","v":1.0000000000000036},{"$f":"TEXT(DEGREES(('Исходные данные'!BH1144/PI())*$BL$992)*1800,\"0,00\")&\"\"\"\"","v":"0,00\""}]
[null,null,null,null,null,null,null,null,null,null,null,null,null,null,null,null,null,null,null,null,null,null,null,null,null,null,null,null,null,null,null,null,null,null,null,null,null,null,null,null,null,null,null,null,null,null,null,null,null,null,null,null,null,null,null,null,null,null,1,0.2,{"$f":"BesselE('Исходные данные'!$F$42/100,BH1145)","v":0.90013469033967797},{"$f":"BesselE(0.00000000001,BH1145)","v":0.99004156959012835},{"$f":"TEXT(DEGREES(('Исходные данные'!BH1145/PI())*$BL$992)*1800,\"0,00\")&\"\"\"\"","v":"0,00\""}]
[null,null,null,null,null,null,null,null,null,null,null,null,null,null,null,null,null,null,null,null,null,null,null,null,null,null,null,null,null,null,null,null,null,null,null,null,null,null,null,null,null,null,null,null,null,null,null,null,null,null,null,null,null,null,null,null,null,null,2,0.39999999990000001,{"$f":"BesselE('Исходные данные'!$F$42/100,BH1146)","v":0.87102633668957752},0.96066048164116258,{"$f":"TEXT(DEGREES(('Исходные данные'!BH1146/PI())*$BL$992)*1800,\"0,00\")&\"\"\"\"","v":"0,00\""}]
[null,null,null,null,null,null,null,null,null,null,null,null,null,null,null,null,null,null,null,null,null,null,null,null,null,null,null,null,null,null,null,null,null,null,null,null,null,null,null,null,null,null,null,null,null,null,null,null,null,null,null,null,null,null,null,null,null,null,3,0.59999999979999996,{"$f":"BesselE('Исходные данные'!$F$42/100,BH1147)","v":0.82420207591126204},0.91330507290925955,{"$f":"TEXT(DEGREES(('Исходные данные'!BH1147/PI())*$BL$992)*1800,\"0,00\")&\"\"\"\"","v":"0,00\""}]
[null,null,null,null,null,null,null,null,null,null,null,null,null,null,null,null,null,null,null,null,null,null,null,null,null,null,null,null,null,null,null,null,null,null,null,null,null,null,null,null,null,null,null,null,null,null,null,null,null,null,null,null,null,null,null,null,null,null,4,0.79999999970000002,{"$f":"BesselE('Исходные данные'!$F$42/100,BH1148)","v":0.76207041020598609},0.85027784364820702,{"$f":"TEXT(DEGREES(('Исходные данные'!BH1148/PI())*$BL$992)*1800,\"0,00\")&\"\"\"\"","v":"0,00\""}]
[null,null,null,null,null,null,null,null,null,null,null,null,null,null,null,null,null,null,null,null,null,null,null,null,null,null,null,null,null,null,null,null,null,null,null,null,null,null,null,null,null,null,null,null,null,null,null,null,null,null,null,null,null,null,null,null,null,null,5,0.99999999959999997,{"$f":"BesselE('Исходные данные'!$F$42/100,BH1149)","v":0.68776213958890897},0.77457807221964137,{"$f":"TEXT(DEGREES(('Исходные данные'!BH1149/PI())*$BL$992)*1800,\"0,00\")&\"\"\"\"","v":"0,00\""}]
[null,null,null,null,null,null,null,null,null,null,null,null,null,null,null,null,null,null,null,null,null,null,null,null,null,null,null,null,null,null,null,null,null,null,null,null,null,null,null,null,null,null,null,null,null,null,null,null,null,null,null,null,null,null,null,null,null,null,6,1.1999999994999999,{"$f":"BesselE('Исходные данные'!$F$42/100,BH1150)","v":0.6049136050260272},0.68969995825174002,{"$f":"TEXT(DEGREES(('Исходные данные'!BH1150/PI())*$BL$992)*1800,\"0,00\")&\"\"\"\"","v":"0,00\""}]
[null,null,null,null,null,null,null,null,null,null,null,null,null,null,null,null,null,null,null,null,null,null,null,null,null,null,null,null,null,null,null,null,null,null,null,null,null,null,null,null,null,null,null,null,null,null,null,null,null,null,null,null,null,null,null,null,null,null,7,1.3999999994000001,{"$f":"BesselE('Исходные данные'!$F$42/100,BH1151)","v":0.51742022143460586},0.59940270361169679,{"$f":"TEXT(DEGREES(('Исходные данные'!BH1151/PI())*$BL$992)*1800,\"0,00\")&\"\"\"\"","v":"0,00\""}]
[null,null,null,null,null,null,null,null,null,null,null,null,null,null,null,null,null,null,null,null,null,null,null,null,null,null,null,null,null,null,null,null,null,null,null,null,null,null,null,null,null,null,null,null,null,null,null,null,null,null,null,null,null,null,null,null,null,null,8,1.5999999993,{"$f":"BesselE('Исходные данные'!$F$42/100,BH1152)","v":0.42918026643846796},0.5074709019262641,{"$f":"TEXT(DEGREES(('Исходные данные'!BH1152/PI())*$BL$992)*1800,\"0,00\")&\"\"\"\"","v":"0,00\""}]
[null,null,null,null,null,null,null,null,null,null,null,null,null,null,null,null,null,null,null,null,null,null,null,null,null,null,null,null,null,null,null,null,null,null,null,null,null,null,null,null,null,null,null,null,null,null,null,null,null,null,null,null,null,null,null,null,null,null,9,1.7999999992,{"$f":"BesselE('Исходные данные'!$F$42/100,BH1153)","v":0.34384919060589736},0.41748390794512519,{"$f":"TEXT(DEGREES(('Исходные данные'!BH1153/PI())*$BL$992)*1800,\"0,00\")&\"\"\"\"","v":"0,00\""}]
[null,null,null,null,null,null,null,null,null,null,null,null,null,null,null,null,null,null,null,null,null,null,null,null,null,null,null,null,null,null,null,null,null,null,null,null,null,null,null,null,null,null,null,null,null,null,null,null,null,null,null,null,null,null,null,null,null,null,10,1.9999999990999999,{"$f":"BesselE('Исходные данные'!$F$42/100,BH1154)","v":0.26462320676154888},0.3326115042484819,{"$f":"TEXT(DEGREES(('Исходные данные'!BH1154/PI())*$BL$992)*1800,\"0,00\")&\"\"\"\"","v":"0,00\""}]
[null,null,null,null,null,null,null,null,null,null,null,null,null,null,null,null,null,null,null,null,null,null,null,null,null,null,null,null,null,null,null,null,null,null,null,null,null,null,null,null,null,null,null,null,null,null,null,null,null,null,null,null,null,null,null,null,null,null,11,2.1999999990000001,{"$f":"BesselE('Исходные данные'!$F$42/100,BH1155)","v":0.19406778391491605},0.25545034149040607,{"$f":"TEXT(DEGREES(('Исходные данные'!BH1155/PI())*$BL$992)*1800,\"0,00\")&\"\"\"\"","v":"0,00\""}]
[null,null,null,null,null,null,null,null,null,null,null,null,null,null,null,null,null,null,null,null,null,null,null,null,null,null,null,null,null,null,null,null,null,null,null,null,null,null,null,null,null,null,null,null,null,null,null,null,null,null,null,null,null,null,null,null,null,null,12,2.3999999988999998,{"$f":"BesselE('Исходные данные'!$F$42/100,BH1156)","v":0.13400225324724524},0.18791160675466972,{"$f":"TEXT(DEGREES(('Исходные данные'!BH1156/PI())*$BL$992)*1800,\"0,00\")&\"\"\"\"","v":"0,00\""}]
[null,null,null,null,null,null,null,null,null,null,null,null,null,null,null,null,null,null,null,null,null,null,null,null,null,null,null,null,null,null,null,null,null,null,null,null,null,null,null,null,null,null,null,null,null,null,null,null,null,null,null,null,null,null,null,null,null,null,13,2.5999999988,{"$f":"BesselE('Исходные данные'!$F$42/100,BH1157)","v":8.5446483618421193E-2},0.13116558615694687,{"$f":"TEXT(DEGREES(('Исходные данные'!BH1157/PI())*$BL$992)*1800,\"0,00\")&\"\"\"\"","v":"0,00\""}]
[null,null,null,null,null,null,null,null,null,null,null,null,null,null,null,null,null,null,null,null,null,null,null,null,null,null,null,null,null,null,null,null,null,null,null,null,null,null,null,null,null,null,null,null,null,null,null,null,null,null,null,null,null,null,null,null,null,null,14,2.7999999987000002,{"$f":"BesselE('Исходные данные'!$F$42/100,BH1158)","v":4.8630023891809662E-2},8.5643707890367668E-2,{"$f":"TEXT(DEGREES(('Исходные данные'!BH1158/PI())*$BL$992)*1800,\"0,00\")&\"\"\"\"","v":"0,00\""}]
[null,null,null,null,null,null,null,null,null,null,null,null,null,null,null,null,null,null,null,null,null,null,null,null,null,null,null,null,null,null,null,null,null,null,null,null,null,null,null,null,null,null,null,null,null,null,null,null,null,null,null,null,null,null,null,null,null,null,15,2.9999999985999999,{"$f":"BesselE('Исходные данные'!$F$42/100,BH1159)","v":2.3058773610591003E-2},5.1093767919186704E-2,{"$f":"TEXT(DEGREES(('Исходные данные'!BH1159/PI())*$BL$992)*1800,\"0,00\")&\"\"\"\"","v":"0,00\""}]
[null,null,null,null,null,null,null,null,null,null,null,null,null,null,null,null,null,null,null,null,null,null,null,null,null,null,null,null,null,null,null,null,null,null,null,null,null,null,null,null,null,null,null,null,null,null,null,null,null,null,null,null,null,null,null,null,null,null,16,3.1999999985000001,{"$f":"BesselE('Исходные данные'!$F$42/100,BH1160)","v":7.6296251495215949E-3},2.667980236806565E-2,{"$f":"TEXT(DEGREES(('Исходные данные'!BH1160/PI())*$BL$992)*1800,\"0,00\")&\"\"\"\"","v":"0,00\""}]
[null,null,null,null,null,null,null,null,null,null,null,null,null,null,null,null,null,null,null,null,null,null,null,null,null,null,null,null,null,null,null,null,null,null,null,null,null,null,null,null,null,null,null,null,null,null,null,null,null,null,null,null,null,null,null,null,null,null,17,3.3999999983999998,{"$f":"BesselE('Исходные данные'!$F$42/100,BH1161)","v":7.8002218764710001E-4},1.1114846429189411E-2,{"$f":"TEXT(DEGREES(('Исходные данные'!BH1161/PI())*$BL$992)*1800,\"0,00\")&\"\"\"\"","v":"0,00\""}]
[null,null,null,null,null,null,null,null,null,null,null,null,null,null,null,null,null,null,null,null,null,null,null,null,null,null,null,null,null,null,null,null,null,null,null,null,null,null,null,null,null,null,null,null,null,null,null,null,null,null,null,null,null,null,null,null,null,null,18,3.5999999982999999,{"$f":"BesselE('Исходные данные'!$F$42/100,BH1162)","v":6.5727624100000927E-4},2.8128613710947546E-3,{"$f":"TEXT(DEGREES(('Исходные данные'!BH1162/PI())*$BL$992)*1800,\"0,00\")&\"\"\"\"","v":"0,00\""}]
[null,null,null,null,null,null,null,null,null,null,null,null,null,null,null,null,null,null,null,null,null,null,null,null,null,null,null,null,null,null,null,null,null,null,null,null,null,null,null,null,null,null,null,null,null,null,null,null,null,null,null,null,null,null,null,null,null,null,19,3.7999999982000001,{"$f":"BesselE('Исходные данные'!$F$42/100,BH1163)","v":5.2918995024759915E-3},4.5534109401343956E-5,{"$f":"TEXT(DEGREES(('Исходные данные'!BH1163/PI())*$BL$992)*1800,\"0,00\")&\"\"\"\"","v":"0,00\""}]
[null,null,null,null,null,null,null,null,null,null,null,null,null,null,null,null,null,null,null,null,null,null,null,null,null,null,null,null,null,null,null,null,null,null,null,null,null,null,null,null,null,null,null,null,null,null,null,null,null,null,null,null,null,null,null,null,null,null,20,3.9999999980999998,{"$f":"BesselE('Исходные данные'!$F$42/100,BH1164)","v":1.2760116010778127E-2},1.0904302712608548E-3,{"$f":"TEXT(DEGREES(('Исходные данные'!BH1164/PI())*$BL$992)*1800,\"0,00\")&\"\"\"\"","v":"0,00\""}]
[null,null,null,null,null,null,null,null,null,null,null,null,null,null,null,null,null,null,null,null,null,null,null,null,null,null,null,null,null,null,null,null,null,null,null,null,null,null,null,null,null,null,null,null,null,null,null,null,null,null,null,null,null,null,null,null,null,null,21,4.199999998,{"$f":"BesselE('Исходные данные'!$F$42/100,BH1165)","v":2.1322925629544357E-2},4.3589511085455656E-3,{"$f":"TEXT(DEGREES(('Исходные данные'!BH1165/PI())*$BL$992)*1800,\"0,00\")&\"\"\"\"","v":"0,01\""}]
[null,null,null,null,null,null,null,null,null,null,null,null,null,null,null,null,null,null,null,null,null,null,null,null,null,null,null,null,null,null,null,null,null,null,null,null,null,null,null,null,null,null,null,null,null,null,null,null,null,null,null,null,null,null,null,null,null,null,22,4.3999999979000002,{"$f":"BesselE('Исходные данные'!$F$42/100,BH1166)","v":2.9532317182648784E-2},8.4954363797924148E-3,{"$f":"TEXT(DEGREES(('Исходные данные'!BH1166/PI())*$BL$992)*1800,\"0,00\")&\"\"\"\"","v":"0,01\""}]
[null,null,null,null,null,null,null,null,null,null,null,null,null,null,null,null,null,null,null,null,null,null,null,null,null,null,null,null,null,null,null,null,null,null,null,null,null,null,null,null,null,null,null,null,null,null,null,null,null,null,null,null,null,null,null,null,null,null,23,4.5999999978000004,{"$f":"BesselE('Исходные данные'!$F$42/100,BH1167)","v":3.6299075541297431E-2},1.244222259003247E-2,{"$f":"TEXT(DEGREES(('Исходные данные'!BH1167/PI())*$BL$992)*1800,\"0,00\")&\"\"\"\"","v":"0,01\""}]
[null,null,null,null,null,null,null,null,null,null,null,null,null,null,null,null,null,null,null,null,null,null,null,null,null,null,null,null,null,null,null,null,null,null,null,null,null,null,null,null,null,null,null,null,null,null,null,null,null,null,null,null,null,null,null,null,null,null,24,4.7999999976999996,{"$f":"BesselE('Исходные данные'!$F$42/100,BH1168)","v":4.0920680379096505E-2},1.5469125889950185E-2,{"$f":"TEXT(DEGREES(('Исходные данные'!BH1168/PI())*$BL$992)*1800,\"0,00\")&\"\"\"\"","v":"0,01\""}]
[null,null,null,null,null,null,null,null,null,null,null,null,null,null,null,null,null,null,null,null,null,null,null,null,null,null,null,null,null,null,null,null,null,null,null,null,null,null,null,null,null,null,null,null,null,null,null,null,null,null,null,null,null,null,null,null,null,null,25,4.9999999975999998,{"$f":"BesselE('Исходные данные'!$F$42/100,BH1169)","v":4.3071636506355836E-2},1.7169294609913122E-2,{"$f":"TEXT(DEGREES(('Исходные данные'!BH1169/PI())*$BL$992)*1800,\"0,00\")&\"\"\"\"","v":"0,01\""}]
[null,null,null,null,null,null,null,null,null,null,null,null,null,null,null,null,null,null,null,null,null,null,null,null,null,null,null,null,null,null,null,null,null,null,null,null,null,null,null,null,null,null,null,null,null,null,null,null,null,null,null,null,null,null,null,null,null,null,26,5.1999999975,{"$f":"BesselE('Исходные данные'!$F$42/100,BH1170)","v":4.2761841918072564E-2},1.7426336064650501E-2,{"$f":"TEXT(DEGREES(('Исходные данные'!BH1170/PI())*$BL$992)*1800,\"0,00\")&\"\"\"\"","v":"0,01\""}]
[null,null,null,null,null,null,null,null,null,null,null,null,null,null,null,null,null,null,null,null,null,null,null,null,null,null,null,null,null,null,null,null,null,null,null,null,null,null,null,null,null,null,null,null,null,null,null,null,null,null,null,null,null,null,null,null,null,null,27,5.3999999974000001,{"$f":"BesselE('Исходные данные'!$F$42/100,BH1171)","v":4.0271009937988912E-2},1.6359811340780964E-2,{"$f":"TEXT(DEGREES(('Исходные данные'!BH1171/PI())*$BL$992)*1800,\"0,00\")&\"\"\"\"","v":"0,01\""}]
[null,null,null,null,null,null,null,null,null,null,null,null,null,null,null,null,null,null,null,null,null,null,null,null,null,null,null,null,null,null,null,null,null,null,null,null,null,null,null,null,null,null,null,null,null,null,null,null,null,null,null,null,null,null,null,null,null,null,28,5.5999999973000003,{"$f":"BesselE('Исходные данные'!$F$42/100,BH1172)","v":3.606854541859645E-2},1.4257454806972766E-2,{"$f":"TEXT(DEGREES(('Исходные данные'!BH1172/PI())*$BL$992)*1800,\"0,00\")&\"\"\"\"","v":"0,01\""}]
[null,null,null,null,null,null,null,null,null,null,null,null,null,null,null,null,null,null,null,null,null,null,null,null,null,null,null,null,null,null,null,null,null,null,null,null,null,null,null,null,null,null,null,null,null,null,null,null,null,null,null,null,null,null,null,null,null,null,29,5.7999999971999996,{"$f":"BesselE('Исходные данные'!$F$42/100,BH1173)","v":3.0728581250662339E-2},1.1502765525961828E-2,{"$f":"TEXT(DEGREES(('Исходные данные'!BH1173/PI())*$BL$992)*1800,\"0,00\")&\"\"\"\"","v":"0,01\""}]
[null,null,null,null,null,null,null,null,null,null,null,null,null,null,null,null,null,null,null,null,null,null,null,null,null,null,null,null,null,null,null,null,null,null,null,null,null,null,null,null,null,null,null,null,null,null,null,null,null,null,null,null,null,null,null,null,null,null,30,5.9999999970999998,{"$f":"BesselE('Исходные данные'!$F$42/100,BH1174)","v":2.4849176932979139E-2},8.5059953042357465E-3,{"$f":"TEXT(DEGREES(('Исходные данные'!BH1174/PI())*$BL$992)*1800,\"0,00\")&\"\"\"\"","v":"0,01\""}]
[null,null,null,null,null,null,null,null,null,null,null,null,null,null,null,null,null,null,null,null,null,null,null,null,null,null,null,null,null,null,null,null,null,null,null,null,null,null,null,null,null,null,null,null,null,null,null,null,null,null,null,null,null,null,null,null,null,null,31,6.1999999969999999,{"$f":"BesselE('Исходные данные'!$F$42/100,BH1175)","v":1.8983133619702837E-2},5.6451745685877222E-3,{"$f":"TEXT(DEGREES(('Исходные данные'!BH1175/PI())*$BL$992)*1800,\"0,00\")&\"\"\"\"","v":"0,01\""}]
[null,null,null,null,null,null,null,null,null,null,null,null,null,null,null,null,null,null,null,null,null,null,null,null,null,null,null,null,null,null,null,null,null,null,null,null,null,null,null,null,null,null,null,null,null,null,null,null,null,null,null,null,null,null,null,null,null,null,32,6.3999999969000001,{"$f":"BesselE('Исходные данные'!$F$42/100,BH1176)","v":1.3585733573666318E-2},3.2218930685984299E-3,{"$f":"TEXT(DEGREES(('Исходные данные'!BH1176/PI())*$BL$992)*1800,\"0,00\")&\"\"\"\"","v":"0,01\""}]
[null,null,null,null,null,null,null,null,null,null,null,null,null,null,null,null,null,null,null,null,null,null,null,null,null,null,null,null,null,null,null,null,null,null,null,null,null,null,null,null,null,null,null,null,null,null,null,null,null,null,null,null,null,null,null,null,null,null,33,6.5999999968000003,{"$f":"BesselE('Исходные данные'!$F$42/100,BH1177)","v":8.9822532867144065E-3},1.434347284946069E-3,{"$f":"TEXT(DEGREES(('Исходные данные'!BH1177/PI())*$BL$992)*1800,\"0,00\")&\"\"\"\"","v":"0,01\""}]
[null,null,null,null,null,null,null,null,null,null,null,null,null,null,null,null,null,null,null,null,null,null,null,null,null,null,null,null,null,null,null,null,null,null,null,null,null,null,null,null,null,null,null,null,null,null,null,null,null,null,null,null,null,null,null,null,null,null,34,6.7999999967000004,{"$f":"BesselE('Исходные данные'!$F$42/100,BH1178)","v":5.3556239952554149E-3},3.6794759431873456E-4,{"$f":"TEXT(DEGREES(('Исходные данные'!BH1178/PI())*$BL$992)*1800,\"0,00\")&\"\"\"\"","v":"0,01\""}]
[null,null,null,null,null,null,null,null,null,null,null,null,null,null,null,null,null,null,null,null,null,null,null,null,null,null,null,null,null,null,null,null,null,null,null,null,null,null,null,null,null,null,null,null,null,null,null,null,null,null,null,null,null,null,null,null,null,null,35,6.9999999965999997,{"$f":"BesselE('Исходные данные'!$F$42/100,BH1179)","v":2.7523911765979488E-3},1.7901098257374275E-6,{"$f":"TEXT(DEGREES(('Исходные данные'!BH1179/PI())*$BL$992)*1800,\"0,00\")&\"\"\"\"","v":"0,01\""}]
[null,null,null,null,null,null,null,null,null,null,null,null,null,null,null,null,null,null,null,null,null,null,null,null,null,null,null,null,null,null,null,null,null,null,null,null,null,null,null,null,null,null,null,null,null,null,null,null,null,null,null,null,null,null,null,null,null,null,36,7.1999999964999999,{"$f":"BesselE('Исходные данные'!$F$42/100,BH1180)","v":1.103372947827942E-3},2.2773676555083461E-4,{"$f":"TEXT(DEGREES(('Исходные данные'!BH1180/PI())*$BL$992)*1800,\"0,00\")&\"\"\"\"","v":"0,01\""}]
[null,null,null,null,null,null,null,null,null,null,null,null,null,null,null,null,null,null,null,null,null,null,null,null,null,null,null,null,null,null,null,null,null,null,null,null,null,null,null,null,null,null,null,null,null,null,null,null,null,null,null,null,null,null,null,null,null,null,37,7.3999999964000001,{"$f":"BesselE('Исходные данные'!$F$42/100,BH1181)","v":2.5428006844599389E-4},8.7784231009678429E-4,{"$f":"TEXT(DEGREES(('Исходные данные'!BH1181/PI())*$BL$992)*1800,\"0,00\")&\"\"\"\"","v":"0,01\""}]
[null,null,null,null,null,null,null,null,null,null,null,null,null,null,null,null,null,null,null,null,null,null,null,null,null,null,null,null,null,null,null,null,null,null,null,null,null,null,null,null,null,null,null,null,null,null,null,null,null,null,null,null,null,null,null,null,null,null,38,7.5999999963000002,{"$f":"BesselE('Исходные данные'!$F$42/100,BH1182)","v":1.0982497980471318E-6},1.7554725623187297E-3,{"$f":"TEXT(DEGREES(('Исходные данные'!BH1182/PI())*$BL$992)*1800,\"0,00\")&\"\"\"\"","v":"0,01\""}]
[null,null,null,null,null,null,null,null,null,null,null,null,null,null,null,null,null,null,null,null,null,null,null,null,null,null,null,null,null,null,null,null,null,null,null,null,null,null,null,null,null,null,null,null,null,null,null,null,null,null,null,null,null,null,null,null,null,null,39,7.7999999962000004,{"$f":"BesselE('Исходные данные'!$F$42/100,BH1183)","v":1.2522459892560161E-4},2.6656535144890868E-3,{"$f":"TEXT(DEGREES(('Исходные данные'!BH1183/PI())*$BL$992)*1800,\"0,00\")&\"\"\"\"","v":"0,01\""}]
[null,null,null,null,null,null,null,null,null,null,null,null,null,null,null,null,null,null,null,null,null,null,null,null,null,null,null,null,null,null,null,null,null,null,null,null,null,null,null,null,null,null,null,null,null,null,null,null,null,null,null,null,null,null,null,null,null,null,40,7.9999999960999997,{"$f":"BesselE('Исходные данные'!$F$42/100,BH1184)","v":4.2409919043397923E-4},{"$f":"BesselE(0.00000000001,BH1184)","v":3.4408884411328399E-3},{"$f":"TEXT(DEGREES(('Исходные данные'!BH1184/PI())*$BL$992)*1800,\"0,00\")&\"\"\"\"","v":"0,01\""}]
[null,null,null,null,null,null,null,null,null,null,null,null,null,null,null,null,null,null,null,null,null,null,null,null,null,null,null,null,null,null,null,null,null,null,null,null,null,null,null,null,null,null,null,null,null,null,null,null,null,null,null,null,null,null,null,null,null,null,41,8.1999999960000007,{"$f":"BesselE('Исходные данные'!$F$42/100,BH1185)","v":7.3422953043113281E-4},3.9597427902015757E-3,{"$f":"TEXT(DEGREES(('Исходные данные'!BH1185/PI())*$BL$992)*1800,\"0,00\")&\"\"\"\"","v":"0,01\""}]
[null,null,null,null,null,null,null,null,null,null,null,null,null,null,null,null,null,null,null,null,null,null,null,null,null,null,null,null,null,null,null,null,null,null,null,null,null,null,null,null,null,null,null,null,null,null,null,null,null,null,null,null,null,null,null,null,null,null,42,8.3999999959,{"$f":"BesselE('Исходные данные'!$F$42/100,BH1186)","v":9.4488694592421486E-4},4.1567575455482763E-3,{"$f":"TEXT(DEGREES(('Исходные данные'!BH1186/PI())*$BL$992)*1800,\"0,00\")&\"\"\"\"","v":"0,01\""}]
[null,null,null,null,null,null,null,null,null,null,null,null,null,null,null,null,null,null,null,null,null,null,null,null,null,null,null,null,null,null,null,null,null,null,null,null,null,null,null,null,null,null,null,null,null,null,null,null,null,null,null,null,null,null,null,null,null,null,43,8.5999999957999993,{"$f":"BesselE('Исходные данные'!$F$42/100,BH1187)","v":1.0021686734921532E-3},4.0235373363320427E-3,{"$f":"TEXT(DEGREES(('Исходные данные'!BH1187/PI())*$BL$992)*1800,\"0,00\")&\"\"\"\"","v":"0,01\""}]
[null,null,null,null,null,null,null,null,null,null,null,null,null,null,null,null,null,null,null,null,null,null,null,null,null,null,null,null,null,null,null,null,null,null,null,null,null,null,null,null,null,null,null,null,null,null,null,null,null,null,null,null,null,null,null,null,null,null,44,8.7999999957000004,{"$f":"BesselE('Исходные данные'!$F$42/100,BH1188)","v":9.0439208259328449E-4},3.6020103806049413E-3,{"$f":"TEXT(DEGREES(('Исходные данные'!BH1188/PI())*$BL$992)*1800,\"0,00\")&\"\"\"\"","v":"0,01\""}]
[null,null,null,null,null,null,null,null,null,null,null,null,null,null,null,null,null,null,null,null,null,null,null,null,null,null,null,null,null,null,null,null,null,null,null,null,null,null,null,null,null,null,null,null,null,null,null,null,null,null,null,null,null,null,null,null,null,null,45,8.9999999955999996,{"$f":"BesselE('Исходные данные'!$F$42/100,BH1189)","v":6.9077803335237389E-4},2.9717468115132701E-3,{"$f":"TEXT(DEGREES(('Исходные данные'!BH1189/PI())*$BL$992)*1800,\"0,00\")&\"\"\"\"","v":"0,01\""}]
[null,null,null,null,null,null,null,null,null,null,null,null,null,null,null,null,null,null,null,null,null,null,null,null,null,null,null,null,null,null,null,null,null,null,null,null,null,null,null,null,null,null,null,null,null,null,null,null,null,null,null,null,null,null,null,null,null,null,46,9.1999999955000007,{"$f":"BesselE('Исходные данные'!$F$42/100,BH1190)","v":4.2599759700120119E-4},2.233767655574466E-3,{"$f":"TEXT(DEGREES(('Исходные данные'!BH1190/PI())*$BL$992)*1800,\"0,00\")&\"\"\"\"","v":"0,01\""}]
[null,null,null,null,null,null,null,null,null,null,null,null,null,null,null,null,null,null,null,null,null,null,null,null,null,null,null,null,null,null,null,null,null,null,null,null,null,null,null,null,null,null,null,null,null,null,null,null,null,null,null,null,null,null,null,null,null,null,47,9.3999999954,{"$f":"BesselE('Исходные данные'!$F$42/100,BH1191)","v":1.8336486860821811E-4},1.4934476174077011E-3,{"$f":"TEXT(DEGREES(('Исходные данные'!BH1191/PI())*$BL$992)*1800,\"0,00\")&\"\"\"\"","v":"0,01\""}]
[null,null,null,null,null,null,null,null,null,null,null,null,null,null,null,null,null,null,null,null,null,null,null,null,null,null,null,null,null,null,null,null,null,null,null,null,null,null,null,null,null,null,null,null,null,null,null,null,null,null,null,null,null,null,null,null,null,null,48,9.5999999952999993,{"$f":"BesselE('Исходные данные'!$F$42/100,BH1192)","v":2.927763956044168E-5},8.4492940018842516E-4,{"$f":"TEXT(DEGREES(('Исходные данные'!BH1192/PI())*$BL$992)*1800,\"0,00\")&\"\"\"\"","v":"0,01\""}]
[null,null,null,null,null,null,null,null,null,null,null,null,null,null,null,null,null,null,null,null,null,null,null,null,null,null,null,null,null,null,null,null,null,null,null,null,null,null,null,null,null,null,null,null,null,null,null,null,null,null,null,null,null,null,null,null,null,null,49,9.7999999952000003,{"$f":"BesselE('Исходные данные'!$F$42/100,BH1193)","v":1.1003803073405565E-5},3.5898720215826654E-4,{"$f":"TEXT(DEGREES(('Исходные данные'!BH1193/PI())*$BL$992)*1800,\"0,00\")&\"\"\"\"","v":"0,01\""}]
[null,null,null,null,null,null,null,null,null,null,null,null,null,null,null,null,null,null,null,null,null,null,null,null,null,null,null,null,null,null,null,null,null,null,null,null,null,null,null,null,null,null,null,null,null,null,null,null,null,null,null,null,null,null,null,null,null,null,50,9.9999999950999996,{"$f":"BesselE('Исходные данные'!$F$42/100,BH1194)","v":1.4918547677608438E-4},7.5595190348834145E-5,{"$f":"TEXT(DEGREES(('Исходные данные'!BH1194/PI())*$BL$992)*1800,\"0,00\")&\"\"\"\"","v":"0,01\""}]
[null,null,null,null,null,null,null,null,null,null,null,null,null,null,null,null,null,null,null,null,null,null,null,null,null,null,null,null,null,null,null,null,null,null,null,null,null,null,null,null,null,null,null,null,null,null,null,null,null,null,null,null,null,null,null,null,null,null,51,10.199999995000001,{"$f":"BesselE('Исходные данные'!$F$42/100,BH1195)","v":4.3560426866287442E-4},1.6827391167128261E-6,{"$f":"TEXT(DEGREES(('Исходные данные'!BH1195/PI())*$BL$992)*1800,\"0,00\")&\"\"\"\"","v":"0,01\""}]
[null,null,null,null,null,null,null,null,null,null,null,null,null,null,null,null,null,null,null,null,null,null,null,null,null,null,null,null,null,null,null,null,null,null,null,null,null,null,null,null,null,null,null,null,null,null,null,null,null,null,null,null,null,null,null,null,null,null,52,10.3999999949,{"$f":"BesselE('Исходные данные'!$F$42/100,BH1196)","v":8.3594063023017726E-4},1.1380278061829557E-4,{"$f":"TEXT(DEGREES(('Исходные данные'!BH1196/PI())*$BL$992)*1800,\"0,00\")&\"\"\"\"","v":"0,01\""}]
[null,null,null,null,null,null,null,null,null,null,null,null,null,null,null,null,null,null,null,null,null,null,null,null,null,null,null,null,null,null,null,null,null,null,null,null,null,null,null,null,null,null,null,null,null,null,null,null,null,null,null,null,null,null,null,null,null,null,53,10.599999994799999,{"$f":"BesselE('Исходные данные'!$F$42/100,BH1197)","v":1.296574306206976E-3},3.6480035355194025E-4,{"$f":"TEXT(DEGREES(('Исходные данные'!BH1197/PI())*$BL$992)*1800,\"0,00\")&\"\"\"\"","v":"0,01\""}]
[null,null,null,null,null,null,null,null,null,null,null,null,null,null,null,null,null,null,null,null,null,null,null,null,null,null,null,null,null,null,null,null,null,null,null,null,null,null,null,null,null,null,null,null,null,null,null,null,null,null,null,null,null,null,null,null,null,null,54,10.7999999947,{"$f":"BesselE('Исходные данные'!$F$42/100,BH1198)","v":1.7539911981624304E-3},6.9311841234234468E-4,{"$f":"TEXT(DEGREES(('Исходные данные'!BH1198/PI())*$BL$992)*1800,\"0,00\")&\"\"\"\"","v":"0,01\""}]
[null,null,null,null,null,null,null,null,null,null,null,null,null,null,null,null,null,null,null,null,null,null,null,null,null,null,null,null,null,null,null,null,null,null,null,null,null,null,null,null,null,null,null,null,null,null,null,null,null,null,null,null,null,null,null,null,null,null,55,10.9999999946,{"$f":"BesselE('Исходные данные'!$F$42/100,BH1199)","v":2.1451294479107939E-3},1.0331584030812404E-3,{"$f":"TEXT(DEGREES(('Исходные данные'!BH1199/PI())*$BL$992)*1800,\"0,00\")&\"\"\"\"","v":"0,01\""}]
[null,null,null,null,null,null,null,null,null,null,null,null,null,null,null,null,null,null,null,null,null,null,null,null,null,null,null,null,null,null,null,null,null,null,null,null,null,null,null,null,null,null,null,null,null,null,null,null,null,null,null,null,null,null,null,null,null,null,56,11.199999994500001,{"$f":"BesselE('Исходные данные'!$F$42/100,BH1200)","v":2.4170216189855422E-3},1.3251308958088289E-3,{"$f":"TEXT(DEGREES(('Исходные данные'!BH1200/PI())*$BL$992)*1800,\"0,00\")&\"\"\"\"","v":"0,01\""}]
[null,null,null,null,null,null,null,null,null,null,null,null,null,null,null,null,null,null,null,null,null,null,null,null,null,null,null,null,null,null,null,null,null,null,null,null,null,null,null,null,null,null,null,null,null,null,null,null,null,null,null,null,null,null,null,null,null,null,57,11.3999999944,{"$f":"BesselE('Исходные данные'!$F$42/100,BH1201)","v":2.5343427419095015E-3},1.5230613510006552E-3,{"$f":"TEXT(DEGREES(('Исходные данные'!BH1201/PI())*$BL$992)*1800,\"0,00\")&\"\"\"\"","v":"0,01\""}]
[null,null,null,null,null,null,null,null,null,null,null,null,null,null,null,null,null,null,null,null,null,null,null,null,null,null,null,null,null,null,null,null,null,null,null,null,null,null,null,null,null,null,null,null,null,null,null,null,null,null,null,null,null,null,null,null,null,null,58,11.599999994299999,{"$f":"BesselE('Исходные данные'!$F$42/100,BH1202)","v":2.4838995424752612E-3},1.6000065466357067E-3,{"$f":"TEXT(DEGREES(('Исходные данные'!BH1202/PI())*$BL$992)*1800,\"0,00\")&\"\"\"\"","v":"0,01\""}]
[null,null,null,null,null,null,null,null,null,null,null,null,null,null,null,null,null,null,null,null,null,null,null,null,null,null,null,null,null,null,null,null,null,null,null,null,null,null,null,null,null,null,null,null,null,null,null,null,null,null,null,null,null,null,null,null,null,null,59,11.7999999942,{"$f":"BesselE('Исходные данные'!$F$42/100,BH1203)","v":2.2756198403925689E-3},1.5500200486285498E-3,{"$f":"TEXT(DEGREES(('Исходные данные'!BH1203/PI())*$BL$992)*1800,\"0,00\")&\"\"\"\"","v":"0,01\""}]
[null,null,null,null,null,null,null,null,null,null,null,null,null,null,null,null,null,null,null,null,null,null,null,null,null,null,null,null,null,null,null,null,null,null,null,null,null,null,null,null,null,null,null,null,null,null,null,null,null,null,null,null,null,null,null,null,null,null,60,11.9999999941,{"$f":"BesselE('Исходные данные'!$F$42/100,BH1204)","v":1.9401415349650521E-3},1.3869057979796014E-3,{"$f":"TEXT(DEGREES(('Исходные данные'!BH1204/PI())*$BL$992)*1800,\"0,00\")&\"\"\"\"","v":"0,01\""}]
[null,null,null,null,null,null,null,null,null,null,null,null,null,null,null,null,null,null,null,null,null,null,null,null,null,null,null,null,null,null,null,null,null,null,null,null,null,null,null,null,null,null,null,null,null,null,null,null,null,null,null,null,null,null,null,null,null,null,61,12.199999994000001,{"$f":"BesselE('Исходные данные'!$F$42/100,BH1205)","v":1.523581189324206E-3},1.140247072322402E-3,{"$f":"TEXT(DEGREES(('Исходные данные'!BH1205/PI())*$BL$992)*1800,\"0,00\")&\"\"\"\"","v":"0,01\""}]
[null,null,null,null,null,null,null,null,null,null,null,null,null,null,null,null,null,null,null,null,null,null,null,null,null,null,null,null,null,null,null,null,null,null,null,null,null,null,null,null,null,null,null,null,null,null,null,null,null,null,null,null,null,null,null,null,null,null,62,12.3999999939,{"$f":"BesselE('Исходные данные'!$F$42/100,BH1206)","v":1.0804211332736482E-3},8.4953677581944506E-4,{"$f":"TEXT(DEGREES(('Исходные данные'!BH1206/PI())*$BL$992)*1800,\"0,00\")&\"\"\"\"","v":"0,02\""}]
[null,null,null,null,null,null,null,null,null,null,null,null,null,null,null,null,null,null,null,null,null,null,null,null,null,null,null,null,null,null,null,null,null,null,null,null,null,null,null,null,null,null,null,null,null,null,null,null,null,null,null,null,null,null,null,null,null,null,63,12.599999993799999,{"$f":"BesselE('Исходные данные'!$F$42/100,BH1207)","v":6.6565131820768293E-4},5.5742718700042989E-4,{"$f":"TEXT(DEGREES(('Исходные данные'!BH1207/PI())*$BL$992)*1800,\"0,00\")&\"\"\"\"","v":"0,02\""}]
[null,null,null,null,null,null,null,null,null,null,null,null,null,null,null,null,null,null,null,null,null,null,null,null,null,null,null,null,null,null,null,null,null,null,null,null,null,null,null,null,null,null,null,null,null,null,null,null,null,null,null,null,null,null,null,null,null,null,64,12.7999999937,{"$f":"BesselE('Исходные данные'!$F$42/100,BH1208)","v":3.2732357111979265E-4},3.0314923524623081E-4,{"$f":"TEXT(DEGREES(('Исходные данные'!BH1208/PI())*$BL$992)*1800,\"0,00\")&\"\"\"\"","v":"0,02\""}]
[null,null,null,null,null,null,null,null,null,null,null,null,null,null,null,null,null,null,null,null,null,null,null,null,null,null,null,null,null,null,null,null,null,null,null,null,null,null,null,null,null,null,null,null,null,null,null,null,null,null,null,null,null,null,null,null,null,null,65,12.999999993599999,{"$f":"BesselE('Исходные данные'!$F$42/100,BH1209)","v":1.0053260607467228E-4},{"$f":"BesselE(0.00000000001,BH1209)","v":1.1703263048628722E-4},{"$f":"TEXT(DEGREES(('Исходные данные'!BH1209/PI())*$BL$992)*1800,\"0,00\")&\"\"\"\"","v":"0,02\""}]
[null,null,null,null,null,null,null,null,null,null,null,null,null,null,null,null,null,null,null,null,null,null,null,null,null,null,null,null,null,null,null,null,null,null,null,null,null,null,null,null,null,null,null,null,null,null,null,null,null,null,null,null,null,null,null,null,null,null,66,13.199999993500001,{"$f":"BesselE('Исходные данные'!$F$42/100,BH1210)","v":3.5632940862204494E-6},1.6818330375523444E-5,{"$f":"TEXT(DEGREES(('Исходные данные'!BH1210/PI())*$BL$992)*1800,\"0,00\")&\"\"\"\"","v":"0,02\""}]
[null,null,null,null,null,null,null,null,null,null,null,null,null,null,null,null,null,null,null,null,null,null,null,null,null,null,null,null,null,null,null,null,null,null,null,null,null,null,null,null,null,null,null,null,null,null,null,null,null,null,null,null,null,null,null,null,null,null,67,13.3999999934,{"$f":"BesselE('Исходные данные'!$F$42/100,BH1211)","v":3.6586046522620749E-5},6.1378350752964287E-6,{"$f":"TEXT(DEGREES(('Исходные данные'!BH1211/PI())*$BL$992)*1800,\"0,00\")&\"\"\"\"","v":"0,02\""}]
[null,null,null,null,null,null,null,null,null,null,null,null,null,null,null,null,null,null,null,null,null,null,null,null,null,null,null,null,null,null,null,null,null,null,null,null,null,null,null,null,null,null,null,null,null,null,null,null,null,null,null,null,null,null,null,null,null,null,68,13.599999993300001,{"$f":"BesselE('Исходные данные'!$F$42/100,BH1212)","v":1.8289820741092887E-4},7.519071937463693E-5,{"$f":"TEXT(DEGREES(('Исходные данные'!BH1212/PI())*$BL$992)*1800,\"0,00\")&\"\"\"\"","v":"0,02\""}]
[null,null,null,null,null,null,null,null,null,null,null,null,null,null,null,null,null,null,null,null,null,null,null,null,null,null,null,null,null,null,null,null,null,null,null,null,null,null,null,null,null,null,null,null,null,null,null,null,null,null,null,null,null,null,null,null,null,null,69,13.7999999932,{"$f":"BesselE('Исходные данные'!$F$42/100,BH1213)","v":4.1235483611626268E-4},2.0333319776922674E-4,{"$f":"TEXT(DEGREES(('Исходные данные'!BH1213/PI())*$BL$992)*1800,\"0,00\")&\"\"\"\"","v":"0,02\""}]
[null,null,null,null,null,null,null,null,null,null,null,null,null,null,null,null,null,null,null,null,null,null,null,null,null,null,null,null,null,null,null,null,null,null,null,null,null,null,null,null,null,null,null,null,null,null,null,null,null,null,null,null,null,null,null,null,null,null,70,13.999999993099999,{"$f":"BesselE('Исходные данные'!$F$42/100,BH1214)","v":6.863545592256877E-4},3.6303942110460508E-4,{"$f":"TEXT(DEGREES(('Исходные данные'!BH1214/PI())*$BL$992)*1800,\"0,00\")&\"\"\"\"","v":"0,02\""}]
[null,null,null,null,null,null,null,null,null,null,null,null,null,null,null,null,null,null,null,null,null,null,null,null,null,null,null,null,null,null,null,null,null,null,null,null,null,null,null,null,null,null,null,null,null,null,null,null,null,null,null,null,null,null,null,null,null,null,71,14.199999993,{"$f":"BesselE('Исходные данные'!$F$42/100,BH1215)","v":9.6357830140329412E-4},5.2454375385721703E-4,{"$f":"TEXT(DEGREES(('Исходные данные'!BH1215/PI())*$BL$992)*1800,\"0,00\")&\"\"\"\"","v":"0,02\""}]
[null,null,null,null,null,null,null,null,null,null,null,null,null,null,null,null,null,null,null,null,null,null,null,null,null,null,null,null,null,null,null,null,null,null,null,null,null,null,null,null,null,null,null,null,null,null,null,null,null,null,null,null,null,null,null,null,null,null,72,14.3999999929,{"$f":"BesselE('Исходные данные'!$F$42/100,BH1216)","v":1.2056358258070018E-3},6.6043047088025454E-4,{"$f":"TEXT(DEGREES(('Исходные данные'!BH1216/PI())*$BL$992)*1800,\"0,00\")&\"\"\"\"","v":"0,02\""}]
[null,null,null,null,null,null,null,null,null,null,null,null,null,null,null,null,null,null,null,null,null,null,null,null,null,null,null,null,null,null,null,null,null,null,null,null,null,null,null,null,null,null,null,null,null,null,null,null,null,null,null,null,null,null,null,null,null,null,73,14.599999992800001,{"$f":"BesselE('Исходные данные'!$F$42/100,BH1217)","v":1.3818536316214302E-3},7.495042633207438E-4,{"$f":"TEXT(DEGREES(('Исходные данные'!BH1217/PI())*$BL$992)*1800,\"0,00\")&\"\"\"\"","v":"0,02\""}]
[null,null,null,null,null,null,null,null,null,null,null,null,null,null,null,null,null,null,null,null,null,null,null,null,null,null,null,null,null,null,null,null,null,null,null,null,null,null,null,null,null,null,null,null,null,null,null,null,null,null,null,null,null,null,null,null,null,null,74,14.7999999927,{"$f":"BesselE('Исходные данные'!$F$42/100,BH1218)","v":1.4726175945864338E-3},7.7943258569332309E-4,{"$f":"TEXT(DEGREES(('Исходные данные'!BH1218/PI())*$BL$992)*1800,\"0,00\")&\"\"\"\"","v":"0,02\""}]
[null,null,null,null,null,null,null,null,null,null,null,null,null,null,null,null,null,null,null,null,null,null,null,null,null,null,null,null,null,null,null,null,null,null,null,null,null,null,null,null,null,null,null,null,null,null,null,null,null,null,null,null,null,null,null,null,null,null,75,14.999999992599999,{"$f":"BesselE('Исходные данные'!$F$42/100,BH1219)","v":1.4709318157877988E-3},7.4786963174833178E-4,{"$f":"TEXT(DEGREES(('Исходные данные'!BH1219/PI())*$BL$992)*1800,\"0,00\")&\"\"\"\"","v":"0,02\""}]

{"sheet":"Телескопы","index":1,"n_rows":29,"n_cols":289,"rows_kept":29,"cut":false,"hidden":false,"merged":[[7,89,7,92],[7,93,7,96],[7,73,7,76],[7,77,7,80],[7,81,7,84],[7,85,7,88],[7,57,7,60],[7,61,7,64],[7,65,7,68],[7,69,7,72],[7,41,7,44],[7,45,7,48],[7,49,7,52],[7,53,7,56],[22,1,23,1],[7,33,7,36],[7,37,7,40],[7,29,7,32],[7,25,7,28],[7,21,7,24],[7,17,7,20],[7,13,7,16],[7,9,7,12],[7,5,7,8]]}
[null,null,null,0,null,1,2,3,4,6,7,8,9,11,12,13,14,16,17,18,19,21,22,23,24,26,27,28,29,31,32,33,34,36,37,38,39,41,42,43,44,46,47,48,49,51,52,53,54,56,57,58,59,61,62,63,64,66,67,68,69,71,72,73,74,76,77,78,79,81,82,83,84,86,87,88,89,91,92,93,94,96,97,98,99,101,102,103,104,106,107,108,109,111,112,113,114,116,117,118,119,120,121,122,123,124,125,126,127,128,129,130,131,132,133,134,9,136,137,138,139,140,141,142,143,144,145,146,147,148,149,150,151,152,153,154,155,156,157,158,159,160,161,162,163,164,165,166,167,168,169,170,171,172,173,174,175,176,177,178,179,180,181,182,183,184,185,186,187,188,189,190,191,192,193,194,195,196,197,198,199,200,201,202,203,204,205,206,207,208,209,210,211,212,213,214,215,216,217,218,219,220,221,222,223,224,225,226,227,228,229,230,231,232,233,234,235,236,237,238,239,240,241,242,243,244,245,246,247,248,249,250,251]
[]
[null,null,null,null,null,null,{"$f":"TEXT(G8,\"0\")","v":"0"}]
[]
[]
[]
[]
[null,null,null,1,"  Диаметр главного зеркала    (дюймы)",4,null,null,null,"5",null,null,null,6,null,null,null,7,null,null,null,8,null,null,null,9,null,null,null,9.25,null,null,null,10,null,null,null,11,null,null,null,12,null,null,null,13,null,null,null,14,null,null,null,16,null,null,null,18,null,null,null,20,null,null,null,22,null,null,null,24,null,null,null,26,null,null,null,28,null,null,null,30,null,null,null,32,null,null,null,36,null,null,null,40]
[null,null,null,2,"  Заголовок чертежа","4\" планетный телескоп системы Ньютона","4\" Deep Sky телескоп системы Ньютона","4\" астрограф системы Ньютона","4\" универсальный телескоп системы Ньютона","5\" планетный телескоп системы Ньютона","5\" Deep Sky телескоп системы Ньютона","5\" астрограф системы Ньютона","5\" универсальный телескоп системы Ньютона","6\" планетный телескоп системы Ньютона","6\" Deep Sky телескоп системы Ньютона","6\" астрограф системы Ньютона","6\" универсальный телескоп системы Ньютона","7\" планетный телескоп системы Ньютона","7\" Deep Sky телескоп системы Ньютона","7\" астрограф системы Ньютона","7\" универсальный телескоп системы Ньютона","8\" планетный телескоп системы Ньютона","8\" Deep Sky телескоп системы Ньютона","8\" астрограф системы Ньютона","8\" универсальный телескоп системы Ньютона","9\" планетный телескоп системы Ньютона","9\" Deep Sky телескоп системы Ньютона","9\" астрограф системы Ньютона","9\" универсальный телескоп системы Ньютона","9,25\" планетный телескоп системы Ньютона","9,25\" Deep Sky телескоп системы Ньютона","9,25\" астрограф системы Ньютона","9,25\" универсальный телескоп системы Ньютона","10\" планетный телескоп системы Ньютона","10\" Deep Sky телескоп системы Ньютона","10\" астрограф системы Ньютона","10\" универсальный телескоп системы Ньютона","11\" планетный телескоп системы Ньютона","11\" Deep Sky телескоп системы Ньютона","11\" астрограф системы Ньютона","11\" универсальный телескоп системы Ньютона","12\" планетный телескоп системы Ньютона","12\" Deep Sky телескоп системы Ньютона","12\" астрограф системы Ньютона","12\" универсальный телескоп системы Ньютона","13\" планетный телескоп системы Ньютона","13\" Deep Sky телескоп системы Ньютона","13\" астрограф системы Ньютона","13\" универсальный телескоп системы Ньютона","14\" планетный телескоп системы Ньютона","14\" Deep Sky телескоп системы Ньютона","14\" астрограф системы Ньютона","14\" универсальный телескоп системы Ньютона","16\" планетный телескоп системы Ньютона","16\" Deep Sky телескоп системы Ньютона","16\" астрограф системы Ньютона","16\" универсальный телескоп системы Ньютона","18\" планетный телескоп системы Ньютона","18\" Deep Sky телескоп системы Ньютона","18\" астрограф системы Ньютона","18\" универсальный телескоп системы Ньютона","20\" планетный телескоп системы Ньютона","20\" Deep Sky телескоп системы Ньютона","20\" астрограф системы Ньютона","20\" универсальный телескоп системы Ньютона","22\" планетный телескоп системы Ньютона","22\" Deep Sky телескоп системы Ньютона","22\" астрограф системы Ньютона","22\" универсальный телескоп системы Ньютона","24\" планетный телескоп системы Ньютона","24\" Deep Sky телескоп системы Ньютона","24\" астрограф системы Ньютона","24\" универсальный телескоп системы Ньютона","26\" планетный телескоп системы Ньютона","26\" Deep Sky телескоп системы Ньютона","26\" астрограф системы Ньютона","26\" универсальный телескоп системы Ньютона","28\" планетный телескоп системы Ньютона","28\" Deep Sky телескоп системы Ньютона","28\" астрограф системы Ньютона","28\" универсальный телескоп системы Ньютона","30\" планетный телескоп системы Ньютона","30\" Deep Sky телескоп системы Ньютона","30\" астрограф системы Ньютона","30\" универсальный телескоп системы Ньютона","32\" планетный телескоп системы Ньютона","32\" Deep Sky телескоп системы Ньютона","32\" астрограф системы Ньютона","32\" универсальный телескоп системы Ньютона","36\" планетный телескоп системы Ньютона","36\" Deep Sky телескоп системы Ньютона","36\" астрограф системы Ньютона","36\" универсальный телескоп системы Ньютона","40\" планетный телескоп системы Ньютона","40\" Deep Sky телескоп системы Ньютона","40\" астрограф системы Ньютона","40\" универсальный телескоп системы Ньютона","ISAAC-350","Sky-Watcher    25012   Black   Diamond","20\" ","9.25\" астрограф системы Ньютона","10\" универсальный телескоп системы Ньютона","ISAAC-350","12\" Ньютон-планетник Виталия","8\" Длиннофокусный планетник","My","5\" Ньютон     Виталика","14\"   Ньютон   jpzyx","12\" Лев   Николаевич   Толстой     ;-)","ASA N8\""]
[null,null,null,3,"  Диаметр главного зеркала    (мм)",{"$f":"$F$8*25.4","v":101.6},101.6,101.6,{"$f":"$F$8*25.4","v":101.6},{"$f":"$J$8*25.4","v":127},{"$f":"$J$8*25.4","v":127},{"$f":"$J$8*25.4","v":127},{"$f":"$J$8*25.4","v":127},{"$f":"$N$8*25.4","v":152.39999999999998},{"$f":"$N$8*25.4","v":152.39999999999998},{"$f":"$N$8*25.4","v":152.39999999999998},{"$f":"$N$8*25.4","v":152.39999999999998},{"$f":"$R$8*25.4","v":177.79999999999998},{"$f":"$R$8*25.4","v":177.79999999999998},{"$f":"$R$8*25.4","v":177.79999999999998},{"$f":"$R$8*25.4","v":177.79999999999998},{"$f":"$V$8*25.4","v":203.2},{"$f":"$V$8*25.4","v":203.2},{"$f":"$V$8*25.4","v":203.2},{"$f":"$V$8*25.4","v":203.2},{"$f":"$Z$8*25.4","v":228.6},{"$f":"$Z$8*25.4","v":228.6},{"$f":"$Z$8*25.4","v":228.6},{"$f":"$Z$8*25.4","v":228.6},{"$f":"$AD$8*25.4","v":234.95},{"$f":"$AD$8*25.4","v":234.95},{"$f":"$AD$8*25.4","v":234.95},{"$f":"$AD$8*25.4","v":234.95},{"$f":"$AH$8*25.4","v":254},{"$f":"$AH$8*25.4","v":254},{"$f":"$AH$8*25.4","v":254},{"$f":"$AH$8*25.4","v":254},{"$f":"$AL$8*25.4","v":279.39999999999998},{"$f":"$AL$8*25.4","v":279.39999999999998},{"$f":"$AL$8*25.4","v":279.39999999999998},{"$f":"$AL$8*25.4","v":279.39999999999998},{"$f":"$AP$8*25.4","v":304.79999999999995},{"$f":"$AP$8*25.4","v":304.79999999999995},{"$f":"$AP$8*25.4","v":304.79999999999995},{"$f":"$AP$8*25.4","v":304.79999999999995},{"$f":"$AT$8*25.4","v":330.2},{"$f":"$AT$8*25.4","v":330.2},{"$f":"$AT$8*25.4","v":330.2},{"$f":"$AT$8*25.4","v":330.2},{"$f":"$AX$8*25.4","v":355.59999999999997},{"$f":"$AX$8*25.4","v":355.59999999999997},{"$f":"$AX$8*25.4","v":355.59999999999997},{"$f":"$AX$8*25.4","v":355.59999999999997},{"$f":"$BB$8*25.4","v":406.4},{"$f":"$BB$8*25.4","v":406.4},{"$f":"$BB$8*25.4","v":406.4},{"$f":"$BB$8*25.4","v":406.4},{"$f":"$BF$8*25.4","v":457.2},{"$f":"$BF$8*25.4","v":457.2},{"$f":"$BF$8*25.4","v":457.2},{"$f":"$BF$8*25.4","v":457.2},{"$f":"$BJ$8*25.4","v":508},{"$f":"$BJ$8*25.4","v":508},{"$f":"$BJ$8*25.4","v":508},{"$f":"$BJ$8*25.4","v":508},{"$f":"$BN$8*25.4","v":558.79999999999995},{"$f":"$BN$8*25.4","v":558.79999999999995},{"$f":"$BN$8*25.4","v":558.79999999999995},{"$f":"$BN$8*25.4","v":558.79999999999995},{"$f":"$BR$8*25.4","v":609.59999999999991},{"$f":"$BR$8*25.4","v":609.59999999999991},{"$f":"$BR$8*25.4","v":609.59999999999991},null,{"$f":"$BV$8*25.4","v":660.4},{"$f":"$BV$8*25.4","v":660.4},{"$f":"$BV$8*25.4","v":660.4},{"$f":"$BV$8*25.4","v":660.4},{"$f":"$BZ$8*25.4","v":711.19999999999993},{"$f":"$BZ$8*25.4","v":711.19999999999993},{"$f":"$BZ$8*25.4","v":711.19999999999993},{"$f":"$BZ$8*25.4","v":711.19999999999993},{"$f":"$CD$8*25.4","v":762},{"$f":"$CD$8*25.4","v":762},{"$f":"$CD$8*25.4","v":762},{"$f":"$CD$8*25.4","v":762},{"$f":"$CH$8*25.4","v":812.8},{"$f":"$CH$8*25.4","v":812.8},{"$f":"$CH$8*25.4","v":812.8},{"$f":"$CH$8*25.4","v":812.8},{"$f":"$CL$8*25.4","v":914.4},{"$f":"$CL$8*25.4","v":914.4},{"$f":"$CL$8*25.4","v":914.4},{"$f":"$CL$8*25.4","v":914.4},{"$f":"$CP$8*25.4","v":1016},{"$f":"$CP$8*25.4","v":1016},1016,1016,354,254,500,230,254,354,290,200,150,130,356,304.8,203,null,null,null,null,null,null,null,null,null,null,null,null,null,0,0,0,0,0,0,0,0,0,0,0,0,0,0,0,0,0,0,0,0,0,0,0,0,0,0,0,0,0,0,0,0,0,0,0,0,0,0,0,0,0,0,0,0,0,0,0,0,0,0,0,0,0,0,0,0,0,0,0,0,0,0,0,0,0,0,0,0,0,0,0,0,0,0,0,0,0,0,0,0,0,0,0,0,0,0,0,0,0,0,0,0,0,0,0,0,0,0,0,0,0,0,0,0,0,0,0,0,0,0,0,0,0,0,0,0,0,0,0,0,0,0,0,0,0,0,0,0,0,0,0]
[null,null,null,4,"  Относительный фокус",10,6,6,8,8,5,5,6,8,5,5,6,8,5,5,6,8,5,5,6,7,5,5,6,7,5,5,6,7,5,5,6,6,5,5,6,6,5,5,5,6,5,4.5,5,6,4.5,4.5,5,5,4,4,4.5,5,4,4,4.5,5,4,4,4.5,5,4,4,4.5,5,4,4,4.5,5,4,4,4.5,5,4,4,4.5,5,4,4,4.5,5,4,4,4.5,4.5,3.5,3.5,4,5,3.5,3.5,4,6,4.7165350000000004,4.5,4.3117391304347832,6,6.0564970000000002,6.4482759999999999,9.5,5,6.9230770000000001,5.0561800000000003,5,4]
[null,null,null,5,"  Линейный диаметр не виньетированного поля зрения  ",8.5,10,26.68,12,8.5,10,26.68,12,8.5,12,26.68,12,8.5,20,26.68,20,8.5,20,26.68,20,8.5,20,26.68,20,8.5,25,26.68,25,8.5,25,26.68,25,8.5,25,26.68,20,8.5,25,26.68,20,8.5,25,26.68,20,8.5,25,26.68,20,8.5,25,26.68,20,8.5,25,26.68,20,8.5,25,26.68,20,8.5,25,26.68,20,8.5,25,26.68,20,8.5,25,26.68,20,8.5,25,26.68,20,8.5,25,26.68,20,8.5,25,26.68,20,8.5,25,26.68,20,8.5,25,26.68,20,13.53,22.72,28.75,28.452196082313876,21.71,28.2,4.4800000000000004,20.48,18.89,15.2,14.67,28.9,23.69]
[null,null,null,6,"  Вынос фокальной плоскости",120,110,120,120,120,110,140,120,135,135,160,150,150,170,170,170,160,180,180,180,180,200,200,200,190,220,210,220,190,220,210,220,190,230,230,230,220,250,250,250,270,270,270,270,250,270,280,280,280,300,300,300,300,340,340,340,350,400,370,370,350,400,400,400,400,420,420,420,430,470,470,470,450,470,470,470,480,490,490,490,530,530,530,530,570,600,600,600,620,650,650,650,287,281.75,335,239,248.5,329,230.75,205.5,147,130.5,287.75,267,205]
[null,null,null,7,"  Расстояние от вершины ГЗ до заднего среза трубы",30,30,30,30,40,40,40,40,40,40,40,40,40,40,40,40,50,50,50,50,60,60,60,60,60,60,60,60,60,60,60,60,60,60,60,60,80,80,80,80,80,80,80,80,100,100,100,100,100,100,100,100,100,100,100,100,120,120,120,120,120,120,120,120,120,120,120,120,150,120,120,120,150,120,120,120,150,150,150,150,150,150,150,150,200,200,200,200,200,200,200,200,100,73.62,120,60,60,100,50,60,50,40,73.62,80,60]
[null,null,null,8,"  Толщина стенки трубы  ",3,3,3,3,3,3,3,3,3,3,3,3,3,3,3,3,3,3,3,3,3,3,3,3,1.5,1.5,1.5,1.5,2,2,2,2,2,2,2,2,2,2,2,2,2,2,2,2,2,2,2,2,2,2,2,2,3,3,3,3,3,3,3,3,3,3,3,3,3,3,3,3,3,3,3,3,3,3,3,3,3,3,3,3,3,3,3,3,3,3,3,3,3,3,3,3,2,0.75,3,1,2,22,0.75,3,3,0.75,0.75,2,3]
[null,null,null,9,"  Диаметр полевой диафрагмы длиннофокусного окуляра",25,25,26.68,25,25,25,26.68,25,25,25,26.68,25,25,42,26.68,42,25,42,26.68,42,25,42,26.68,42,25,42,26.68,42,25,42,26.68,42,25,42,26.68,42,25,42,26.68,42,25,42,26.68,42,25,42,26.68,42,25,42,26.68,42,25,42,26.68,42,25,42,26.68,42,25,42,26.68,42,25,42,26.68,42,25,42,26.68,42,25,42,26.68,42,25,42,26.68,42,25,42,26.68,42,25,42,26.68,42,25,42,26.68,42,33,26.68,42,26.68,42,42,20,25,16,28,30,42,30]
[null,null,null,10,"  Толщина главного зеркала",15,15,15,20,20,20,20,20,20,20,20,20,25,25,25,25,30,30,30,30,35,35,35,35,35,35,35,35,35,35,35,35,35,35,35,35,40,40,40,40,45,45,45,45,50,50,50,50,50,50,50,50,50,50,50,50,70,70,70,70,70,70,70,70,70,70,70,70,80,70,70,70,80,70,70,70,80,80,80,80,80,80,80,80,100,100,100,100,100,100,100,100,50,31,50,35,35,42,20,30,18,15,42,40,25]
[null,null,null,11,"  Толщина диагонального зеркала",5,5,5,5,6,6,6,6,6,6,6,6,6,6,6,6,6,10,12,12,8,12,12,12,8,12,12,12,8,12,12,12,8,12,12,12,8,12,12,12,12,15,15,15,12,18,18,18,12,18,18,18,12,18,18,18,20,25,25,25,20,25,25,25,20,25,25,25,20,25,25,25,20,25,25,25,20,25,25,25,20,25,25,25,20,35,35,35,35,35,35,35,12,11,20,12,12,15,8,8,4.7,6,15,12,12]
[null,null,null,12,"  Положение крепления оправы ГЗ ",10,10,10,10,10,10,10,10,10,10,10,10,15,15,15,15,15,15,15,15,15,15,15,15,15,15,15,15,15,15,15,15,15,15,15,15,20,20,20,20,20,20,20,20,20,20,20,20,20,20,20,20,20,20,20,20,20,20,20,20,20,20,20,20,20,20,20,20,20,20,20,20,20,20,20,20,20,20,20,20,20,20,20,20,20,20,20,20,40,40,40,40,20,29.62,20,15,15,20,20,15,15,10,29.62,20,20]
[null,null,null,13,"  Положение крепления растяжек ДЗ ",28,28,32,28,28,28,40,28,28,35,40,31,34,42,42,42,34,50,55,52,47,60,57,52,44,60,60,60,54,60,60,60,54,60,60,60,50,66,60,66,50,70,75,66,55,80,80,80,65,90,90,90,70,90,95,90,87,110,110,110,87,113,113,110,100,125,125,125,100,125,125,125,105,125,125,125,110,135,135,135,115,150,140,135,130,170,170,170,170,190,190,190,65,72.5,105,65,60,66,50,50,60,60,70,66,62]
[null,null,null,14,"  Отрезок трубы от крепления ДЗ до переднего среза",120,120,120,140,120,120,112,140,124,149,152,148,195,242,236,236,187,244,207,218,180,227,209,211,105,261,116,163,128,191,135,186,198.5,217.5,131,202,163,208,130,198,173,221,132,205,180,253.5,130,204.5,190,266,161.5,300,231,239.5,141.5,300,180.5,203,165,260,316.5,290,176,274.5,264,387.5,240,361.5,267,318,197.8,297,318,464,294,434,311.5,530,335,495,318.5,531.5,344,512.5,365.5,477.5,303.5,443,366,523,331,487,20,57.5,170,55,128.1,19,18,39.700000000000003,0,20,30,20,20]
[null,null,null,15,"  Высота диафрагмирования трубы",13,13.2,14.35,15,13,13.2,17.5,15,13,15.8,16.7,15,20,20,20,20,25,25,25,25,25,25,25,25,29,25,35,30.5,29.2,30.35,36.85,30.35,30,31,37.9,35.700000000000003,30,32.24,35,33.200000000000003,35.299999999999997,40.32,40,41.5,45,47,40,42,47,47.9,50,42,48,53.5,50.5,42,48.65,53.6,52.8,42,50.2,51.1,50.3,50.5,50.5,50.5,50.3,60,62,60,61.5,61.5,63.8,60,62.8,61.5,65.5,67,67,66.8,67,67,68.5,68.2,67,71.5,68.5,68.7,67,73.5,68.5,70.849999999999994,0,0,0,0,30.35,0,0,0,0,0,0,0,0]
[null,null,null,16,"  Диаметр входного отверстия трубы ",110,113,130,127.5,136,138,155,140,161,165,180,163,187,200,208,200,212,225,233,225,237,250,257,250,243,280,263,280,263,282,280,282,288,304,304,300,315,330,330,325,339,360,360,350,365,380,380,375,410,432,432,428,465,484,{"$f":"BH10+BH12","v":483.88},{"$f":"BI10+BI12","v":477.2},{"$f":"BJ10+BJ12","v":516.5},{"$f":"BK10+BK12","v":533},533,530,{"$f":"BN10+BN12","v":567.29999999999995},585,584,580,{"$f":"BR10+BR12","v":618.09999999999991},{"$f":"BS10+BS12","v":634.59999999999991},{"$f":"BT10+BT12","v":636.27999999999986},{"$f":"BU10+BU12","v":20},668.5,683,{"$f":"BX10+BX12","v":687.07999999999993},{"$f":"BY10+BY12","v":680.4},721,{"$f":"CA10+CA12","v":736.19999999999993},737.87999999999988,731.19999999999993,770.5,787,788.68,782,821.3,837.8,839.4799999999999,832.8,922.9,939.4,941.07999999999993,934.4,1024.5,1041,1042.68,1036,383,277,540.88,276,282,384,320,225,168,152,384,330,224]
[null,null,null,17,"  Внутренний диаметр трубы",110,113,130,127.5,136,138,155,140,161,165,180,163,187,200,208,200,212,225,233,225,237,250,257,250,265,298,298,298,284,309,309,309,308,334,334,330,340,360,360,355,359,395,395,385,395,410,410,405,445,460,460,460,495,{"$f":"BG23+20","v":504},{"$f":"BH23+20","v":503.88},{"$f":"BI23+20","v":497.2},{"$f":"BJ23+40","v":556.5},573,573,570,607.29999999999995,625,624,620,{"$f":"BR23+60","v":678.09999999999991},694.59999999999991,696.27999999999986,80,728.5,743,747.07999999999993,740.4,781,796.19999999999993,797.87999999999988,791.19999999999993,830.5,847,848.68,842,{"$f":"CH23+80","v":901.3},917.8,919.4799999999999,912.8,1002.9,1019.4,1021.0799999999999,1014.4,1104.5,1121,1122.68,1116,406,288,541,286,309,384,360,225,168,159.5,394,330,224]
[]
[]
[]
[null,null,null,null,null,6,7,8,9,10,11,12,13,14,15,16,17,18,19,20,21,22,23,24,25,26,27,28,29,30,31,32,33,34,35,36,37,38,39,40,41,42,43,44,45,46,47,48,49,50,51,52,53,54,55,56,57,58,59,60,61,62,63,64,65,66,67,68,69,70,71,72,73,74,75,76,77,78,79,80,81,82,83,84,85,86,87,88,89,90,91,92,93,94,95,96,97,98,99,100,101,102,103,104,105,106,107,108,109,110,111,112,113,114,115,116,13,118,119,120,121,122,123,124,125,126,127,128,129,130,131,132,133,134,135,136,137,138,139,140,141,142,143,144,145,146,147,148,149,150,151,152,153,154,155,156,157,158,159,160,161,162,163,164,165,166,167,168,169,170,171,172,173,174,175,176,177,178,179,180,181,182,183,184,185,186,187,188,189,190,191,192,193,194,195,196,197,198,199,200,201,202,203,204,205,206,207,208,209,210,211,212,213,214,215,216,217,218,219,220,221,222,223,224,225,226,227,228,229,230,231,232,233,234,235,236,237,238,239,240,241,242,243,244,245,246,247,248,249,250,251,252,253,254,255,256,257,258,259,260,261,262,263,264,265,266,267,268,269,270,271,272,273,274,275,276,277,278,279,280,281,282,283,284,285,286,287,288,289]
[null,null,null,null,null,{"$f":"MATCH(0,F10:ML10,0)+5","v":124}]

{"sheet":"Дифракционный анализ","index":2,"n_rows":50,"n_cols":4,"rows_kept":50,"cut":false,"hidden":false,"merged":[]}
[]
[]
[]
[]
[]
[]
[]
[]
[]
[]
[]
[]
[]
[]
[]
[]
[]
[]
[]
[]
[]
[]
[]
[]
[]
[]
[]
[]
[]
[]
[]
[]
[]
[]
[]
[]
[]
[]
[]
[]
[]
[]
[]
[]
[]
[]
[]
[]
[]
[null,null,"Уровень первого кольца",{"$f":"'Исходные данные'!BI1119","v":4.3071636527810639E-2}]

{"sheet":"Виньетирование","index":3,"n_rows":202,"n_cols":136,"rows_kept":202,"cut":false,"hidden":false,"merged":[[140,33,151,33],[159,33,170,33],[156,79,156,84],[155,79,155,84],[135,79,135,84],[136,79,136,84],[137,79,137,84],[154,79,154,84]]}
[]
[]
[]
[]
[]
[]
[]
[]
[]
[]
[]
[]
[]
[]
[]
[]
[]
[]
[]
[]
[]
[]
[]
[]
[]
[]
[]
[]
[]
[]
[]
[]
[]
[]
[]
[]
[null,null,"Невиньетированное поле зрения",{"$f":"'Исходные данные'!F10","v":18.89},"мм",null,null,null,{"$f":"'Исходные данные'!F38","v":"01º26'34\""},null,null,null,null,null,null,null," "]
[null,null,null,null,null,null,null,null,null,null,null,null,null,null,null," ","       "]
[null,null,"Максимальное поле зрения",{"$f":"'Исходные данные'!F18","v":16},"мм",null,null,null,{"$f":"'Исходные данные'!F40","v":"01º13'20\""}]
[]
[null,null,"Диаметр входного отверстия трубы",{"$f":"'Исходные данные'!F32","v":164},"мм"]
[]
[]
[]
[]
[]
[]
[]
[]
[]
[]
[]
[]
[]
[]
[]
[]
[]
[]
[]
[]
[]
[]
[]
[]
[]
[]
[]
[]
[]
[]
[]
[]
[]
[]
[]
[]
[]
[]
[]
[]
[]
[]
[]
[]
[]
[]
[]
[]
[]
[]
[]
[]
[]
[]
[]
[]
[]
[]
[]
[]
[]
[]
[]
[]
[]
[]
[]
[]
[]
[]
[]
[]
[]
[]
[]
[]
[]
[]
[]
[]
[]
[]
[]
[]
[]
[]
[null,null,null,null,null,null,null,null,null,null,null,null,null,null,null,null,null,null,null,null,null,null,null,null,null,null,null,null,null,null,null,null,null,null,null,null,null,null,null,null,null,null,null,null,null,null,null,null,null,null,null,null,null,null,null,null,null,null,null,null,null,null,null,null,null,null,null,null,null,null,null,null,null,null,null,null,null,null,null,null,null,"D",4]
[null,null,null,null,null,null,null,null,null,null,null,null,null,null,null,null,null,null,null,null,null,null,null,null,null,null,null,null,null,null,null,null,null,null,null,null,null,null,null,null,null,null,null,null,null,null,null,null,null,null,null,null,null,null,null,null,null,null,null,null,null,null,null,null,null,null,null,null,null,null,null,null,null,null,null,null,null,null,null,null,null,"H",2]
[null,null,null,null,null,null,null,null,null,null,null,null,null,null,null,null,null,null,null,null,null,null,null,null,null,null,null,null,null,null,null,null,null,null,null,null,null,null,null,null,null,null,null,null,null,null,null,null,null,null,null,null,null,null,null,null,null,null,null,null,null,null,null,null,null,null,null,null,null,null,null,null,null,null,null,null,null,null,null,null,null,"F",16]
[null,null,null,null,null,null,null,null,null,null,null,null,null,null,null,null,null,null,null,null,null,null,null,null,null,null,null,null,null,null,null,null,null,null,null,null,null,null,null,null,null,null,null,null,null,null,null,null,null,null,null,null,null,null,null,null,null,null,null,null,null,null,null,null,null,null,null,null,null,null,null,null,null,null,null,null,null,null,null,null,null,null,{"$f":"(CE128*CE129/CE130)/2","v":0.25}]
[]
[]
[null,null,null,null,null,null,null,null,null,null,null,null,null,null,null,null,null,null,null,null,null,null,null,null,null,null,null,null,null,null,null,null,null,null,null,{"$f":"'Исходные данные'!$F$18/2/50*AJ$135","v":8},{"$f":"'Исходные данные'!$F$18/2/50*AK$135","v":7.84},{"$f":"'Исходные данные'!$F$18/2/50*AL$135","v":7.68},{"$f":"'Исходные данные'!$F$18/2/50*AM$135","v":7.5200000000000005},{"$f":"'Исходные данные'!$F$18/2/50*AN$135","v":7.36},{"$f":"'Исходные данные'!$F$18/2/50*AO$135","v":7.2},{"$f":"'Исходные данные'!$F$18/2/50*AP$135","v":7.04},{"$f":"'Исходные данные'!$F$18/2/50*AQ$135","v":6.88},{"$f":"'Исходные данные'!$F$18/2/50*AR$135","v":6.72},{"$f":"'Исходные данные'!$F$18/2/50*AS$135","v":6.5600000000000005},{"$f":"'Исходные данные'!$F$18/2/50*AT$135","v":6.4},{"$f":"'Исходные данные'!$F$18/2/50*AU$135","v":6.24},{"$f":"'Исходные данные'!$F$18/2/50*AV$135","v":6.08},{"$f":"'Исходные данные'!$F$18/2/50*AW$135","v":5.92},{"$f":"'Исходные данные'!$F$18/2/50*AX$135","v":5.76},{"$f":"'Исходные данные'!$F$18/2/50*AY$135","v":5.6000000000000005},{"$f":"'Исходные данные'!$F$18/2/50*AZ$135","v":5.44},{"$f":"'Исходные данные'!$F$18/2/50*BA$135","v":5.28},{"$f":"'Исходные данные'!$F$18/2/50*BB$135","v":5.12},{"$f":"'Исходные данные'!$F$18/2/50*BC$135","v":4.96},{"$f":"'Исходные данные'!$F$18/2/50*BD$135","v":4.8},{"$f":"'Исходные данные'!$F$18/2/50*BE$135","v":4.6399999999999997},{"$f":"'Исходные данные'!$F$18/2/50*BF$135","v":4.4800000000000004},{"$f":"'Исходные данные'!$F$18/2/50*BG$135","v":4.32},{"$f":"'Исходные данные'!$F$18/2/50*BH$135","v":4.16},{"$f":"'Исходные данные'!$F$18/2/50*BI$135","v":4},{"$f":"'Исходные данные'!$F$18/2/50*BJ$135","v":3.84},{"$f":"'Исходные данные'!$F$18/2/50*BK$135","v":3.68},{"$f":"'Исходные данные'!$F$18/2/50*BL$135","v":3.52},{"$f":"'Исходные данные'!$F$18/2/50*BM$135","v":3.36},{"$f":"'Исходные данные'!$F$18/2/50*BN$135","v":3.2},{"$f":"'Исходные данные'!$F$18/2/50*BO$135","v":3.04},{"$f":"'Исходные данные'!$F$18/2/50*BP$135","v":2.88},{"$f":"'Исходные данные'!$F$18/2/50*BQ$135","v":2.72},{"$f":"'Исходные данные'!$F$18/2/50*BR$135","v":2.56},{"$f":"'Исходные данные'!$F$18/2/50*BS$135","v":2.4},{"$f":"'Исходные данные'!$F$18/2/50*BT$135","v":2.2400000000000002},{"$f":"'Исходные данные'!$F$18/2/50*BU$135","v":2.08},{"$f":"'Исходные данные'!$F$18/2/50*BV$135","v":1.92},{"$f":"'Исходные данные'!$F$18/2/50*BW$135","v":1.76},{"$f":"'Исходные данные'!$F$18/2/50*BX$135","v":1.6},{"$f":"'Исходные данные'!$F$18/2/50*BY$135","v":1.44},{"$f":"'Исходные данные'!$F$18/2/50*BZ$135","v":1.28},{"$f":"'Исходные данные'!$F$18/2/50*CA$135","v":1.1200000000000001},{"$f":"'Исходные данные'!$F$18/2/50*CB$135","v":0.96},{"$f":"'Исходные данные'!$F$18/2/50*CC$135","v":0.8},{"$f":"'Исходные данные'!$F$18/2/50*CD$135","v":0.64},{"$f":"'Исходные данные'!$F$18/2/50*CE$135","v":0.48},{"$f":"'Исходные данные'!$F$18/2/50*CF$135","v":0.32},{"$f":"'Исходные данные'!$F$18/2/50*CG$135","v":0.16},0,{"$f":"'Исходные данные'!$F$18/2/50*CI$135","v":0.16},{"$f":"'Исходные данные'!$F$18/2/50*CJ$135","v":0.32},{"$f":"'Исходные данные'!$F$18/2/50*CK$135","v":0.48},{"$f":"'Исходные данные'!$F$18/2/50*CL$135","v":0.64},{"$f":"'Исходные данные'!$F$18/2/50*CM$135","v":0.8},{"$f":"'Исходные данные'!$F$18/2/50*CN$135","v":0.96},{"$f":"'Исходные данные'!$F$18/2/50*CO$135","v":1.1200000000000001},{"$f":"'Исходные данные'!$F$18/2/50*CP$135","v":1.28},{"$f":"'Исходные данные'!$F$18/2/50*CQ$135","v":1.44},{"$f":"'Исходные данные'!$F$18/2/50*CR$135","v":1.6},{"$f":"'Исходные данные'!$F$18/2/50*CS$135","v":1.76},{"$f":"'Исходные данные'!$F$18/2/50*CT$135","v":1.92},{"$f":"'Исходные данные'!$F$18/2/50*CU$135","v":2.08},{"$f":"'Исходные данные'!$F$18/2/50*CV$135","v":2.2400000000000002},{"$f":"'Исходные данные'!$F$18/2/50*CW$135","v":2.4},{"$f":"'Исходные данные'!$F$18/2/50*CX$135","v":2.56},{"$f":"'Исходные данные'!$F$18/2/50*CY$135","v":2.72},{"$f":"'Исходные данные'!$F$18/2/50*CZ$135","v":2.88},{"$f":"'Исходные данные'!$F$18/2/50*DA$135","v":3.04},{"$f":"'Исходные данные'!$F$18/2/50*DB$135","v":3.2},{"$f":"'Исходные данные'!$F$18/2/50*DC$135","v":3.36},{"$f":"'Исходные данные'!$F$18/2/50*DD$135","v":3.52},{"$f":"'Исходные данные'!$F$18/2/50*DE$135","v":3.68},{"$f":"'Исходные данные'!$F$18/2/50*DF$135","v":3.84},{"$f":"'Исходные данные'!$F$18/2/50*DG$135","v":4},{"$f":"'Исходные данные'!$F$18/2/50*DH$135","v":4.16},{"$f":"'Исходные данные'!$F$18/2/50*DI$135","v":4.32},{"$f":"'Исходные данные'!$F$18/2/50*DJ$135","v":4.4800000000000004},{"$f":"'Исходные данные'!$F$18/2/50*DK$135","v":4.6399999999999997},{"$f":"'Исходные данные'!$F$18/2/50*DL$135","v":4.8},{"$f":"'Исходные данные'!$F$18/2/50*DM$135","v":4.96},{"$f":"'Исходные данные'!$F$18/2/50*DN$135","v":5.12},{"$f":"'Исходные данные'!$F$18/2/50*DO$135","v":5.28},{"$f":"'Исходные данные'!$F$18/2/50*DP$135","v":5.44},{"$f":"'Исходные данные'!$F$18/2/50*DQ$135","v":5.6000000000000005},{"$f":"'Исходные данные'!$F$18/2/50*DR$135","v":5.76},{"$f":"'Исходные данные'!$F$18/2/50*DS$135","v":5.92},{"$f":"'Исходные данные'!$F$18/2/50*DT$135","v":6.08},{"$f":"'Исходные данные'!$F$18/2/50*DU$135","v":6.24},{"$f":"'Исходные данные'!$F$18/2/50*DV$135","v":6.4},{"$f":"'Исходные данные'!$F$18/2/50*DW$135","v":6.5600000000000005},{"$f":"'Исходные данные'!$F$18/2/50*DX$135","v":6.72},{"$f":"'Исходные данные'!$F$18/2/50*DY$135","v":6.88},{"$f":"'Исходные данные'!$F$18/2/50*DZ$135","v":7.04},{"$f":"'Исходные данные'!$F$18/2/50*EA$135","v":7.2},{"$f":"'Исходные данные'!$F$18/2/50*EB$135","v":7.36},{"$f":"'Исходные данные'!$F$18/2/50*EC$135","v":7.5200000000000005},{"$f":"'Исходные данные'!$F$18/2/50*ED$135","v":7.68},{"$f":"'Исходные данные'!$F$18/2/50*EE$135","v":7.84},{"$f":"'Исходные данные'!$F$18/2/50*EF$135","v":8}]
[null,null,null,null,null,null,null,null,null,null,null,null,null,null,null,null,null,null,null,null,null,null,null,null,null,null,null,null,null,null,null,null,null,null,null,50,49,48,47,46,45,44,43,42,41,40,39,38,37,36,35,34,33,32,31,30,29,28,27,26,25,24,23,22,21,20,19,18,17,16,15,14,13,12,11,10,9,8,7,6,5,4,3,2,1,0,1,2,3,4,5,6,7,8,9,10,11,12,13,14,15,16,17,18,19,20,21,22,23,24,25,26,27,28,29,30,31,32,33,34,35,36,37,38,39,40,41,42,43,44,45,46,47,48,49,50]
[null,null,null,null,null,null,null,null,null,null,null,null,null,null,null,null,null,null,null,null,null,null,null,null,null,null,null,null,null,null,null,null,null,null,null,null,null,null,null,null,null,null,null,null,null,null,null,null,null,null,null,null,null,null,null,null,null,null,null,null,null,null,null,null,null,null,null,null,null,null,null,null,null,null,null,null,null,null,null,"Радиус виньетирующей окружности",null,null,null,null,null,{"$f":"'Исходные данные'!F46/2","v":22.498733780240599}]
[null,null,null,null,null,null,null,null,null,null,null,null,null,null,null,null,null,null,null,null,null,null,null,null,null,null,null,null,null,null,null,null,null,null,null,null,null,null,null,null,null,null,null,null,null,null,null,null,null,null,null,null,null,null,null,null,null,null,null,null,null,null,null,null,null,null,null,null,null,null,null,null,null,null,null,null,null,null,null,"Радиус сечения виньетируемого потока лучей",null,null,null,null,null,{"$f":"'Исходные данные'!F6*'Исходные данные'!F12/'Исходные данные'!F36/2","v":14.7}]
[null,null,null,null,null,null,null,null,null,null,null,null,null,null,null,null,null,null,null,null,null,null,null,null,null,null,null,null,null,null,null,null,null,null,null,null,null,null,null,null,null,null,null,null,null,null,null,null,null,null,null,null,null,null,null,null,null,null,null,null,null,null,null,null,null,null,null,null,null,null,null,null,null,null,null,null,null,null,null,"Радиус ЦЭ в плоскости виньетирования",null,null,null,null,null,{"$f":"CH137*'Исходные данные'!F42/100","v":4.4097518209271565}]
[null,null,null,null,null,null,null,null,null,null,null,null,null,null,null,null,null,null,null,null,null,null,null,null,null,null,null,null,null,null,null,null,null,null,null,{"$f":"AJ134*('Исходные данные'!$F$36-'Исходные данные'!$F$12)/'Исходные данные'!$F$36","v":6.4320000000000004},{"$f":"AK134*('Исходные данные'!$F$36-'Исходные данные'!$F$12)/'Исходные данные'!$F$36","v":6.3033599999999996},{"$f":"AL134*('Исходные данные'!$F$36-'Исходные данные'!$F$12)/'Исходные данные'!$F$36","v":6.1747199999999998},{"$f":"AM134*('Исходные данные'!$F$36-'Исходные данные'!$F$12)/'Исходные данные'!$F$36","v":6.0460800000000008},{"$f":"AN134*('Исходные данные'!$F$36-'Исходные данные'!$F$12)/'Исходные данные'!$F$36","v":5.91744},{"$f":"AO134*('Исходные данные'!$F$36-'Исходные данные'!$F$12)/'Исходные данные'!$F$36","v":5.7888000000000002},{"$f":"AP134*('Исходные данные'!$F$36-'Исходные данные'!$F$12)/'Исходные данные'!$F$36","v":5.6601599999999994},{"$f":"AQ134*('Исходные данные'!$F$36-'Исходные данные'!$F$12)/'Исходные данные'!$F$36","v":5.5315200000000004},{"$f":"AR134*('Исходные данные'!$F$36-'Исходные данные'!$F$12)/'Исходные данные'!$F$36","v":5.4028799999999997},{"$f":"AS134*('Исходные данные'!$F$36-'Исходные данные'!$F$12)/'Исходные данные'!$F$36","v":5.2742400000000007},{"$f":"AT134*('Исходные данные'!$F$36-'Исходные данные'!$F$12)/'Исходные данные'!$F$36","v":5.1456},{"$f":"AU134*('Исходные данные'!$F$36-'Исходные данные'!$F$12)/'Исходные данные'!$F$36","v":5.0169600000000001},{"$f":"AV134*('Исходные данные'!$F$36-'Исходные данные'!$F$12)/'Исходные данные'!$F$36","v":4.8883200000000002},{"$f":"AW134*('Исходные данные'!$F$36-'Исходные данные'!$F$12)/'Исходные данные'!$F$36","v":4.7596799999999995},{"$f":"AX134*('Исходные данные'!$F$36-'Исходные данные'!$F$12)/'Исходные данные'!$F$36","v":4.6310399999999996},{"$f":"AY134*('Исходные данные'!$F$36-'Исходные данные'!$F$12)/'Исходные данные'!$F$36","v":4.5024000000000006},{"$f":"AZ134*('Исходные данные'!$F$36-'Исходные данные'!$F$12)/'Исходные данные'!$F$36","v":4.3737599999999999},{"$f":"BA134*('Исходные данные'!$F$36-'Исходные данные'!$F$12)/'Исходные данные'!$F$36","v":4.24512},{"$f":"BB134*('Исходные данные'!$F$36-'Исходные данные'!$F$12)/'Исходные данные'!$F$36","v":4.1164800000000001},{"$f":"BC134*('Исходные данные'!$F$36-'Исходные данные'!$F$12)/'Исходные данные'!$F$36","v":3.9878400000000003},{"$f":"BD134*('Исходные данные'!$F$36-'Исходные данные'!$F$12)/'Исходные данные'!$F$36","v":3.8592},{"$f":"BE134*('Исходные данные'!$F$36-'Исходные данные'!$F$12)/'Исходные данные'!$F$36","v":3.7305599999999997},{"$f":"BF134*('Исходные данные'!$F$36-'Исходные данные'!$F$12)/'Исходные данные'!$F$36","v":3.6019200000000002},{"$f":"BG134*('Исходные данные'!$F$36-'Исходные данные'!$F$12)/'Исходные данные'!$F$36","v":3.4732799999999999},{"$f":"BH134*('Исходные данные'!$F$36-'Исходные данные'!$F$12)/'Исходные данные'!$F$36","v":3.3446400000000001},{"$f":"BI134*('Исходные данные'!$F$36-'Исходные данные'!$F$12)/'Исходные данные'!$F$36","v":3.2160000000000002},{"$f":"BJ134*('Исходные данные'!$F$36-'Исходные данные'!$F$12)/'Исходные данные'!$F$36","v":3.0873599999999999},{"$f":"BK134*('Исходные данные'!$F$36-'Исходные данные'!$F$12)/'Исходные данные'!$F$36","v":2.95872},{"$f":"BL134*('Исходные данные'!$F$36-'Исходные данные'!$F$12)/'Исходные данные'!$F$36","v":2.8300799999999997},{"$f":"BM134*('Исходные данные'!$F$36-'Исходные данные'!$F$12)/'Исходные данные'!$F$36","v":2.7014399999999998},{"$f":"BN134*('Исходные данные'!$F$36-'Исходные данные'!$F$12)/'Исходные данные'!$F$36","v":2.5728},{"$f":"BO134*('Исходные данные'!$F$36-'Исходные данные'!$F$12)/'Исходные данные'!$F$36","v":2.4441600000000001},{"$f":"BP134*('Исходные данные'!$F$36-'Исходные данные'!$F$12)/'Исходные данные'!$F$36","v":2.3155199999999998},{"$f":"BQ134*('Исходные данные'!$F$36-'Исходные данные'!$F$12)/'Исходные данные'!$F$36","v":2.1868799999999999},{"$f":"BR134*('Исходные данные'!$F$36-'Исходные данные'!$F$12)/'Исходные данные'!$F$36","v":2.0582400000000001},{"$f":"BS134*('Исходные данные'!$F$36-'Исходные данные'!$F$12)/'Исходные данные'!$F$36","v":1.9296},{"$f":"BT134*('Исходные данные'!$F$36-'Исходные данные'!$F$12)/'Исходные данные'!$F$36","v":1.8009600000000001},{"$f":"BU134*('Исходные данные'!$F$36-'Исходные данные'!$F$12)/'Исходные данные'!$F$36","v":1.67232},{"$f":"BV134*('Исходные данные'!$F$36-'Исходные данные'!$F$12)/'Исходные данные'!$F$36","v":1.5436799999999999},{"$f":"BW134*('Исходные данные'!$F$36-'Исходные данные'!$F$12)/'Исходные данные'!$F$36","v":1.4150399999999999},{"$f":"BX134*('Исходные данные'!$F$36-'Исходные данные'!$F$12)/'Исходные данные'!$F$36","v":1.2864},{"$f":"BY134*('Исходные данные'!$F$36-'Исходные данные'!$F$12)/'Исходные данные'!$F$36","v":1.1577599999999999},{"$f":"BZ134*('Исходные данные'!$F$36-'Исходные данные'!$F$12)/'Исходные данные'!$F$36","v":1.02912},{"$f":"CA134*('Исходные данные'!$F$36-'Исходные данные'!$F$12)/'Исходные данные'!$F$36","v":0.90048000000000006},{"$f":"CB134*('Исходные данные'!$F$36-'Исходные данные'!$F$12)/'Исходные данные'!$F$36","v":0.77183999999999997},{"$f":"CC134*('Исходные данные'!$F$36-'Исходные данные'!$F$12)/'Исходные данные'!$F$36","v":0.64319999999999999},{"$f":"CD134*('Исходные данные'!$F$36-'Исходные данные'!$F$12)/'Исходные данные'!$F$36","v":0.51456000000000002},{"$f":"CE134*('Исходные данные'!$F$36-'Исходные данные'!$F$12)/'Исходные данные'!$F$36","v":0.38591999999999999},{"$f":"CF134*('Исходные данные'!$F$36-'Исходные данные'!$F$12)/'Исходные данные'!$F$36","v":0.25728000000000001},{"$f":"CG134*('Исходные данные'!$F$36-'Исходные данные'!$F$12)/'Исходные данные'!$F$36","v":0.12864},{"$f":"CH134*('Исходные данные'!$F$36-'Исходные данные'!$F$12)/'Исходные данные'!$F$36","v":0},{"$f":"CI134*('Исходные данные'!$F$36-'Исходные данные'!$F$12)/'Исходные данные'!$F$36","v":0.12864},{"$f":"CJ134*('Исходные данные'!$F$36-'Исходные данные'!$F$12)/'Исходные данные'!$F$36","v":0.25728000000000001},{"$f":"CK134*('Исходные данные'!$F$36-'Исходные данные'!$F$12)/'Исходные данные'!$F$36","v":0.38591999999999999},{"$f":"CL134*('Исходные данные'!$F$36-'Исходные данные'!$F$12)/'Исходные данные'!$F$36","v":0.51456000000000002},{"$f":"CM134*('Исходные данные'!$F$36-'Исходные данные'!$F$12)/'Исходные данные'!$F$36","v":0.64319999999999999},{"$f":"CN134*('Исходные данные'!$F$36-'Исходные данные'!$F$12)/'Исходные данные'!$F$36","v":0.77183999999999997},{"$f":"CO134*('Исходные данные'!$F$36-'Исходные данные'!$F$12)/'Исходные данные'!$F$36","v":0.90048000000000006},{"$f":"CP134*('Исходные данные'!$F$36-'Исходные данные'!$F$12)/'Исходные данные'!$F$36","v":1.02912},{"$f":"CQ134*('Исходные данные'!$F$36-'Исходные данные'!$F$12)/'Исходные данные'!$F$36","v":1.1577599999999999},{"$f":"CR134*('Исходные данные'!$F$36-'Исходные данные'!$F$12)/'Исходные данные'!$F$36","v":1.2864},{"$f":"CS134*('Исходные данные'!$F$36-'Исходные данные'!$F$12)/'Исходные данные'!$F$36","v":1.4150399999999999},{"$f":"CT134*('Исходные данные'!$F$36-'Исходные данные'!$F$12)/'Исходные данные'!$F$36","v":1.5436799999999999},{"$f":"CU134*('Исходные данные'!$F$36-'Исходные данные'!$F$12)/'Исходные данные'!$F$36","v":1.67232},{"$f":"CV134*('Исходные данные'!$F$36-'Исходные данные'!$F$12)/'Исходные данные'!$F$36","v":1.8009600000000001},{"$f":"CW134*('Исходные данные'!$F$36-'Исходные данные'!$F$12)/'Исходные данные'!$F$36","v":1.9296},{"$f":"CX134*('Исходные данные'!$F$36-'Исходные данные'!$F$12)/'Исходные данные'!$F$36","v":2.0582400000000001},{"$f":"CY134*('Исходные данные'!$F$36-'Исходные данные'!$F$12)/'Исходные данные'!$F$36","v":2.1868799999999999},{"$f":"CZ134*('Исходные данные'!$F$36-'Исходные данные'!$F$12)/'Исходные данные'!$F$36","v":2.3155199999999998},{"$f":"DA134*('Исходные данные'!$F$36-'Исходные данные'!$F$12)/'Исходные данные'!$F$36","v":2.4441600000000001},{"$f":"DB134*('Исходные данные'!$F$36-'Исходные данные'!$F$12)/'Исходные данные'!$F$36","v":2.5728},{"$f":"DC134*('Исходные данные'!$F$36-'Исходные данные'!$F$12)/'Исходные данные'!$F$36","v":2.7014399999999998},{"$f":"DD134*('Исходные данные'!$F$36-'Исходные данные'!$F$12)/'Исходные данные'!$F$36","v":2.8300799999999997},{"$f":"DE134*('Исходные данные'!$F$36-'Исходные данные'!$F$12)/'Исходные данные'!$F$36","v":2.95872},{"$f":"DF134*('Исходные данные'!$F$36-'Исходные данные'!$F$12)/'Исходные данные'!$F$36","v":3.0873599999999999},{"$f":"DG134*('Исходные данные'!$F$36-'Исходные данные'!$F$12)/'Исходные данные'!$F$36","v":3.2160000000000002},{"$f":"DH134*('Исходные данные'!$F$36-'Исходные данные'!$F$12)/'Исходные данные'!$F$36","v":3.3446400000000001},{"$f":"DI134*('Исходные данные'!$F$36-'Исходные данные'!$F$12)/'Исходные данные'!$F$36","v":3.4732799999999999},{"$f":"DJ134*('Исходные данные'!$F$36-'Исходные данные'!$F$12)/'Исходные данные'!$F$36","v":3.6019200000000002},{"$f":"DK134*('Исходные данные'!$F$36-'Исходные данные'!$F$12)/'Исходные данные'!$F$36","v":3.7305599999999997},{"$f":"DL134*('Исходные данные'!$F$36-'Исходные данные'!$F$12)/'Исходные данные'!$F$36","v":3.8592},{"$f":"DM134*('Исходные данные'!$F$36-'Исходные данные'!$F$12)/'Исходные данные'!$F$36","v":3.9878400000000003},{"$f":"DN134*('Исходные данные'!$F$36-'Исходные данные'!$F$12)/'Исходные данные'!$F$36","v":4.1164800000000001},{"$f":"DO134*('Исходные данные'!$F$36-'Исходные данные'!$F$12)/'Исходные данные'!$F$36","v":4.24512},{"$f":"DP134*('Исходные данные'!$F$36-'Исходные данные'!$F$12)/'Исходные данные'!$F$36","v":4.3737599999999999},{"$f":"DQ134*('Исходные данные'!$F$36-'Исходные данные'!$F$12)/'Исходные данные'!$F$36","v":4.5024000000000006},{"$f":"DR134*('Исходные данные'!$F$36-'Исходные данные'!$F$12)/'Исходные данные'!$F$36","v":4.6310399999999996},{"$f":"DS134*('Исходные данные'!$F$36-'Исходные данные'!$F$12)/'Исходные данные'!$F$36","v":4.7596799999999995},{"$f":"DT134*('Исходные данные'!$F$36-'Исходные данные'!$F$12)/'Исходные данные'!$F$36","v":4.8883200000000002},{"$f":"DU134*('Исходные данные'!$F$36-'Исходные данные'!$F$12)/'Исходные данные'!$F$36","v":5.0169600000000001},{"$f":"DV134*('Исходные данные'!$F$36-'Исходные данные'!$F$12)/'Исходные данные'!$F$36","v":5.1456},{"$f":"DW134*('Исходные данные'!$F$36-'Исходные данные'!$F$12)/'Исходные данные'!$F$36","v":5.2742400000000007},{"$f":"DX134*('Исходные данные'!$F$36-'Исходные данные'!$F$12)/'Исходные данные'!$F$36","v":5.4028799999999997},{"$f":"DY134*('Исходные данные'!$F$36-'Исходные данные'!$F$12)/'Исходные данные'!$F$36","v":5.5315200000000004},{"$f":"DZ134*('Исходные данные'!$F$36-'Исходные данные'!$F$12)/'Исходные данные'!$F$36","v":5.6601599999999994},{"$f":"EA134*('Исходные данные'!$F$36-'Исходные данные'!$F$12)/'Исходные данные'!$F$36","v":5.7888000000000002},{"$f":"EB134*('Исходные данные'!$F$36-'Исходные данные'!$F$12)/'Исходные данные'!$F$36","v":5.91744},{"$f":"EC134*('Исходные данные'!$F$36-'Исходные данные'!$F$12)/'Исходные данные'!$F$36","v":6.0460800000000008},{"$f":"ED134*('Исходные данные'!$F$36-'Исходные данные'!$F$12)/'Исходные данные'!$F$36","v":6.1747199999999998},{"$f":"EE134*('Исходные данные'!$F$36-'Исходные данные'!$F$12)/'Исходные данные'!$F$36","v":6.3033599999999996},{"$f":"EF134*('Исходные данные'!$F$36-'Исходные данные'!$F$12)/'Исходные данные'!$F$36","v":6.4320000000000004}]
[]
[null,null,null,null,null,null,null,null,null,null,null,null,null,null,null,null,null,null,null,null,null,null,null,null,null,null,null,null,null,null,null,null,null,"Виньетирование диагональным зеркалом",1,{"$f":"(AJ139^2+$CH$136^2-$CH$137^2)/(2*AJ139)","v":25.767540867081731},26.163456394981367,26.578548403210139,27.014040922427373,27.471264420741019,27.951667630090817,28.45683098532016,28.988481938467128,29.548512460811587,30.138999106197232,30.762226083852177,31.420711880874023,32.11724008826544,32.854895225786137,33.637104537613517,34.467686952973907,35.350910686884909,36.291561313760205,37.295022604815209,38.36737301142216,39.515501445136223,40.747247012209904,42.071568691217394,43.498752716818032,45.040667821311025,46.711081734163464,48.526056806420293,50.504448841482038,52.668541970640327,55.044864921623187,57.665252167704338,60.568240176530892,63.800929075227053,67.421501373769814,71.502685209630428,76.136602890272457,81.441697382434768,87.572855642622059,94.736593612840565,103.21452394128065,113.40090433540868,125.8652181504541,141.46169041926083,161.53267476486954,188.31542722568116,225.83700867081737,282.15154083852167,376.0519744513623,563.9171616770434,{"$f":"(CG139^2+$CH$136^2-$CH$137^2)/(2*CG139)","v":1127.6413633540869},{"$f":"(CH139^2+$CH$136^2-$CH$137^2)/(2*CH139)","v":{"$error":"#DIV/0!"}},{"$f":"(CI139^2+$CH$136^2-$CH$137^2)/(2*CI139)","v":1127.6413633540869},{"$f":"(CJ139^2+$CH$136^2-$CH$137^2)/(2*CJ139)","v":563.9171616770434},376.0519744513623,282.15154083852167,225.83700867081737,188.31542722568116,161.53267476486954,141.46169041926083,125.8652181504541,113.40090433540868,103.21452394128065,94.736593612840565,87.572855642622059,81.441697382434768,76.136602890272457,71.502685209630428,67.421501373769814,63.800929075227053,60.568240176530892,57.665252167704338,55.044864921623187,52.668541970640327,50.504448841482038,48.526056806420293,46.711081734163464,45.040667821311025,43.498752716818032,42.071568691217394,40.747247012209904,39.515501445136223,38.36737301142216,37.295022604815209,36.291561313760205,35.350910686884909,34.467686952973907,33.637104537613517,32.854895225786137,32.11724008826544,31.420711880874023,30.762226083852177,30.138999106197232,29.548512460811587,28.988481938467128,28.45683098532016,27.951667630090817,27.471264420741019,27.014040922427373,26.578548403210139,26.163456394981367,{"$f":"(EF139^2+$CH$136^2-$CH$137^2)/(2*EF139)","v":25.767540867081731}]
[null,null,null,null,null,null,null,null,null,null,null,null,null,null,null,null,null,null,null,null,null,null,null,null,null,null,null,null,null,null,null,null,null,null,2,{"$f":"(AJ139^2-$CH$136^2+$CH$137^2)/(2*AJ139)","v":-19.335540867081733},-19.860096394981365,-20.403828403210142,-20.967960922427373,-21.553824420741016,-22.162867630090819,-22.796670985320155,-23.456961938467131,-24.145632460811594,-24.864759106197234,-25.616626083852172,-26.403751880874022,-27.22892008826544,-28.095215225786134,-29.006064537613526,-29.965286952973905,-30.977150686884912,-32.046441313760205,-33.178542604815213,-34.379533011422154,-35.656301445136229,-37.016687012209893,-38.469648691217387,-40.025472716818037,-41.696027821311027,-43.495081734163477,-45.438696806420289,-47.545728841482031,-49.838461970640317,-52.343424921623182,-55.092452167704344,-58.124080176530889,-61.485409075227054,-65.234621373769812,-69.44444520963043,-74.207002890272463,-79.640737382434764,-85.90053564262206,-93.19291361284057,-101.79948394128063,-112.1145043354087,-124.7074581504541,-140.43257041926086,-160.63219476486952,-187.54358722568114,-225.19380867081736,-281.63698083852171,-375.66605445136224,-563.65988167704336,{"$f":"(CG139^2-$CH$136^2+$CH$137^2)/(2*CG139)","v":-1127.5127233540868},{"$f":"(CH139^2-$CH$136^2+$CH$137^2)/(2*CH139)","v":{"$error":"#DIV/0!"}},{"$f":"(CI139^2-$CH$136^2+$CH$137^2)/(2*CI139)","v":-1127.5127233540868},{"$f":"(CJ139^2-$CH$136^2+$CH$137^2)/(2*CJ139)","v":-563.65988167704336},-375.66605445136224,-281.63698083852171,-225.19380867081736,-187.54358722568114,-160.63219476486952,-140.43257041926086,-124.7074581504541,-112.1145043354087,-101.79948394128063,-93.19291361284057,-85.90053564262206,-79.640737382434764,-74.207002890272463,-69.44444520963043,-65.234621373769812,-61.485409075227054,-58.124080176530889,-55.092452167704344,-52.343424921623182,-49.838461970640317,-47.545728841482031,-45.438696806420289,-43.495081734163477,-41.696027821311027,-40.025472716818037,-38.469648691217387,-37.016687012209893,-35.656301445136229,-34.379533011422154,-33.178542604815213,-32.046441313760205,-30.977150686884912,-29.965286952973905,-29.006064537613526,-28.095215225786134,-27.22892008826544,-26.403751880874022,-25.616626083852172,-24.864759106197234,-24.145632460811594,-23.456961938467131,-22.796670985320155,-22.162867630090819,-21.553824420741016,-20.967960922427373,-20.403828403210142,-19.860096394981365,{"$f":"(EF139^2-$CH$136^2+$CH$137^2)/(2*EF139)","v":-19.335540867081733}]
[null,null,null,null,null,null,null,null,null,null,null,null,null,null,null,null,null,null,null,null,null,null,null,null,null,null,null,null,null,null,null,null,null,null,3,{"$f":"AJ141+AJ142","v":6.4319999999999986},6.3033600000000014,6.1747199999999971,6.0460799999999999,5.9174400000000027,5.7887999999999984,5.6601600000000047,5.5315199999999969,5.4028799999999926,5.2742399999999989,5.1456000000000053,5.016960000000001,4.8883200000000002,4.759680000000003,4.6310399999999916,4.5024000000000015,4.3737599999999972,4.24512,4.1164799999999957,3.9878400000000056,3.8591999999999942,3.7305600000000112,3.6019200000000069,3.4732799999999955,3.3446399999999983,3.2159999999999869,3.0873600000000039,2.9587200000000067,2.8300800000000095,2.7014400000000052,2.5727999999999938,2.4441600000000037,2.3155199999999994,2.1868800000000022,2.0582399999999978,1.9295999999999935,1.8009600000000034,1.6723199999999991,1.5436799999999948,1.4150400000000189,1.2863999999999862,1.1577599999999961,1.0291199999999776,0.90048000000001593,0.77184000000002584,0.64320000000000732,0.51455999999996038,0.38592000000005555,0.25728000000003703,{"$f":"CG141+CG142","v":0.1286400000001322},{"$f":"CH141+CH142","v":{"$error":"#DIV/0!"}},{"$f":"CI141+CI142","v":0.1286400000001322},{"$f":"CJ141+CJ142","v":0.25728000000003703},0.38592000000005555,0.51455999999996038,0.64320000000000732,0.77184000000002584,0.90048000000001593,1.0291199999999776,1.1577599999999961,1.2863999999999862,1.4150400000000189,1.5436799999999948,1.6723199999999991,1.8009600000000034,1.9295999999999935,2.0582399999999978,2.1868800000000022,2.3155199999999994,2.4441600000000037,2.5727999999999938,2.7014400000000052,2.8300800000000095,2.9587200000000067,3.0873600000000039,3.2159999999999869,3.3446399999999983,3.4732799999999955,3.6019200000000069,3.7305600000000112,3.8591999999999942,3.9878400000000056,4.1164799999999957,4.24512,4.3737599999999972,4.5024000000000015,4.6310399999999916,4.759680000000003,4.8883200000000002,5.016960000000001,5.1456000000000053,5.2742399999999989,5.4028799999999926,5.5315199999999969,5.6601600000000047,5.7887999999999984,5.9174400000000027,6.0460799999999999,6.1747199999999971,6.3033600000000014,6.4319999999999986]
[null,null,null,null,null,null,null,null,null,null,null,null,null,null,null,null,null,null,null,null,null,null,null,null,null,null,null,null,null,null,null,null,null,null,4,{"$f":"SQRT($CH$136^2-AJ141^2)","v":{"$error":"#NUM!"}},{"$error":"#NUM!"},{"$error":"#NUM!"},{"$error":"#NUM!"},{"$error":"#NUM!"},{"$error":"#NUM!"},{"$error":"#NUM!"},{"$error":"#NUM!"},{"$error":"#NUM!"},{"$error":"#NUM!"},{"$error":"#NUM!"},{"$error":"#NUM!"},{"$error":"#NUM!"},{"$error":"#NUM!"},{"$error":"#NUM!"},{"$error":"#NUM!"},{"$error":"#NUM!"},{"$error":"#NUM!"},{"$error":"#NUM!"},{"$error":"#NUM!"},{"$error":"#NUM!"},{"$error":"#NUM!"},{"$error":"#NUM!"},{"$error":"#NUM!"},{"$error":"#NUM!"},{"$error":"#NUM!"},{"$error":"#NUM!"},{"$error":"#NUM!"},{"$error":"#NUM!"},{"$error":"#NUM!"},{"$error":"#NUM!"},{"$error":"#NUM!"},{"$error":"#NUM!"},{"$error":"#NUM!"},{"$error":"#NUM!"},{"$error":"#NUM!"},{"$error":"#NUM!"},{"$error":"#NUM!"},{"$error":"#NUM!"},{"$error":"#NUM!"},{"$error":"#NUM!"},{"$error":"#NUM!"},{"$error":"#NUM!"},{"$error":"#NUM!"},{"$error":"#NUM!"},{"$error":"#NUM!"},{"$error":"#NUM!"},{"$error":"#NUM!"},{"$error":"#NUM!"},{"$f":"SQRT($CH$136^2-CG141^2)","v":{"$error":"#NUM!"}},{"$f":"SQRT($CH$136^2-CH141^2)","v":{"$error":"#DIV/0!"}},{"$f":"SQRT($CH$136^2-CI141^2)","v":{"$error":"#NUM!"}},{"$f":"SQRT($CH$136^2-CJ141^2)","v":{"$error":"#NUM!"}},{"$error":"#NUM!"},{"$error":"#NUM!"},{"$error":"#NUM!"},{"$error":"#NUM!"},{"$error":"#NUM!"},{"$error":"#NUM!"},{"$error":"#NUM!"},{"$error":"#NUM!"},{"$error":"#NUM!"},{"$error":"#NUM!"},{"$error":"#NUM!"},{"$error":"#NUM!"},{"$error":"#NUM!"},{"$error":"#NUM!"},{"$error":"#NUM!"},{"$error":"#NUM!"},{"$error":"#NUM!"},{"$error":"#NUM!"},{"$error":"#NUM!"},{"$error":"#NUM!"},{"$error":"#NUM!"},{"$error":"#NUM!"},{"$error":"#NUM!"},{"$error":"#NUM!"},{"$error":"#NUM!"},{"$error":"#NUM!"},{"$error":"#NUM!"},{"$error":"#NUM!"},{"$error":"#NUM!"},{"$error":"#NUM!"},{"$error":"#NUM!"},{"$error":"#NUM!"},{"$error":"#NUM!"},{"$error":"#NUM!"},{"$error":"#NUM!"},{"$error":"#NUM!"},{"$error":"#NUM!"},{"$error":"#NUM!"},{"$error":"#NUM!"},{"$error":"#NUM!"},{"$error":"#NUM!"},{"$error":"#NUM!"},{"$error":"#NUM!"},{"$error":"#NUM!"},{"$error":"#NUM!"},{"$error":"#NUM!"},{"$error":"#NUM!"},{"$f":"SQRT($CH$136^2-EF141^2)","v":{"$error":"#NUM!"}}]
[null,null,null,null,null,null,null,null,null,null,null,null,null,null,null,null,null,null,null,null,null,null,null,null,null,null,null,null,null,null,null,null,null,null,5,{"$f":"AJ144*AJ141","v":{"$error":"#NUM!"}},{"$error":"#NUM!"},{"$error":"#NUM!"},{"$error":"#NUM!"},{"$error":"#NUM!"},{"$error":"#NUM!"},{"$error":"#NUM!"},{"$error":"#NUM!"},{"$error":"#NUM!"},{"$error":"#NUM!"},{"$error":"#NUM!"},{"$error":"#NUM!"},{"$error":"#NUM!"},{"$error":"#NUM!"},{"$error":"#NUM!"},{"$error":"#NUM!"},{"$error":"#NUM!"},{"$error":"#NUM!"},{"$error":"#NUM!"},{"$error":"#NUM!"},{"$error":"#NUM!"},{"$error":"#NUM!"},{"$error":"#NUM!"},{"$error":"#NUM!"},{"$error":"#NUM!"},{"$error":"#NUM!"},{"$error":"#NUM!"},{"$error":"#NUM!"},{"$error":"#NUM!"},{"$error":"#NUM!"},{"$error":"#NUM!"},{"$error":"#NUM!"},{"$error":"#NUM!"},{"$error":"#NUM!"},{"$error":"#NUM!"},{"$error":"#NUM!"},{"$error":"#NUM!"},{"$error":"#NUM!"},{"$error":"#NUM!"},{"$error":"#NUM!"},{"$error":"#NUM!"},{"$error":"#NUM!"},{"$error":"#NUM!"},{"$error":"#NUM!"},{"$error":"#NUM!"},{"$error":"#NUM!"},{"$error":"#NUM!"},{"$error":"#NUM!"},{"$error":"#NUM!"},{"$f":"CG144*CG141","v":{"$error":"#NUM!"}},{"$f":"CH144*CH141","v":{"$error":"#DIV/0!"}},{"$f":"CI144*CI141","v":{"$error":"#NUM!"}},{"$f":"CJ144*CJ141","v":{"$error":"#NUM!"}},{"$error":"#NUM!"},{"$error":"#NUM!"},{"$error":"#NUM!"},{"$error":"#NUM!"},{"$error":"#NUM!"},{"$error":"#NUM!"},{"$error":"#NUM!"},{"$error":"#NUM!"},{"$error":"#NUM!"},{"$error":"#NUM!"},{"$error":"#NUM!"},{"$error":"#NUM!"},{"$error":"#NUM!"},{"$error":"#NUM!"},{"$error":"#NUM!"},{"$error":"#NUM!"},{"$error":"#NUM!"},{"$error":"#NUM!"},{"$error":"#NUM!"},{"$error":"#NUM!"},{"$error":"#NUM!"},{"$error":"#NUM!"},{"$error":"#NUM!"},{"$error":"#NUM!"},{"$error":"#NUM!"},{"$error":"#NUM!"},{"$error":"#NUM!"},{"$error":"#NUM!"},{"$error":"#NUM!"},{"$error":"#NUM!"},{"$error":"#NUM!"},{"$error":"#NUM!"},{"$error":"#NUM!"},{"$error":"#NUM!"},{"$error":"#NUM!"},{"$error":"#NUM!"},{"$error":"#NUM!"},{"$error":"#NUM!"},{"$error":"#NUM!"},{"$error":"#NUM!"},{"$error":"#NUM!"},{"$error":"#NUM!"},{"$error":"#NUM!"},{"$error":"#NUM!"},{"$error":"#NUM!"},{"$error":"#NUM!"},{"$error":"#NUM!"},{"$error":"#NUM!"}]
[null,null,null,null,null,null,null,null,null,null,null,null,null,null,null,null,null,null,null,null,null,null,null,null,null,null,null,null,null,null,null,null,null,null,6,{"$f":"AJ144*AJ142","v":{"$error":"#NUM!"}},{"$error":"#NUM!"},{"$error":"#NUM!"},{"$error":"#NUM!"},{"$error":"#NUM!"},{"$error":"#NUM!"},{"$error":"#NUM!"},{"$error":"#NUM!"},{"$error":"#NUM!"},{"$error":"#NUM!"},{"$error":"#NUM!"},{"$error":"#NUM!"},{"$error":"#NUM!"},{"$error":"#NUM!"},{"$error":"#NUM!"},{"$error":"#NUM!"},{"$error":"#NUM!"},{"$error":"#NUM!"},{"$error":"#NUM!"},{"$error":"#NUM!"},{"$error":"#NUM!"},{"$error":"#NUM!"},{"$error":"#NUM!"},{"$error":"#NUM!"},{"$error":"#NUM!"},{"$error":"#NUM!"},{"$error":"#NUM!"},{"$error":"#NUM!"},{"$error":"#NUM!"},{"$error":"#NUM!"},{"$error":"#NUM!"},{"$error":"#NUM!"},{"$error":"#NUM!"},{"$error":"#NUM!"},{"$error":"#NUM!"},{"$error":"#NUM!"},{"$error":"#NUM!"},{"$error":"#NUM!"},{"$error":"#NUM!"},{"$error":"#NUM!"},{"$error":"#NUM!"},{"$error":"#NUM!"},{"$error":"#NUM!"},{"$error":"#NUM!"},{"$error":"#NUM!"},{"$error":"#NUM!"},{"$error":"#NUM!"},{"$error":"#NUM!"},{"$error":"#NUM!"},{"$f":"CG144*CG142","v":{"$error":"#NUM!"}},{"$f":"CH144*CH142","v":{"$error":"#DIV/0!"}},{"$f":"CI144*CI142","v":{"$error":"#NUM!"}},{"$f":"CJ144*CJ142","v":{"$error":"#NUM!"}},{"$error":"#NUM!"},{"$error":"#NUM!"},{"$error":"#NUM!"},{"$error":"#NUM!"},{"$error":"#NUM!"},{"$error":"#NUM!"},{"$error":"#NUM!"},{"$error":"#NUM!"},{"$error":"#NUM!"},{"$error":"#NUM!"},{"$error":"#NUM!"},{"$error":"#NUM!"},{"$error":"#NUM!"},{"$error":"#NUM!"},{"$error":"#NUM!"},{"$error":"#NUM!"},{"$error":"#NUM!"},{"$error":"#NUM!"},{"$error":"#NUM!"},{"$error":"#NUM!"},{"$error":"#NUM!"},{"$error":"#NUM!"},{"$error":"#NUM!"},{"$error":"#NUM!"},{"$error":"#NUM!"},{"$error":"#NUM!"},{"$error":"#NUM!"},{"$error":"#NUM!"},{"$error":"#NUM!"},{"$error":"#NUM!"},{"$error":"#NUM!"},{"$error":"#NUM!"},{"$error":"#NUM!"},{"$error":"#NUM!"},{"$error":"#NUM!"},{"$error":"#NUM!"},{"$error":"#NUM!"},{"$error":"#NUM!"},{"$error":"#NUM!"},{"$error":"#NUM!"},{"$error":"#NUM!"},{"$error":"#NUM!"},{"$error":"#NUM!"},{"$error":"#NUM!"},{"$error":"#NUM!"},{"$error":"#NUM!"},{"$error":"#NUM!"},{"$f":"EF144*EF142","v":{"$error":"#NUM!"}}]
[null,null,null,null,null,null,null,null,null,null,null,null,null,null,null,null,null,null,null,null,null,null,null,null,null,null,null,null,null,null,null,null,null,null,7,{"$f":"2*ACOS(AJ141/$CH$136)*180/PI()","v":{"$error":"#NUM!"}},{"$error":"#NUM!"},{"$error":"#NUM!"},{"$error":"#NUM!"},{"$error":"#NUM!"},{"$error":"#NUM!"},{"$error":"#NUM!"},{"$error":"#NUM!"},{"$error":"#NUM!"},{"$error":"#NUM!"},{"$error":"#NUM!"},{"$error":"#NUM!"},{"$error":"#NUM!"},{"$error":"#NUM!"},{"$error":"#NUM!"},{"$error":"#NUM!"},{"$error":"#NUM!"},{"$error":"#NUM!"},{"$error":"#NUM!"},{"$error":"#NUM!"},{"$error":"#NUM!"},{"$error":"#NUM!"},{"$error":"#NUM!"},{"$error":"#NUM!"},{"$error":"#NUM!"},{"$error":"#NUM!"},{"$error":"#NUM!"},{"$error":"#NUM!"},{"$error":"#NUM!"},{"$error":"#NUM!"},{"$error":"#NUM!"},{"$error":"#NUM!"},{"$error":"#NUM!"},{"$error":"#NUM!"},{"$error":"#NUM!"},{"$error":"#NUM!"},{"$error":"#NUM!"},{"$error":"#NUM!"},{"$error":"#NUM!"},{"$error":"#NUM!"},{"$error":"#NUM!"},{"$error":"#NUM!"},{"$error":"#NUM!"},{"$error":"#NUM!"},{"$error":"#NUM!"},{"$error":"#NUM!"},{"$error":"#NUM!"},{"$error":"#NUM!"},{"$error":"#NUM!"},{"$f":"2*ACOS(CG141/$CH$136)*180/PI()","v":{"$error":"#NUM!"}},{"$f":"2*ACOS(CH141/$CH$136)*180/PI()","v":{"$error":"#DIV/0!"}},{"$f":"2*ACOS(CI141/$CH$136)*180/PI()","v":{"$error":"#NUM!"}},{"$f":"2*ACOS(CJ141/$CH$136)*180/PI()","v":{"$error":"#NUM!"}},{"$error":"#NUM!"},{"$error":"#NUM!"},{"$error":"#NUM!"},{"$error":"#NUM!"},{"$error":"#NUM!"},{"$error":"#NUM!"},{"$error":"#NUM!"},{"$error":"#NUM!"},{"$error":"#NUM!"},{"$error":"#NUM!"},{"$error":"#NUM!"},{"$error":"#NUM!"},{"$error":"#NUM!"},{"$error":"#NUM!"},{"$error":"#NUM!"},{"$error":"#NUM!"},{"$error":"#NUM!"},{"$error":"#NUM!"},{"$error":"#NUM!"},{"$error":"#NUM!"},{"$error":"#NUM!"},{"$error":"#NUM!"},{"$error":"#NUM!"},{"$error":"#NUM!"},{"$error":"#NUM!"},{"$error":"#NUM!"},{"$error":"#NUM!"},{"$error":"#NUM!"},{"$error":"#NUM!"},{"$error":"#NUM!"},{"$error":"#NUM!"},{"$error":"#NUM!"},{"$error":"#NUM!"},{"$error":"#NUM!"},{"$error":"#NUM!"},{"$error":"#NUM!"},{"$error":"#NUM!"},{"$error":"#NUM!"},{"$error":"#NUM!"},{"$error":"#NUM!"},{"$error":"#NUM!"},{"$error":"#NUM!"},{"$error":"#NUM!"},{"$error":"#NUM!"},{"$error":"#NUM!"},{"$error":"#NUM!"},{"$error":"#NUM!"},{"$f":"2*ACOS(EF141/$CH$136)*180/PI()","v":{"$error":"#NUM!"}}]
[null,null,null,null,null,null,null,null,null,null,null,null,null,null,null,null,null,null,null,null,null,null,null,null,null,null,null,null,null,null,null,null,null,null,8,{"$f":"2*ACOS(AJ142/$CH$137)*180/PI()","v":{"$error":"#NUM!"}},{"$error":"#NUM!"},{"$error":"#NUM!"},{"$error":"#NUM!"},{"$error":"#NUM!"},{"$error":"#NUM!"},{"$error":"#NUM!"},{"$error":"#NUM!"},{"$error":"#NUM!"},{"$error":"#NUM!"},{"$error":"#NUM!"},{"$error":"#NUM!"},{"$error":"#NUM!"},{"$error":"#NUM!"},{"$error":"#NUM!"},{"$error":"#NUM!"},{"$error":"#NUM!"},{"$error":"#NUM!"},{"$error":"#NUM!"},{"$error":"#NUM!"},{"$error":"#NUM!"},{"$error":"#NUM!"},{"$error":"#NUM!"},{"$error":"#NUM!"},{"$error":"#NUM!"},{"$error":"#NUM!"},{"$error":"#NUM!"},{"$error":"#NUM!"},{"$error":"#NUM!"},{"$error":"#NUM!"},{"$error":"#NUM!"},{"$error":"#NUM!"},{"$error":"#NUM!"},{"$error":"#NUM!"},{"$error":"#NUM!"},{"$error":"#NUM!"},{"$error":"#NUM!"},{"$error":"#NUM!"},{"$error":"#NUM!"},{"$error":"#NUM!"},{"$error":"#NUM!"},{"$error":"#NUM!"},{"$error":"#NUM!"},{"$error":"#NUM!"},{"$error":"#NUM!"},{"$error":"#NUM!"},{"$error":"#NUM!"},{"$error":"#NUM!"},{"$error":"#NUM!"},{"$f":"2*ACOS(CG142/$CH$137)*180/PI()","v":{"$error":"#NUM!"}},{"$f":"2*ACOS(CH142/$CH$137)*180/PI()","v":{"$error":"#DIV/0!"}},{"$f":"2*ACOS(CI142/$CH$137)*180/PI()","v":{"$error":"#NUM!"}},{"$f":"2*ACOS(CJ142/$CH$137)*180/PI()","v":{"$error":"#NUM!"}},{"$error":"#NUM!"},{"$error":"#NUM!"},{"$error":"#NUM!"},{"$error":"#NUM!"},{"$error":"#NUM!"},{"$error":"#NUM!"},{"$error":"#NUM!"},{"$error":"#NUM!"},{"$error":"#NUM!"},{"$error":"#NUM!"},{"$error":"#NUM!"},{"$error":"#NUM!"},{"$error":"#NUM!"},{"$error":"#NUM!"},{"$error":"#NUM!"},{"$error":"#NUM!"},{"$error":"#NUM!"},{"$error":"#NUM!"},{"$error":"#NUM!"},{"$error":"#NUM!"},{"$error":"#NUM!"},{"$error":"#NUM!"},{"$error":"#NUM!"},{"$error":"#NUM!"},{"$error":"#NUM!"},{"$error":"#NUM!"},{"$error":"#NUM!"},{"$error":"#NUM!"},{"$error":"#NUM!"},{"$error":"#NUM!"},{"$error":"#NUM!"},{"$error":"#NUM!"},{"$error":"#NUM!"},{"$error":"#NUM!"},{"$error":"#NUM!"},{"$error":"#NUM!"},{"$error":"#NUM!"},{"$error":"#NUM!"},{"$error":"#NUM!"},{"$error":"#NUM!"},{"$error":"#NUM!"},{"$error":"#NUM!"},{"$error":"#NUM!"},{"$error":"#NUM!"},{"$error":"#NUM!"},{"$error":"#NUM!"},{"$error":"#NUM!"},{"$f":"2*ACOS(EF142/$CH$137)*180/PI()","v":{"$error":"#NUM!"}}]
[null,null,null,null,null,null,null,null,null,null,null,null,null,null,null,null,null,null,null,null,null,null,null,null,null,null,null,null,null,null,null,null,null,null,9,{"$f":"PI()*$CH$136^2*AJ147/360","v":{"$error":"#NUM!"}},{"$f":"PI()*$CH$136:$CH$136^2*AK147/360","v":{"$error":"#NUM!"}},{"$error":"#NUM!"},{"$error":"#NUM!"},{"$error":"#NUM!"},{"$error":"#NUM!"},{"$error":"#NUM!"},{"$error":"#NUM!"},{"$error":"#NUM!"},{"$error":"#NUM!"},{"$error":"#NUM!"},{"$error":"#NUM!"},{"$error":"#NUM!"},{"$error":"#NUM!"},{"$error":"#NUM!"},{"$error":"#NUM!"},{"$error":"#NUM!"},{"$error":"#NUM!"},{"$error":"#NUM!"},{"$error":"#NUM!"},{"$error":"#NUM!"},{"$error":"#NUM!"},{"$error":"#NUM!"},{"$error":"#NUM!"},{"$error":"#NUM!"},{"$error":"#NUM!"},{"$error":"#NUM!"},{"$error":"#NUM!"},{"$error":"#NUM!"},{"$error":"#NUM!"},{"$error":"#NUM!"},{"$error":"#NUM!"},{"$error":"#NUM!"},{"$error":"#NUM!"},{"$error":"#NUM!"},{"$error":"#NUM!"},{"$error":"#NUM!"},{"$error":"#NUM!"},{"$error":"#NUM!"},{"$error":"#NUM!"},{"$error":"#NUM!"},{"$error":"#NUM!"},{"$error":"#NUM!"},{"$error":"#NUM!"},{"$error":"#NUM!"},{"$error":"#NUM!"},{"$error":"#NUM!"},{"$error":"#NUM!"},{"$error":"#NUM!"},{"$f":"PI()*$CH$136:$CH$136^2*CG147/360","v":{"$error":"#NUM!"}},{"$f":"PI()*$CH$136:$CH$136^2*CH147/360","v":{"$error":"#DIV/0!"}},{"$f":"PI()*$CH$136:$CH$136^2*CI147/360","v":{"$error":"#NUM!"}},{"$f":"PI()*$CH$136:$CH$136^2*CJ147/360","v":{"$error":"#NUM!"}},{"$error":"#NUM!"},{"$error":"#NUM!"},{"$error":"#NUM!"},{"$error":"#NUM!"},{"$error":"#NUM!"},{"$error":"#NUM!"},{"$error":"#NUM!"},{"$error":"#NUM!"},{"$error":"#NUM!"},{"$error":"#NUM!"},{"$error":"#NUM!"},{"$error":"#NUM!"},{"$error":"#NUM!"},{"$error":"#NUM!"},{"$error":"#NUM!"},{"$error":"#NUM!"},{"$error":"#NUM!"},{"$error":"#NUM!"},{"$error":"#NUM!"},{"$error":"#NUM!"},{"$error":"#NUM!"},{"$error":"#NUM!"},{"$error":"#NUM!"},{"$error":"#NUM!"},{"$error":"#NUM!"},{"$error":"#NUM!"},{"$error":"#NUM!"},{"$error":"#NUM!"},{"$error":"#NUM!"},{"$error":"#NUM!"},{"$error":"#NUM!"},{"$error":"#NUM!"},{"$error":"#NUM!"},{"$error":"#NUM!"},{"$error":"#NUM!"},{"$error":"#NUM!"},{"$error":"#NUM!"},{"$error":"#NUM!"},{"$error":"#NUM!"},{"$error":"#NUM!"},{"$error":"#NUM!"},{"$error":"#NUM!"},{"$error":"#NUM!"},{"$error":"#NUM!"},{"$error":"#NUM!"},{"$error":"#NUM!"},{"$error":"#NUM!"},{"$f":"PI()*$CH$136:$CH$136^2*EF147/360","v":{"$error":"#NUM!"}}]
[null,null,null,null,null,null,null,null,null,null,null,null,null,null,null,null,null,null,null,null,null,null,null,null,null,null,null,null,null,null,null,null,null,null,10,{"$f":"PI()*$CH$137^2*AJ148/360","v":{"$error":"#NUM!"}},{"$f":"PI()*$CH$137^2*AK148/360","v":{"$error":"#NUM!"}},{"$error":"#NUM!"},{"$error":"#NUM!"},{"$error":"#NUM!"},{"$error":"#NUM!"},{"$error":"#NUM!"},{"$error":"#NUM!"},{"$error":"#NUM!"},{"$error":"#NUM!"},{"$error":"#NUM!"},{"$error":"#NUM!"},{"$error":"#NUM!"},{"$error":"#NUM!"},{"$error":"#NUM!"},{"$error":"#NUM!"},{"$error":"#NUM!"},{"$error":"#NUM!"},{"$error":"#NUM!"},{"$error":"#NUM!"},{"$error":"#NUM!"},{"$error":"#NUM!"},{"$error":"#NUM!"},{"$error":"#NUM!"},{"$error":"#NUM!"},{"$error":"#NUM!"},{"$error":"#NUM!"},{"$error":"#NUM!"},{"$error":"#NUM!"},{"$error":"#NUM!"},{"$error":"#NUM!"},{"$error":"#NUM!"},{"$error":"#NUM!"},{"$error":"#NUM!"},{"$error":"#NUM!"},{"$error":"#NUM!"},{"$error":"#NUM!"},{"$error":"#NUM!"},{"$error":"#NUM!"},{"$error":"#NUM!"},{"$error":"#NUM!"},{"$error":"#NUM!"},{"$error":"#NUM!"},{"$error":"#NUM!"},{"$error":"#NUM!"},{"$error":"#NUM!"},{"$error":"#NUM!"},{"$error":"#NUM!"},{"$error":"#NUM!"},{"$error":"#NUM!"},{"$error":"#DIV/0!"},{"$error":"#NUM!"},{"$error":"#NUM!"},{"$error":"#NUM!"},{"$error":"#NUM!"},{"$error":"#NUM!"},{"$error":"#NUM!"},{"$error":"#NUM!"},{"$error":"#NUM!"},{"$error":"#NUM!"},{"$error":"#NUM!"},{"$error":"#NUM!"},{"$error":"#NUM!"},{"$error":"#NUM!"},{"$error":"#NUM!"},{"$f":"PI()*$CH$137^2*CW148/360","v":{"$error":"#NUM!"}},{"$error":"#NUM!"},{"$error":"#NUM!"},{"$error":"#NUM!"},{"$error":"#NUM!"},{"$error":"#NUM!"},{"$error":"#NUM!"},{"$error":"#NUM!"},{"$error":"#NUM!"},{"$error":"#NUM!"},{"$error":"#NUM!"},{"$error":"#NUM!"},{"$error":"#NUM!"},{"$error":"#NUM!"},{"$error":"#NUM!"},{"$error":"#NUM!"},{"$error":"#NUM!"},{"$error":"#NUM!"},{"$error":"#NUM!"},{"$error":"#NUM!"},{"$error":"#NUM!"},{"$error":"#NUM!"},{"$error":"#NUM!"},{"$error":"#NUM!"},{"$error":"#NUM!"},{"$error":"#NUM!"},{"$error":"#NUM!"},{"$error":"#NUM!"},{"$error":"#NUM!"},{"$error":"#NUM!"},{"$error":"#NUM!"},{"$error":"#NUM!"},{"$error":"#NUM!"},{"$error":"#NUM!"},{"$error":"#NUM!"},{"$error":"#NUM!"}]
[null,null,null,null,null,null,null,null,null,null,null,null,null,null,null,null,null,null,null,null,null,null,null,null,null,null,null,null,null,null,null,null,null,null,11,{"$f":"IF(AJ139<$CH$136-$CH$137,PI()*$CH137^2,AJ149-AJ145+AJ150-AJ146)","v":678.86675651421831},{"$f":"IF(AK139<$CH$136-$CH$137,PI()*$CH137^2,AK149-AK145+AK150-AK146)","v":678.86675651421831},678.86675651421831,678.86675651421831,678.86675651421831,678.86675651421831,678.86675651421831,678.86675651421831,678.86675651421831,678.86675651421831,678.86675651421831,678.86675651421831,678.86675651421831,678.86675651421831,678.86675651421831,678.86675651421831,678.86675651421831,678.86675651421831,678.86675651421831,678.86675651421831,678.86675651421831,678.86675651421831,678.86675651421831,678.86675651421831,678.86675651421831,678.86675651421831,678.86675651421831,678.86675651421831,678.86675651421831,678.86675651421831,678.86675651421831,678.86675651421831,678.86675651421831,678.86675651421831,678.86675651421831,678.86675651421831,678.86675651421831,678.86675651421831,678.86675651421831,678.86675651421831,678.86675651421831,678.86675651421831,678.86675651421831,678.86675651421831,678.86675651421831,678.86675651421831,678.86675651421831,678.86675651421831,678.86675651421831,{"$f":"IF(CG139<$CH$136-$CH$137,PI()*$CH137^2,CG149-CG145+CG150-CG146)","v":678.86675651421831},{"$f":"IF(CH139<$CH$136-$CH$137,PI()*$CH137^2,CH149-CH145+CH150-CH146)","v":678.86675651421831},{"$f":"IF(CI139<$CH$136-$CH$137,PI()*$CH137^2,CI149-CI145+CI150-CI146)","v":678.86675651421831},{"$f":"IF(CJ139<$CH$136-$CH$137,PI()*$CH137^2,CJ149-CJ145+CJ150-CJ146)","v":678.86675651421831},678.86675651421831,678.86675651421831,678.86675651421831,678.86675651421831,678.86675651421831,678.86675651421831,678.86675651421831,678.86675651421831,678.86675651421831,678.86675651421831,678.86675651421831,678.86675651421831,678.86675651421831,678.86675651421831,678.86675651421831,678.86675651421831,678.86675651421831,678.86675651421831,678.86675651421831,678.86675651421831,678.86675651421831,678.86675651421831,678.86675651421831,678.86675651421831,678.86675651421831,678.86675651421831,678.86675651421831,678.86675651421831,678.86675651421831,678.86675651421831,678.86675651421831,678.86675651421831,678.86675651421831,678.86675651421831,678.86675651421831,678.86675651421831,678.86675651421831,678.86675651421831,678.86675651421831,678.86675651421831,678.86675651421831,678.86675651421831,678.86675651421831,678.86675651421831,678.86675651421831,678.86675651421831,678.86675651421831,678.86675651421831]
[null,null,null,null,null,null,null,null,null,null,null,null,null,null,null,null,null,null,null,null,null,null,null,null,null,null,null,null,null,null,null,null,null,null,12,{"$f":"(AJ151-$CH$138)/((PI()*$CH$137^2)-$CH$138)","v":1},{"$f":"(AK151-$CH$138)/((PI()*$CH$137^2)-$CH$138)","v":1},1,1,1,1,1,1,1,1,1,1,1,1,1,1,1,1,1,1,1,1,1,1,1,1,1,1,1,1,1,1,1,1,1,1,1,1,1,1,1,1,1,1,1,1,1,1,1,1,1,1,1,1,1,1,1,1,1,1,1,1,1,1,1,{"$f":"(CW151-$CH$138)/((PI()*$CH$137^2)-$CH$138)","v":1},1,1,1,1,1,1,1,1,1,1,1,1,1,1,1,1,1,1,1,1,1,1,1,1,1,1,1,1,1,1,1,1,1,1,1]
[]
[]
[null,null,null,null,null,null,null,null,null,null,null,null,null,null,null,null,null,null,null,null,null,null,null,null,null,null,null,null,null,null,null,null,null,null,null,null,null,null,null,null,null,null,null,null,null,null,null,null,null,null,null,null,null,null,null,null,null,null,null,null,null,null,null,null,null,null,null,null,null,null,null,null,null,null,null,null,null,null,null,"Радиус виньетирующей окружности (труба)",null,null,null,null,null,{"$f":"'Исходные данные'!F32/2","v":82}]
[null,null,null,null,null,null,null,null,null,null,null,null,null,null,null,null,null,null,null,null,null,null,null,null,null,null,null,null,null,null,null,null,null,null,null,null,null,null,null,null,null,null,null,null,null,null,null,null,null,null,null,null,null,null,null,null,null,null,null,null,null,null,null,null,null,null,null,null,null,null,null,null,null,null,null,null,null,null,null,"Радиус сечения виньетируемого потока лучей (апертура)",null,null,null,null,null,{"$f":"'Исходные данные'!F6/2","v":75}]
[null,null,null,null,null,null,null,null,null,null,null,null,null,null,null,null,null,null,null,null,null,null,null,null,null,null,null,null,null,null,null,null,null,null,null,null,null,null,null,null,null,null,null,null,null,null,null,null,null,null,null,null,null,null,null,null,null,null,null,null,null,null,null,null,null,null,null,null,null,null,null,null,null,null,null,null,null,null,null,"Радиус ЦЭ в плоскости виньетирования",null,null,null,null,null,{"$f":"CH156*'Исходные данные'!F42/100","v":22.498733780240595}]
[null,null,null,null,null,null,null,null,null,null,null,null,null,null,null,null,null,null,null,null,null,null,null,null,null,null,null,null,null,null,null,null,null,null,null,{"$f":"AJ134*'Исходные данные'!$F$60/'Исходные данные'!$F$36","v":7.0720000000000001},{"$f":"AK134*'Исходные данные'!$F$60/'Исходные данные'!$F$36","v":6.9305599999999998},{"$f":"AL134*'Исходные данные'!$F$60/'Исходные данные'!$F$36","v":6.7891200000000005},{"$f":"AM134*'Исходные данные'!$F$60/'Исходные данные'!$F$36","v":6.6476800000000003},{"$f":"AN134*'Исходные данные'!$F$60/'Исходные данные'!$F$36","v":6.50624},{"$f":"AO134*'Исходные данные'!$F$60/'Исходные данные'!$F$36","v":6.3648000000000007},{"$f":"AP134*'Исходные данные'!$F$60/'Исходные данные'!$F$36","v":6.2233600000000004},{"$f":"AQ134*'Исходные данные'!$F$60/'Исходные данные'!$F$36","v":6.0819199999999993},{"$f":"AR134*'Исходные данные'!$F$60/'Исходные данные'!$F$36","v":5.94048},{"$f":"AS134*'Исходные данные'!$F$60/'Исходные данные'!$F$36","v":5.7990400000000006},{"$f":"AT134*'Исходные данные'!$F$60/'Исходные данные'!$F$36","v":5.6575999999999995},{"$f":"AU134*'Исходные данные'!$F$60/'Исходные данные'!$F$36","v":5.5161600000000002},{"$f":"AV134*'Исходные данные'!$F$60/'Исходные данные'!$F$36","v":5.3747199999999999},{"$f":"AW134*'Исходные данные'!$F$60/'Исходные данные'!$F$36","v":5.2332799999999997},{"$f":"AX134*'Исходные данные'!$F$60/'Исходные данные'!$F$36","v":5.0918399999999995},{"$f":"AY134*'Исходные данные'!$F$60/'Исходные данные'!$F$36","v":4.9504000000000001},{"$f":"AZ134*'Исходные данные'!$F$60/'Исходные данные'!$F$36","v":4.8089599999999999},{"$f":"BA134*'Исходные данные'!$F$60/'Исходные данные'!$F$36","v":4.6675200000000006},{"$f":"BB134*'Исходные данные'!$F$60/'Исходные данные'!$F$36","v":4.5260800000000003},{"$f":"BC134*'Исходные данные'!$F$60/'Исходные данные'!$F$36","v":4.3846400000000001},{"$f":"BD134*'Исходные данные'!$F$60/'Исходные данные'!$F$36","v":4.2431999999999999},{"$f":"BE134*'Исходные данные'!$F$60/'Исходные данные'!$F$36","v":4.1017599999999996},{"$f":"BF134*'Исходные данные'!$F$60/'Исходные данные'!$F$36","v":3.9603200000000003},{"$f":"BG134*'Исходные данные'!$F$60/'Исходные данные'!$F$36","v":3.8188800000000005},{"$f":"BH134*'Исходные данные'!$F$60/'Исходные данные'!$F$36","v":3.6774399999999998},{"$f":"BI134*'Исходные данные'!$F$60/'Исходные данные'!$F$36","v":3.536},{"$f":"BJ134*'Исходные данные'!$F$60/'Исходные данные'!$F$36","v":3.3945600000000002},{"$f":"BK134*'Исходные данные'!$F$60/'Исходные данные'!$F$36","v":3.25312},{"$f":"BL134*'Исходные данные'!$F$60/'Исходные данные'!$F$36","v":3.1116800000000002},{"$f":"BM134*'Исходные данные'!$F$60/'Исходные данные'!$F$36","v":2.97024},{"$f":"BN134*'Исходные данные'!$F$60/'Исходные данные'!$F$36","v":2.8287999999999998},{"$f":"BO134*'Исходные данные'!$F$60/'Исходные данные'!$F$36","v":2.68736},{"$f":"BP134*'Исходные данные'!$F$60/'Исходные данные'!$F$36","v":2.5459199999999997},{"$f":"BQ134*'Исходные данные'!$F$60/'Исходные данные'!$F$36","v":2.40448},{"$f":"BR134*'Исходные данные'!$F$60/'Исходные данные'!$F$36","v":2.2630400000000002},{"$f":"BS134*'Исходные данные'!$F$60/'Исходные данные'!$F$36","v":2.1215999999999999},{"$f":"BT134*'Исходные данные'!$F$60/'Исходные данные'!$F$36","v":1.9801600000000001},{"$f":"BU134*'Исходные данные'!$F$60/'Исходные данные'!$F$36","v":1.8387199999999999},{"$f":"BV134*'Исходные данные'!$F$60/'Исходные данные'!$F$36","v":1.6972800000000001},{"$f":"BW134*'Исходные данные'!$F$60/'Исходные данные'!$F$36","v":1.5558400000000001},{"$f":"BX134*'Исходные данные'!$F$60/'Исходные данные'!$F$36","v":1.4143999999999999},{"$f":"BY134*'Исходные данные'!$F$60/'Исходные данные'!$F$36","v":1.2729599999999999},{"$f":"BZ134*'Исходные данные'!$F$60/'Исходные данные'!$F$36","v":1.1315200000000001},{"$f":"CA134*'Исходные данные'!$F$60/'Исходные данные'!$F$36","v":0.99008000000000007},{"$f":"CB134*'Исходные данные'!$F$60/'Исходные данные'!$F$36","v":0.84864000000000006},{"$f":"CC134*'Исходные данные'!$F$60/'Исходные данные'!$F$36","v":0.70719999999999994},{"$f":"CD134*'Исходные данные'!$F$60/'Исходные данные'!$F$36","v":0.56576000000000004},{"$f":"CE134*'Исходные данные'!$F$60/'Исходные данные'!$F$36","v":0.42432000000000003},{"$f":"CF134*'Исходные данные'!$F$60/'Исходные данные'!$F$36","v":0.28288000000000002},{"$f":"CG134*'Исходные данные'!$F$60/'Исходные данные'!$F$36","v":0.14144000000000001},{"$f":"CH134*'Исходные данные'!$F$60/'Исходные данные'!$F$36","v":0},{"$f":"CI134*'Исходные данные'!$F$60/'Исходные данные'!$F$36","v":0.14144000000000001},{"$f":"CJ134*'Исходные данные'!$F$60/'Исходные данные'!$F$36","v":0.28288000000000002},{"$f":"CK134*'Исходные данные'!$F$60/'Исходные данные'!$F$36","v":0.42432000000000003},{"$f":"CL134*'Исходные данные'!$F$60/'Исходные данные'!$F$36","v":0.56576000000000004},{"$f":"CM134*'Исходные данные'!$F$60/'Исходные данные'!$F$36","v":0.70719999999999994},{"$f":"CN134*'Исходные данные'!$F$60/'Исходные данные'!$F$36","v":0.84864000000000006},{"$f":"CO134*'Исходные данные'!$F$60/'Исходные данные'!$F$36","v":0.99008000000000007},{"$f":"CP134*'Исходные данные'!$F$60/'Исходные данные'!$F$36","v":1.1315200000000001},{"$f":"CQ134*'Исходные данные'!$F$60/'Исходные данные'!$F$36","v":1.2729599999999999},{"$f":"CR134*'Исходные данные'!$F$60/'Исходные данные'!$F$36","v":1.4143999999999999},{"$f":"CS134*'Исходные данные'!$F$60/'Исходные данные'!$F$36","v":1.5558400000000001},{"$f":"CT134*'Исходные данные'!$F$60/'Исходные данные'!$F$36","v":1.6972800000000001},{"$f":"CU134*'Исходные данные'!$F$60/'Исходные данные'!$F$36","v":1.8387199999999999},{"$f":"CV134*'Исходные данные'!$F$60/'Исходные данные'!$F$36","v":1.9801600000000001},{"$f":"CW134*'Исходные данные'!$F$60/'Исходные данные'!$F$36","v":2.1215999999999999},{"$f":"CX134*'Исходные данные'!$F$60/'Исходные данные'!$F$36","v":2.2630400000000002},{"$f":"CY134*'Исходные данные'!$F$60/'Исходные данные'!$F$36","v":2.40448},{"$f":"CZ134*'Исходные данные'!$F$60/'Исходные данные'!$F$36","v":2.5459199999999997},{"$f":"DA134*'Исходные данные'!$F$60/'Исходные данные'!$F$36","v":2.68736},{"$f":"DB134*'Исходные данные'!$F$60/'Исходные данные'!$F$36","v":2.8287999999999998},{"$f":"DC134*'Исходные данные'!$F$60/'Исходные данные'!$F$36","v":2.97024},{"$f":"DD134*'Исходные данные'!$F$60/'Исходные данные'!$F$36","v":3.1116800000000002},{"$f":"DE134*'Исходные данные'!$F$60/'Исходные данные'!$F$36","v":3.25312},{"$f":"DF134*'Исходные данные'!$F$60/'Исходные данные'!$F$36","v":3.3945600000000002},{"$f":"DG134*'Исходные данные'!$F$60/'Исходные данные'!$F$36","v":3.536},{"$f":"DH134*'Исходные данные'!$F$60/'Исходные данные'!$F$36","v":3.6774399999999998},{"$f":"DI134*'Исходные данные'!$F$60/'Исходные данные'!$F$36","v":3.8188800000000005},{"$f":"DJ134*'Исходные данные'!$F$60/'Исходные данные'!$F$36","v":3.9603200000000003},{"$f":"DK134*'Исходные данные'!$F$60/'Исходные данные'!$F$36","v":4.1017599999999996},{"$f":"DL134*'Исходные данные'!$F$60/'Исходные данные'!$F$36","v":4.2431999999999999},{"$f":"DM134*'Исходные данные'!$F$60/'Исходные данные'!$F$36","v":4.3846400000000001},{"$f":"DN134*'Исходные данные'!$F$60/'Исходные данные'!$F$36","v":4.5260800000000003},{"$f":"DO134*'Исходные данные'!$F$60/'Исходные данные'!$F$36","v":4.6675200000000006},{"$f":"DP134*'Исходные данные'!$F$60/'Исходные данные'!$F$36","v":4.8089599999999999},{"$f":"DQ134*'Исходные данные'!$F$60/'Исходные данные'!$F$36","v":4.9504000000000001},{"$f":"DR134*'Исходные данные'!$F$60/'Исходные данные'!$F$36","v":5.0918399999999995},{"$f":"DS134*'Исходные данные'!$F$60/'Исходные данные'!$F$36","v":5.2332799999999997},{"$f":"DT134*'Исходные данные'!$F$60/'Исходные данные'!$F$36","v":5.3747199999999999},{"$f":"DU134*'Исходные данные'!$F$60/'Исходные данные'!$F$36","v":5.5161600000000002},{"$f":"DV134*'Исходные данные'!$F$60/'Исходные данные'!$F$36","v":5.6575999999999995},{"$f":"DW134*'Исходные данные'!$F$60/'Исходные данные'!$F$36","v":5.7990400000000006},{"$f":"DX134*'Исходные данные'!$F$60/'Исходные данные'!$F$36","v":5.94048},{"$f":"DY134*'Исходные данные'!$F$60/'Исходные данные'!$F$36","v":6.0819199999999993},{"$f":"DZ134*'Исходные данные'!$F$60/'Исходные данные'!$F$36","v":6.2233600000000004},{"$f":"EA134*'Исходные данные'!$F$60/'Исходные данные'!$F$36","v":6.3648000000000007},{"$f":"EB134*'Исходные данные'!$F$60/'Исходные данные'!$F$36","v":6.50624},{"$f":"EC134*'Исходные данные'!$F$60/'Исходные данные'!$F$36","v":6.6476800000000003},{"$f":"ED134*'Исходные данные'!$F$60/'Исходные данные'!$F$36","v":6.7891200000000005},{"$f":"EE134*'Исходные данные'!$F$60/'Исходные данные'!$F$36","v":6.9305599999999998},{"$f":"EF134*'Исходные данные'!$F$60/'Исходные данные'!$F$36","v":7.0720000000000001}]
[]
[null,null,null,null,null,null,null,null,null,null,null,null,null,null,null,null,null,null,null,null,null,null,null,null,null,null,null,null,null,null,null,null,null,"Виньетирование входным отверстием трубы",1,{"$f":"(AJ158^2+$CH$155^2-$CH$156^2)/(2*AJ158)","v":81.236791855203649},{"$f":"(AK158^2+$CH$155^2-$CH$156^2)/(2*AK158)","v":82.75180230122821},84.332884849170455,85.984256867237903,87.710502451308272,89.516613172448416,91.408034380913207,93.390717971166978,95.471182684766219,97.656583238053216,99.954789819004503,102.3744798143636,104.92524402000475,107.61771007459949,110.46368646556058,113.47633122171943,116.67035037529949,120.06223250788427,123.67052727375562,127.51617783097362,131.62291975867268,136.0177625089718,140.73157402714935,145.79979528741404,151.2633197215454,157.16958371040721,163.57392969834083,170.54132490261654,178.14854876182633,186.48700536953245,195.66637963800906,205.8194480400096,217.10849293112119,229.73398075059896,243.94649454751124,260.06343951734539,278.49290805429865,299.76855944309091,324.60193939668176,353.96333752365285,389.21115927601812,432.30754586224231,486.19570909502278,555.50069610859725,647.93091879336316,777.36151855203627,971.54277819004551,1295.2253575867264,1942.66123638009,3885.1103127601805,{"$error":"#DIV/0!"},{"$f":"(CI158^2+$CH$155^2-$CH$156^2)/(2*CI158)","v":3885.1103127601805},1942.66123638009,1295.2253575867264,971.54277819004551,777.36151855203627,647.93091879336316,555.50069610859725,486.19570909502278,432.30754586224231,389.21115927601812,353.96333752365285,324.60193939668176,299.76855944309091,278.49290805429865,260.06343951734539,243.94649454751124,229.73398075059896,217.10849293112119,205.8194480400096,195.66637963800906,186.48700536953245,178.14854876182633,170.54132490261654,163.57392969834083,157.16958371040721,151.2633197215454,145.79979528741404,140.73157402714935,136.0177625089718,131.62291975867268,127.51617783097362,123.67052727375562,120.06223250788427,116.67035037529949,113.47633122171943,110.46368646556058,107.61771007459949,104.92524402000475,102.3744798143636,99.954789819004503,97.656583238053216,95.471182684766219,93.390717971166978,91.408034380913207,89.516613172448416,87.710502451308272,85.984256867237903,84.332884849170455,82.75180230122821,81.236791855203649]
[null,null,null,null,null,null,null,null,null,null,null,null,null,null,null,null,null,null,null,null,null,null,null,null,null,null,null,null,null,null,null,null,null,null,2,{"$f":"(AJ158^2-$CH$155^2+$CH$156^2)/(2*AJ158)","v":-74.164791855203589},{"$f":"(AK158^2-$CH$155^2+$CH$156^2)/(2*AK158)","v":-75.821242301228153},-77.543764849170415,-79.336576867237881,-81.204262451308296,-83.151813172448499,-85.184674380913194,-87.308797971167039,-89.530702684766212,-91.857543238053154,-94.297189819004558,-96.858319814363625,-99.550524020004772,-102.38443007459949,-105.37184646556061,-108.52593122171947,-111.86139037529939,-115.39471250788424,-119.14444727375567,-123.13153783097354,-127.37971975867272,-131.91600250897176,-136.77125402714927,-141.98091528741412,-147.58587972154547,-153.63358371040727,-160.17936969834088,-167.2882049026166,-175.03686876182647,-183.51676536953238,-192.83757963800909,-203.13208804000945,-214.5625729311212,-227.32950075059881,-241.68345454751136,-257.94183951734544,-276.51274805429858,-297.92983944309083,-322.90465939668167,-352.40749752365275,-387.79675927601812,-431.03458586224247,-485.06418909502241,-554.51061610859722,-647.08227879336368,-776.65431855203622,-970.97701819004487,-1294.8010375867273,-1942.3783563800905,-3884.9688727601811,{"$error":"#DIV/0!"},{"$f":"(CI158^2-$CH$155^2+$CH$156^2)/(2*CI158)","v":-3884.9688727601811},-1942.3783563800905,-1294.8010375867273,-970.97701819004487,-776.65431855203622,-647.08227879336368,-554.51061610859722,-485.06418909502241,-431.03458586224247,-387.79675927601812,-352.40749752365275,-322.90465939668167,-297.92983944309083,-276.51274805429858,-257.94183951734544,-241.68345454751136,-227.32950075059881,-214.5625729311212,-203.13208804000945,-192.83757963800909,-183.51676536953238,-175.03686876182647,-167.2882049026166,-160.17936969834088,-153.63358371040727,-147.58587972154547,-141.98091528741412,-136.77125402714927,-131.91600250897176,-127.37971975867272,-123.13153783097354,-119.14444727375567,-115.39471250788424,-111.86139037529939,-108.52593122171947,-105.37184646556061,-102.38443007459949,-99.550524020004772,-96.858319814363625,-94.297189819004558,-91.857543238053154,-89.530702684766212,-87.308797971167039,-85.184674380913194,-83.151813172448499,-81.204262451308296,-79.336576867237881,-77.543764849170415,-75.821242301228153,-74.164791855203589]
[null,null,null,null,null,null,null,null,null,null,null,null,null,null,null,null,null,null,null,null,null,null,null,null,null,null,null,null,null,null,null,null,null,null,3,{"$f":"AJ160+AJ161","v":7.0720000000000596},{"$f":"AK160+AK161","v":6.9305600000000567},6.7891200000000396,6.6476800000000225,6.5062399999999769,6.3647999999999172,6.2233600000000138,6.0819199999999398,5.940480000000008,5.7990400000000619,5.6575999999999453,5.5161599999999709,5.3747199999999822,5.2332799999999935,5.0918399999999764,4.9503999999999593,4.8089600000000985,4.6675200000000387,4.5260799999999506,4.3846400000000756,4.243199999999959,4.1017600000000414,3.9603200000000811,3.8188799999999219,3.6774399999999332,3.5359999999999445,3.3945599999999558,3.2531199999999387,3.1116799999998648,2.970240000000075,2.8287999999999727,2.6873600000001545,2.5459199999999953,2.4044800000001487,2.2630399999998758,2.121599999999944,1.980160000000069,1.8387200000000803,1.6972800000000916,1.5558400000001029,1.4144000000000005,1.2729599999998413,1.1315200000003642,0.99008000000003449,0.84863999999947737,0.70720000000005712,0.56576000000063686,0.42431999999917025,0.28287999999952262,0.14143999999942025,{"$error":"#DIV/0!"},{"$f":"CI160+CI161","v":0.14143999999942025},0.28287999999952262,0.42431999999917025,0.56576000000063686,0.70720000000005712,0.84863999999947737,0.99008000000003449,1.1315200000003642,1.2729599999998413,1.4144000000000005,1.5558400000001029,1.6972800000000916,1.8387200000000803,1.980160000000069,2.121599999999944,2.2630399999998758,2.4044800000001487,2.5459199999999953,2.6873600000001545,2.8287999999999727,2.970240000000075,3.1116799999998648,3.2531199999999387,3.3945599999999558,3.5359999999999445,3.6774399999999332,3.8188799999999219,3.9603200000000811,4.1017600000000414,4.243199999999959,4.3846400000000756,4.5260799999999506,{"$f":"DO160+DO161","v":4.6675200000000387},4.8089600000000985,4.9503999999999593,5.0918399999999764,5.2332799999999935,5.3747199999999822,5.5161599999999709,5.6575999999999453,5.7990400000000619,5.940480000000008,6.0819199999999398,6.2233600000000138,6.3647999999999172,6.5062399999999769,6.6476800000000225,6.7891200000000396,6.9305600000000567,7.0720000000000596]
[null,null,null,null,null,null,null,null,null,null,null,null,null,null,null,null,null,null,null,null,null,null,null,null,null,null,null,null,null,null,null,null,null,null,4,{"$f":"SQRT($CH$155^2-AJ160^2)","v":11.161704577452253},{"$f":"SQRT($CH$155^2-AK160^2)","v":{"$error":"#NUM!"}},{"$error":"#NUM!"},{"$error":"#NUM!"},{"$error":"#NUM!"},{"$error":"#NUM!"},{"$error":"#NUM!"},{"$error":"#NUM!"},{"$error":"#NUM!"},{"$error":"#NUM!"},{"$error":"#NUM!"},{"$error":"#NUM!"},{"$error":"#NUM!"},{"$error":"#NUM!"},{"$error":"#NUM!"},{"$error":"#NUM!"},{"$error":"#NUM!"},{"$error":"#NUM!"},{"$error":"#NUM!"},{"$error":"#NUM!"},{"$error":"#NUM!"},{"$error":"#NUM!"},{"$error":"#NUM!"},{"$error":"#NUM!"},{"$error":"#NUM!"},{"$error":"#NUM!"},{"$error":"#NUM!"},{"$error":"#NUM!"},{"$error":"#NUM!"},{"$error":"#NUM!"},{"$error":"#NUM!"},{"$error":"#NUM!"},{"$error":"#NUM!"},{"$error":"#NUM!"},{"$error":"#NUM!"},{"$error":"#NUM!"},{"$error":"#NUM!"},{"$error":"#NUM!"},{"$error":"#NUM!"},{"$error":"#NUM!"},{"$error":"#NUM!"},{"$error":"#NUM!"},{"$error":"#NUM!"},{"$error":"#NUM!"},{"$error":"#NUM!"},{"$error":"#NUM!"},{"$error":"#NUM!"},{"$error":"#NUM!"},{"$error":"#NUM!"},{"$error":"#NUM!"},{"$error":"#DIV/0!"},{"$f":"SQRT($CH$155^2-CI160^2)","v":{"$error":"#NUM!"}},{"$error":"#NUM!"},{"$error":"#NUM!"},{"$error":"#NUM!"},{"$error":"#NUM!"},{"$error":"#NUM!"},{"$error":"#NUM!"},{"$error":"#NUM!"},{"$error":"#NUM!"},{"$error":"#NUM!"},{"$error":"#NUM!"},{"$error":"#NUM!"},{"$error":"#NUM!"},{"$error":"#NUM!"},{"$error":"#NUM!"},{"$error":"#NUM!"},{"$error":"#NUM!"},{"$error":"#NUM!"},{"$error":"#NUM!"},{"$error":"#NUM!"},{"$error":"#NUM!"},{"$error":"#NUM!"},{"$error":"#NUM!"},{"$error":"#NUM!"},{"$error":"#NUM!"},{"$error":"#NUM!"},{"$error":"#NUM!"},{"$error":"#NUM!"},{"$error":"#NUM!"},{"$error":"#NUM!"},{"$error":"#NUM!"},{"$error":"#NUM!"},{"$error":"#NUM!"},{"$error":"#NUM!"},{"$error":"#NUM!"},{"$error":"#NUM!"},{"$error":"#NUM!"},{"$error":"#NUM!"},{"$error":"#NUM!"},{"$error":"#NUM!"},{"$error":"#NUM!"},{"$error":"#NUM!"},{"$error":"#NUM!"},{"$error":"#NUM!"},{"$error":"#NUM!"},{"$error":"#NUM!"},{"$error":"#NUM!"},{"$error":"#NUM!"},{"$error":"#NUM!"},11.161704577452253]
[null,null,null,null,null,null,null,null,null,null,null,null,null,null,null,null,null,null,null,null,null,null,null,null,null,null,null,null,null,null,null,null,null,null,5,{"$f":"AJ163*AJ160","v":906.74107150776251},{"$f":"AK163*AK160","v":{"$error":"#NUM!"}},{"$error":"#NUM!"},{"$error":"#NUM!"},{"$error":"#NUM!"},{"$error":"#NUM!"},{"$error":"#NUM!"},{"$error":"#NUM!"},{"$error":"#NUM!"},{"$error":"#NUM!"},{"$error":"#NUM!"},{"$error":"#NUM!"},{"$error":"#NUM!"},{"$error":"#NUM!"},{"$error":"#NUM!"},{"$error":"#NUM!"},{"$error":"#NUM!"},{"$error":"#NUM!"},{"$error":"#NUM!"},{"$error":"#NUM!"},{"$error":"#NUM!"},{"$error":"#NUM!"},{"$error":"#NUM!"},{"$error":"#NUM!"},{"$error":"#NUM!"},{"$error":"#NUM!"},{"$error":"#NUM!"},{"$error":"#NUM!"},{"$error":"#NUM!"},{"$error":"#NUM!"},{"$error":"#NUM!"},{"$error":"#NUM!"},{"$error":"#NUM!"},{"$error":"#NUM!"},{"$error":"#NUM!"},{"$error":"#NUM!"},{"$error":"#NUM!"},{"$error":"#NUM!"},{"$error":"#NUM!"},{"$error":"#NUM!"},{"$error":"#NUM!"},{"$error":"#NUM!"},{"$error":"#NUM!"},{"$error":"#NUM!"},{"$error":"#NUM!"},{"$error":"#NUM!"},{"$error":"#NUM!"},{"$error":"#NUM!"},{"$error":"#NUM!"},{"$error":"#NUM!"},{"$error":"#DIV/0!"},{"$f":"CI163*CI160","v":{"$error":"#NUM!"}},{"$error":"#NUM!"},{"$error":"#NUM!"},{"$error":"#NUM!"},{"$error":"#NUM!"},{"$error":"#NUM!"},{"$error":"#NUM!"},{"$error":"#NUM!"},{"$error":"#NUM!"},{"$error":"#NUM!"},{"$error":"#NUM!"},{"$error":"#NUM!"},{"$error":"#NUM!"},{"$error":"#NUM!"},{"$error":"#NUM!"},{"$error":"#NUM!"},{"$error":"#NUM!"},{"$error":"#NUM!"},{"$error":"#NUM!"},{"$error":"#NUM!"},{"$error":"#NUM!"},{"$error":"#NUM!"},{"$error":"#NUM!"},{"$error":"#NUM!"},{"$error":"#NUM!"},{"$error":"#NUM!"},{"$error":"#NUM!"},{"$error":"#NUM!"},{"$error":"#NUM!"},{"$error":"#NUM!"},{"$error":"#NUM!"},{"$error":"#NUM!"},{"$f":"DO163*DO160","v":{"$error":"#NUM!"}},{"$error":"#NUM!"},{"$error":"#NUM!"},{"$error":"#NUM!"},{"$error":"#NUM!"},{"$error":"#NUM!"},{"$error":"#NUM!"},{"$error":"#NUM!"},{"$error":"#NUM!"},{"$error":"#NUM!"},{"$error":"#NUM!"},{"$error":"#NUM!"},{"$error":"#NUM!"},{"$error":"#NUM!"},{"$error":"#NUM!"},{"$error":"#NUM!"},{"$error":"#NUM!"},906.74107150776251]
[null,null,null,null,null,null,null,null,null,null,null,null,null,null,null,null,null,null,null,null,null,null,null,null,null,null,null,null,null,null,null,null,null,null,6,{"$f":"AJ163*AJ161","v":-827.80549673601945},{"$f":"AK163*AK161","v":{"$error":"#NUM!"}},{"$error":"#NUM!"},{"$error":"#NUM!"},{"$error":"#NUM!"},{"$error":"#NUM!"},{"$error":"#NUM!"},{"$error":"#NUM!"},{"$error":"#NUM!"},{"$error":"#NUM!"},{"$error":"#NUM!"},{"$error":"#NUM!"},{"$error":"#NUM!"},{"$error":"#NUM!"},{"$error":"#NUM!"},{"$error":"#NUM!"},{"$error":"#NUM!"},{"$error":"#NUM!"},{"$error":"#NUM!"},{"$error":"#NUM!"},{"$error":"#NUM!"},{"$error":"#NUM!"},{"$error":"#NUM!"},{"$error":"#NUM!"},{"$error":"#NUM!"},{"$error":"#NUM!"},{"$error":"#NUM!"},{"$error":"#NUM!"},{"$error":"#NUM!"},{"$error":"#NUM!"},{"$error":"#NUM!"},{"$error":"#NUM!"},{"$error":"#NUM!"},{"$error":"#NUM!"},{"$error":"#NUM!"},{"$error":"#NUM!"},{"$error":"#NUM!"},{"$error":"#NUM!"},{"$error":"#NUM!"},{"$error":"#NUM!"},{"$error":"#NUM!"},{"$error":"#NUM!"},{"$error":"#NUM!"},{"$error":"#NUM!"},{"$error":"#NUM!"},{"$error":"#NUM!"},{"$error":"#NUM!"},{"$error":"#NUM!"},{"$error":"#NUM!"},{"$error":"#NUM!"},{"$error":"#DIV/0!"},{"$f":"CI163*CI161","v":{"$error":"#NUM!"}},{"$error":"#NUM!"},{"$error":"#NUM!"},{"$error":"#NUM!"},{"$error":"#NUM!"},{"$error":"#NUM!"},{"$error":"#NUM!"},{"$error":"#NUM!"},{"$error":"#NUM!"},{"$error":"#NUM!"},{"$error":"#NUM!"},{"$error":"#NUM!"},{"$error":"#NUM!"},{"$error":"#NUM!"},{"$error":"#NUM!"},{"$error":"#NUM!"},{"$error":"#NUM!"},{"$error":"#NUM!"},{"$error":"#NUM!"},{"$error":"#NUM!"},{"$error":"#NUM!"},{"$error":"#NUM!"},{"$error":"#NUM!"},{"$error":"#NUM!"},{"$error":"#NUM!"},{"$error":"#NUM!"},{"$error":"#NUM!"},{"$error":"#NUM!"},{"$error":"#NUM!"},{"$error":"#NUM!"},{"$error":"#NUM!"},{"$error":"#NUM!"},{"$error":"#NUM!"},{"$error":"#NUM!"},{"$error":"#NUM!"},{"$error":"#NUM!"},{"$error":"#NUM!"},{"$error":"#NUM!"},{"$error":"#NUM!"},{"$error":"#NUM!"},{"$error":"#NUM!"},{"$error":"#NUM!"},{"$error":"#NUM!"},{"$error":"#NUM!"},{"$error":"#NUM!"},{"$error":"#NUM!"},{"$error":"#NUM!"},{"$error":"#NUM!"},{"$error":"#NUM!"},-827.80549673601945]
[null,null,null,null,null,null,null,null,null,null,null,null,null,null,null,null,null,null,null,null,null,null,null,null,null,null,null,null,null,null,null,null,null,null,7,{"$f":"2*ACOS(AJ160/$CH$155)*180/PI()","v":15.646587055297744},{"$f":"2*ACOS(AK160/$CH$155)*180/PI()","v":{"$error":"#NUM!"}},{"$error":"#NUM!"},{"$error":"#NUM!"},{"$error":"#NUM!"},{"$error":"#NUM!"},{"$error":"#NUM!"},{"$error":"#NUM!"},{"$error":"#NUM!"},{"$error":"#NUM!"},{"$error":"#NUM!"},{"$error":"#NUM!"},{"$error":"#NUM!"},{"$error":"#NUM!"},{"$error":"#NUM!"},{"$error":"#NUM!"},{"$error":"#NUM!"},{"$error":"#NUM!"},{"$error":"#NUM!"},{"$error":"#NUM!"},{"$error":"#NUM!"},{"$error":"#NUM!"},{"$error":"#NUM!"},{"$error":"#NUM!"},{"$error":"#NUM!"},{"$error":"#NUM!"},{"$error":"#NUM!"},{"$error":"#NUM!"},{"$error":"#NUM!"},{"$error":"#NUM!"},{"$error":"#NUM!"},{"$error":"#NUM!"},{"$error":"#NUM!"},{"$error":"#NUM!"},{"$error":"#NUM!"},{"$error":"#NUM!"},{"$error":"#NUM!"},{"$error":"#NUM!"},{"$error":"#NUM!"},{"$error":"#NUM!"},{"$error":"#NUM!"},{"$error":"#NUM!"},{"$error":"#NUM!"},{"$error":"#NUM!"},{"$error":"#NUM!"},{"$error":"#NUM!"},{"$error":"#NUM!"},{"$error":"#NUM!"},{"$error":"#NUM!"},{"$error":"#NUM!"},{"$error":"#DIV/0!"},{"$f":"2*ACOS(CI160/$CH$155)*180/PI()","v":{"$error":"#NUM!"}},{"$error":"#NUM!"},{"$error":"#NUM!"},{"$error":"#NUM!"},{"$error":"#NUM!"},{"$error":"#NUM!"},{"$error":"#NUM!"},{"$error":"#NUM!"},{"$error":"#NUM!"},{"$error":"#NUM!"},{"$error":"#NUM!"},{"$error":"#NUM!"},{"$error":"#NUM!"},{"$error":"#NUM!"},{"$error":"#NUM!"},{"$error":"#NUM!"},{"$error":"#NUM!"},{"$error":"#NUM!"},{"$error":"#NUM!"},{"$error":"#NUM!"},{"$error":"#NUM!"},{"$error":"#NUM!"},{"$error":"#NUM!"},{"$error":"#NUM!"},{"$error":"#NUM!"},{"$error":"#NUM!"},{"$error":"#NUM!"},{"$error":"#NUM!"},{"$error":"#NUM!"},{"$error":"#NUM!"},{"$error":"#NUM!"},{"$error":"#NUM!"},{"$error":"#NUM!"},{"$error":"#NUM!"},{"$error":"#NUM!"},{"$error":"#NUM!"},{"$error":"#NUM!"},{"$error":"#NUM!"},{"$error":"#NUM!"},{"$error":"#NUM!"},{"$error":"#NUM!"},{"$error":"#NUM!"},{"$error":"#NUM!"},{"$error":"#NUM!"},{"$error":"#NUM!"},{"$error":"#NUM!"},{"$error":"#NUM!"},{"$error":"#NUM!"},{"$error":"#NUM!"},15.646587055297744]
[null,null,null,null,null,null,null,null,null,null,null,null,null,null,null,null,null,null,null,null,null,null,null,null,null,null,null,null,null,null,null,null,null,null,8,{"$f":"2*ACOS(AJ161/$CH$156)*180/PI()","v":342.88258384760098},{"$f":"2*ACOS(AK161/$CH$156)*180/PI()","v":{"$error":"#NUM!"}},{"$error":"#NUM!"},{"$error":"#NUM!"},{"$error":"#NUM!"},{"$error":"#NUM!"},{"$error":"#NUM!"},{"$error":"#NUM!"},{"$error":"#NUM!"},{"$error":"#NUM!"},{"$error":"#NUM!"},{"$error":"#NUM!"},{"$error":"#NUM!"},{"$error":"#NUM!"},{"$error":"#NUM!"},{"$error":"#NUM!"},{"$error":"#NUM!"},{"$error":"#NUM!"},{"$error":"#NUM!"},{"$error":"#NUM!"},{"$error":"#NUM!"},{"$error":"#NUM!"},{"$error":"#NUM!"},{"$error":"#NUM!"},{"$error":"#NUM!"},{"$error":"#NUM!"},{"$error":"#NUM!"},{"$error":"#NUM!"},{"$error":"#NUM!"},{"$error":"#NUM!"},{"$error":"#NUM!"},{"$error":"#NUM!"},{"$error":"#NUM!"},{"$error":"#NUM!"},{"$error":"#NUM!"},{"$error":"#NUM!"},{"$error":"#NUM!"},{"$error":"#NUM!"},{"$error":"#NUM!"},{"$error":"#NUM!"},{"$error":"#NUM!"},{"$error":"#NUM!"},{"$error":"#NUM!"},{"$error":"#NUM!"},{"$error":"#NUM!"},{"$error":"#NUM!"},{"$error":"#NUM!"},{"$error":"#NUM!"},{"$error":"#NUM!"},{"$error":"#NUM!"},{"$error":"#DIV/0!"},{"$f":"2*ACOS(CI161/$CH$156)*180/PI()","v":{"$error":"#NUM!"}},{"$error":"#NUM!"},{"$error":"#NUM!"},{"$error":"#NUM!"},{"$error":"#NUM!"},{"$error":"#NUM!"},{"$error":"#NUM!"},{"$error":"#NUM!"},{"$error":"#NUM!"},{"$error":"#NUM!"},{"$error":"#NUM!"},{"$error":"#NUM!"},{"$error":"#NUM!"},{"$error":"#NUM!"},{"$error":"#NUM!"},{"$error":"#NUM!"},{"$error":"#NUM!"},{"$error":"#NUM!"},{"$error":"#NUM!"},{"$error":"#NUM!"},{"$error":"#NUM!"},{"$error":"#NUM!"},{"$error":"#NUM!"},{"$error":"#NUM!"},{"$error":"#NUM!"},{"$error":"#NUM!"},{"$error":"#NUM!"},{"$error":"#NUM!"},{"$error":"#NUM!"},{"$error":"#NUM!"},{"$error":"#NUM!"},{"$error":"#NUM!"},{"$error":"#NUM!"},{"$error":"#NUM!"},{"$error":"#NUM!"},{"$error":"#NUM!"},{"$error":"#NUM!"},{"$error":"#NUM!"},{"$error":"#NUM!"},{"$error":"#NUM!"},{"$error":"#NUM!"},{"$error":"#NUM!"},{"$error":"#NUM!"},{"$error":"#NUM!"},{"$error":"#NUM!"},{"$error":"#NUM!"},{"$error":"#NUM!"},{"$error":"#NUM!"},{"$error":"#NUM!"},342.88258384760098]
[null,null,null,null,null,null,null,null,null,null,null,null,null,null,null,null,null,null,null,null,null,null,null,null,null,null,null,null,null,null,null,null,null,null,9,{"$f":"PI()*$CH$155^2*AJ166/360","v":918.10995725959185},{"$f":"PI()*$CH$155^2*AK166/360","v":{"$error":"#NUM!"}},{"$error":"#NUM!"},{"$error":"#NUM!"},{"$error":"#NUM!"},{"$error":"#NUM!"},{"$error":"#NUM!"},{"$error":"#NUM!"},{"$error":"#NUM!"},{"$error":"#NUM!"},{"$error":"#NUM!"},{"$error":"#NUM!"},{"$error":"#NUM!"},{"$error":"#NUM!"},{"$error":"#NUM!"},{"$error":"#NUM!"},{"$error":"#NUM!"},{"$error":"#NUM!"},{"$error":"#NUM!"},{"$error":"#NUM!"},{"$error":"#NUM!"},{"$error":"#NUM!"},{"$error":"#NUM!"},{"$error":"#NUM!"},{"$error":"#NUM!"},{"$error":"#NUM!"},{"$error":"#NUM!"},{"$error":"#NUM!"},{"$error":"#NUM!"},{"$error":"#NUM!"},{"$error":"#NUM!"},{"$error":"#NUM!"},{"$error":"#NUM!"},{"$error":"#NUM!"},{"$error":"#NUM!"},{"$error":"#NUM!"},{"$error":"#NUM!"},{"$error":"#NUM!"},{"$error":"#NUM!"},{"$error":"#NUM!"},{"$error":"#NUM!"},{"$error":"#NUM!"},{"$error":"#NUM!"},{"$error":"#NUM!"},{"$error":"#NUM!"},{"$error":"#NUM!"},{"$error":"#NUM!"},{"$error":"#NUM!"},{"$error":"#NUM!"},{"$error":"#NUM!"},{"$error":"#DIV/0!"},{"$f":"PI()*$CH$155^2*CI166/360","v":{"$error":"#NUM!"}},{"$error":"#NUM!"},{"$error":"#NUM!"},{"$error":"#NUM!"},{"$error":"#NUM!"},{"$error":"#NUM!"},{"$error":"#NUM!"},{"$error":"#NUM!"},{"$error":"#NUM!"},{"$error":"#NUM!"},{"$error":"#NUM!"},{"$error":"#NUM!"},{"$error":"#NUM!"},{"$error":"#NUM!"},{"$error":"#NUM!"},{"$error":"#NUM!"},{"$error":"#NUM!"},{"$error":"#NUM!"},{"$error":"#NUM!"},{"$error":"#NUM!"},{"$error":"#NUM!"},{"$error":"#NUM!"},{"$error":"#NUM!"},{"$error":"#NUM!"},{"$error":"#NUM!"},{"$error":"#NUM!"},{"$error":"#NUM!"},{"$error":"#NUM!"},{"$error":"#NUM!"},{"$error":"#NUM!"},{"$error":"#NUM!"},{"$error":"#NUM!"},{"$error":"#NUM!"},{"$error":"#NUM!"},{"$error":"#NUM!"},{"$error":"#NUM!"},{"$error":"#NUM!"},{"$error":"#NUM!"},{"$error":"#NUM!"},{"$error":"#NUM!"},{"$error":"#NUM!"},{"$error":"#NUM!"},{"$error":"#NUM!"},{"$error":"#NUM!"},{"$error":"#NUM!"},{"$error":"#NUM!"},{"$error":"#NUM!"},{"$error":"#NUM!"},{"$error":"#NUM!"},918.10995725959185]
[null,null,null,null,null,null,null,null,null,null,null,null,null,null,null,null,null,null,null,null,null,null,null,null,null,null,null,null,null,null,null,null,null,null,10,{"$f":"PI()*$CH$156^2*AJ167/360","v":16831.209475929838},{"$f":"PI()*$CH$156^2*AK167/360","v":{"$error":"#NUM!"}},{"$error":"#NUM!"},{"$error":"#NUM!"},{"$error":"#NUM!"},{"$error":"#NUM!"},{"$error":"#NUM!"},{"$error":"#NUM!"},{"$error":"#NUM!"},{"$error":"#NUM!"},{"$error":"#NUM!"},{"$error":"#NUM!"},{"$error":"#NUM!"},{"$error":"#NUM!"},{"$error":"#NUM!"},{"$error":"#NUM!"},{"$error":"#NUM!"},{"$error":"#NUM!"},{"$error":"#NUM!"},{"$error":"#NUM!"},{"$error":"#NUM!"},{"$error":"#NUM!"},{"$error":"#NUM!"},{"$error":"#NUM!"},{"$error":"#NUM!"},{"$error":"#NUM!"},{"$error":"#NUM!"},{"$error":"#NUM!"},{"$error":"#NUM!"},{"$error":"#NUM!"},{"$error":"#NUM!"},{"$error":"#NUM!"},{"$error":"#NUM!"},{"$error":"#NUM!"},{"$error":"#NUM!"},{"$error":"#NUM!"},{"$error":"#NUM!"},{"$error":"#NUM!"},{"$error":"#NUM!"},{"$error":"#NUM!"},{"$error":"#NUM!"},{"$error":"#NUM!"},{"$error":"#NUM!"},{"$error":"#NUM!"},{"$error":"#NUM!"},{"$error":"#NUM!"},{"$error":"#NUM!"},{"$error":"#NUM!"},{"$error":"#NUM!"},{"$error":"#NUM!"},{"$error":"#DIV/0!"},{"$f":"PI()*$CH$156^2*CI167/360","v":{"$error":"#NUM!"}},{"$error":"#NUM!"},{"$error":"#NUM!"},{"$error":"#NUM!"},{"$error":"#NUM!"},{"$error":"#NUM!"},{"$error":"#NUM!"},{"$error":"#NUM!"},{"$error":"#NUM!"},{"$error":"#NUM!"},{"$error":"#NUM!"},{"$error":"#NUM!"},{"$error":"#NUM!"},{"$error":"#NUM!"},{"$error":"#NUM!"},{"$error":"#NUM!"},{"$error":"#NUM!"},{"$error":"#NUM!"},{"$error":"#NUM!"},{"$error":"#NUM!"},{"$error":"#NUM!"},{"$error":"#NUM!"},{"$error":"#NUM!"},{"$error":"#NUM!"},{"$error":"#NUM!"},{"$error":"#NUM!"},{"$error":"#NUM!"},{"$error":"#NUM!"},{"$error":"#NUM!"},{"$error":"#NUM!"},{"$error":"#NUM!"},{"$error":"#NUM!"},{"$error":"#NUM!"},{"$error":"#NUM!"},{"$error":"#NUM!"},{"$error":"#NUM!"},{"$error":"#NUM!"},{"$error":"#NUM!"},{"$error":"#NUM!"},{"$error":"#NUM!"},{"$error":"#NUM!"},{"$error":"#NUM!"},{"$error":"#NUM!"},{"$error":"#NUM!"},{"$error":"#NUM!"},{"$error":"#NUM!"},{"$error":"#NUM!"},{"$error":"#NUM!"},{"$error":"#NUM!"},16831.209475929838]
[null,null,null,null,null,null,null,null,null,null,null,null,null,null,null,null,null,null,null,null,null,null,null,null,null,null,null,null,null,null,null,null,null,null,11,{"$f":"IF(AJ158<$CH$155-$CH$156,PI()*$CH156^2,AJ168-AJ164+AJ169-AJ165)","v":17670.383858417685},{"$f":"IF(AK158<$CH$155-$CH$156,PI()*$CH156^2,AK168-AK164+AK169-AK165)","v":17671.458676442588},17671.458676442588,17671.458676442588,17671.458676442588,17671.458676442588,17671.458676442588,17671.458676442588,17671.458676442588,17671.458676442588,17671.458676442588,17671.458676442588,17671.458676442588,17671.458676442588,17671.458676442588,17671.458676442588,17671.458676442588,17671.458676442588,17671.458676442588,17671.458676442588,17671.458676442588,17671.458676442588,17671.458676442588,17671.458676442588,17671.458676442588,17671.458676442588,17671.458676442588,17671.458676442588,17671.458676442588,17671.458676442588,17671.458676442588,17671.458676442588,17671.458676442588,17671.458676442588,17671.458676442588,17671.458676442588,17671.458676442588,17671.458676442588,17671.458676442588,17671.458676442588,17671.458676442588,17671.458676442588,17671.458676442588,17671.458676442588,17671.458676442588,17671.458676442588,17671.458676442588,17671.458676442588,17671.458676442588,17671.458676442588,17671.458676442588,{"$f":"IF(CI158<$CH$155-$CH$156,PI()*$CH156^2,CI168-CI164+CI169-CI165)","v":17671.458676442588},17671.458676442588,17671.458676442588,17671.458676442588,17671.458676442588,17671.458676442588,17671.458676442588,17671.458676442588,17671.458676442588,17671.458676442588,17671.458676442588,17671.458676442588,17671.458676442588,17671.458676442588,17671.458676442588,17671.458676442588,17671.458676442588,17671.458676442588,17671.458676442588,17671.458676442588,17671.458676442588,17671.458676442588,17671.458676442588,17671.458676442588,17671.458676442588,17671.458676442588,17671.458676442588,17671.458676442588,17671.458676442588,17671.458676442588,17671.458676442588,17671.458676442588,{"$f":"IF(DO158<$CH$155-$CH$156,PI()*$CH156^2,DO168-DO164+DO169-DO165)","v":17671.458676442588},17671.458676442588,17671.458676442588,17671.458676442588,17671.458676442588,17671.458676442588,17671.458676442588,17671.458676442588,17671.458676442588,17671.458676442588,17671.458676442588,17671.458676442588,17671.458676442588,17671.458676442588,17671.458676442588,17671.458676442588,17671.458676442588,17670.383858417685]
[null,null,null,null,null,null,null,null,null,null,null,null,null,null,null,null,null,null,null,null,null,null,null,null,null,null,null,null,null,null,null,null,null,null,12,{"$f":"(AJ170)/(PI()*$CH$156^2)","v":0.99993917774165775},{"$f":"(AK170)/(PI()*$CH$156^2)","v":1},1,1,1,1,1,1,1,1,1,1,1,1,1,1,1,1,1,1,1,1,1,1,1,1,1,1,1,1,1,1,1,1,1,1,1,1,1,1,1,1,1,1,1,1,1,1,1,1,1,{"$f":"(CI170)/(PI()*$CH$156^2)","v":1},1,1,1,1,1,1,1,1,1,1,1,1,1,1,1,1,1,1,1,1,1,1,1,1,1,1,1,1,1,1,1,{"$f":"(DO170)/(PI()*$CH$156^2)","v":1},1,1,1,1,1,1,1,1,1,1,1,1,1,1,1,1,0.99993917774165775]
[]
[]
[]
[]
[]
[]
[]
[]
[]
[]
[]
[]
[]
[]
[]
[]
[]
[]
[]
[]
[]
[]
[]
[]
[]
[]
[]
[null,null,null,null,null,null,null,null,null,null,null,null,null,null,null,null,null,null,null,null,null,null,null,null,null,null,null,null,null,null,null,null,null,"Виньетирование суммарное",null,{"$f":"1-(1-AJ171)-(1-AJ152)","v":0.99993917774165775},{"$f":"1-(1-AK171)-(1-AK152)","v":1},1,1,1,1,1,1,1,1,1,1,1,1,1,1,1,1,1,1,1,1,1,1,1,1,1,1,1,1,1,1,1,1,1,1,1,1,1,1,1,1,1,1,1,1,1,1,1,1,1,1,1,1,1,1,1,1,1,1,1,1,1,1,1,{"$f":"1-(1-CW171)-(1-CW152)","v":1},1,1,1,1,1,1,1,1,1,1,1,1,1,1,1,1,1,1,1,1,1,1,1,1,1,1,1,1,1,1,1,1,1,1,0.99993917774165775]
[]
[null,null,null,null,null,null,null,null,null,null,null,null,null,null,null,null,null,null,null,null,null,null,null,null,null,null,null,null,null,null,null,null,null,"Проницающая сила",null,{"$f":"7.1+5*+LOG10(SQRT((((PI()*('Исходные данные'!$F$6/2)^2)*Виньетирование!AJ199)-PI()*('Исходные данные'!$F$46/2)^2)/PI())*2/10)","v":12.877999291987306},{"$f":"7.1+5*+LOG10(SQRT((((PI()*('Исходные данные'!$F$6/2)^2)*Виньетирование!AK199)-PI()*('Исходные данные'!$F$46/2)^2)/PI())*2/10)","v":12.878071861657411},{"$f":"7.1+5*+LOG10(SQRT((((PI()*('Исходные данные'!$F$6/2)^2)*Виньетирование!AL199)-PI()*('Исходные данные'!$F$46/2)^2)/PI())*2/10)","v":12.878071861657411},{"$f":"7.1+5*+LOG10(SQRT((((PI()*('Исходные данные'!$F$6/2)^2)*Виньетирование!AM199)-PI()*('Исходные данные'!$F$46/2)^2)/PI())*2/10)","v":12.878071861657411},{"$f":"7.1+5*+LOG10(SQRT((((PI()*('Исходные данные'!$F$6/2)^2)*Виньетирование!AN199)-PI()*('Исходные данные'!$F$46/2)^2)/PI())*2/10)","v":12.878071861657411},{"$f":"7.1+5*+LOG10(SQRT((((PI()*('Исходные данные'!$F$6/2)^2)*Виньетирование!AO199)-PI()*('Исходные данные'!$F$46/2)^2)/PI())*2/10)","v":12.878071861657411},{"$f":"7.1+5*+LOG10(SQRT((((PI()*('Исходные данные'!$F$6/2)^2)*Виньетирование!AP199)-PI()*('Исходные данные'!$F$46/2)^2)/PI())*2/10)","v":12.878071861657411},{"$f":"7.1+5*+LOG10(SQRT((((PI()*('Исходные данные'!$F$6/2)^2)*Виньетирование!AQ199)-PI()*('Исходные данные'!$F$46/2)^2)/PI())*2/10)","v":12.878071861657411},{"$f":"7.1+5*+LOG10(SQRT((((PI()*('Исходные данные'!$F$6/2)^2)*Виньетирование!AR199)-PI()*('Исходные данные'!$F$46/2)^2)/PI())*2/10)","v":12.878071861657411},{"$f":"7.1+5*+LOG10(SQRT((((PI()*('Исходные данные'!$F$6/2)^2)*Виньетирование!AS199)-PI()*('Исходные данные'!$F$46/2)^2)/PI())*2/10)","v":12.878071861657411},{"$f":"7.1+5*+LOG10(SQRT((((PI()*('Исходные данные'!$F$6/2)^2)*Виньетирование!AT199)-PI()*('Исходные данные'!$F$46/2)^2)/PI())*2/10)","v":12.878071861657411},{"$f":"7.1+5*+LOG10(SQRT((((PI()*('Исходные данные'!$F$6/2)^2)*Виньетирование!AU199)-PI()*('Исходные данные'!$F$46/2)^2)/PI())*2/10)","v":12.878071861657411},{"$f":"7.1+5*+LOG10(SQRT((((PI()*('Исходные данные'!$F$6/2)^2)*Виньетирование!AV199)-PI()*('Исходные данные'!$F$46/2)^2)/PI())*2/10)","v":12.878071861657411},{"$f":"7.1+5*+LOG10(SQRT((((PI()*('Исходные данные'!$F$6/2)^2)*Виньетирование!AW199)-PI()*('Исходные данные'!$F$46/2)^2)/PI())*2/10)","v":12.878071861657411},{"$f":"7.1+5*+LOG10(SQRT((((PI()*('Исходные данные'!$F$6/2)^2)*Виньетирование!AX199)-PI()*('Исходные данные'!$F$46/2)^2)/PI())*2/10)","v":12.878071861657411},{"$f":"7.1+5*+LOG10(SQRT((((PI()*('Исходные данные'!$F$6/2)^2)*Виньетирование!AY199)-PI()*('Исходные данные'!$F$46/2)^2)/PI())*2/10)","v":12.878071861657411},{"$f":"7.1+5*+LOG10(SQRT((((PI()*('Исходные данные'!$F$6/2)^2)*Виньетирование!AZ199)-PI()*('Исходные данные'!$F$46/2)^2)/PI())*2/10)","v":12.878071861657411},{"$f":"7.1+5*+LOG10(SQRT((((PI()*('Исходные данные'!$F$6/2)^2)*Виньетирование!BA199)-PI()*('Исходные данные'!$F$46/2)^2)/PI())*2/10)","v":12.878071861657411},{"$f":"7.1+5*+LOG10(SQRT((((PI()*('Исходные данные'!$F$6/2)^2)*Виньетирование!BB199)-PI()*('Исходные данные'!$F$46/2)^2)/PI())*2/10)","v":12.878071861657411},{"$f":"7.1+5*+LOG10(SQRT((((PI()*('Исходные данные'!$F$6/2)^2)*Виньетирование!BC199)-PI()*('Исходные данные'!$F$46/2)^2)/PI())*2/10)","v":12.878071861657411},{"$f":"7.1+5*+LOG10(SQRT((((PI()*('Исходные данные'!$F$6/2)^2)*Виньетирование!BD199)-PI()*('Исходные данные'!$F$46/2)^2)/PI())*2/10)","v":12.878071861657411},{"$f":"7.1+5*+LOG10(SQRT((((PI()*('Исходные данные'!$F$6/2)^2)*Виньетирование!BE199)-PI()*('Исходные данные'!$F$46/2)^2)/PI())*2/10)","v":12.878071861657411},{"$f":"7.1+5*+LOG10(SQRT((((PI()*('Исходные данные'!$F$6/2)^2)*Виньетирование!BF199)-PI()*('Исходные данные'!$F$46/2)^2)/PI())*2/10)","v":12.878071861657411},{"$f":"7.1+5*+LOG10(SQRT((((PI()*('Исходные данные'!$F$6/2)^2)*Виньетирование!BG199)-PI()*('Исходные данные'!$F$46/2)^2)/PI())*2/10)","v":12.878071861657411},{"$f":"7.1+5*+LOG10(SQRT((((PI()*('Исходные данные'!$F$6/2)^2)*Виньетирование!BH199)-PI()*('Исходные данные'!$F$46/2)^2)/PI())*2/10)","v":12.878071861657411},{"$f":"7.1+5*+LOG10(SQRT((((PI()*('Исходные данные'!$F$6/2)^2)*Виньетирование!BI199)-PI()*('Исходные данные'!$F$46/2)^2)/PI())*2/10)","v":12.878071861657411},{"$f":"7.1+5*+LOG10(SQRT((((PI()*('Исходные данные'!$F$6/2)^2)*Виньетирование!BJ199)-PI()*('Исходные данные'!$F$46/2)^2)/PI())*2/10)","v":12.878071861657411},{"$f":"7.1+5*+LOG10(SQRT((((PI()*('Исходные данные'!$F$6/2)^2)*Виньетирование!BK199)-PI()*('Исходные данные'!$F$46/2)^2)/PI())*2/10)","v":12.878071861657411},{"$f":"7.1+5*+LOG10(SQRT((((PI()*('Исходные данные'!$F$6/2)^2)*Виньетирование!BL199)-PI()*('Исходные данные'!$F$46/2)^2)/PI())*2/10)","v":12.878071861657411},{"$f":"7.1+5*+LOG10(SQRT((((PI()*('Исходные данные'!$F$6/2)^2)*Виньетирование!BM199)-PI()*('Исходные данные'!$F$46/2)^2)/PI())*2/10)","v":12.878071861657411},{"$f":"7.1+5*+LOG10(SQRT((((PI()*('Исходные данные'!$F$6/2)^2)*Виньетирование!BN199)-PI()*('Исходные данные'!$F$46/2)^2)/PI())*2/10)","v":12.878071861657411},{"$f":"7.1+5*+LOG10(SQRT((((PI()*('Исходные данные'!$F$6/2)^2)*Виньетирование!BO199)-PI()*('Исходные данные'!$F$46/2)^2)/PI())*2/10)","v":12.878071861657411},{"$f":"7.1+5*+LOG10(SQRT((((PI()*('Исходные данные'!$F$6/2)^2)*Виньетирование!BP199)-PI()*('Исходные данные'!$F$46/2)^2)/PI())*2/10)","v":12.878071861657411},{"$f":"7.1+5*+LOG10(SQRT((((PI()*('Исходные данные'!$F$6/2)^2)*Виньетирование!BQ199)-PI()*('Исходные данные'!$F$46/2)^2)/PI())*2/10)","v":12.878071861657411},{"$f":"7.1+5*+LOG10(SQRT((((PI()*('Исходные данные'!$F$6/2)^2)*Виньетирование!BR199)-PI()*('Исходные данные'!$F$46/2)^2)/PI())*2/10)","v":12.878071861657411},{"$f":"7.1+5*+LOG10(SQRT((((PI()*('Исходные данные'!$F$6/2)^2)*Виньетирование!BS199)-PI()*('Исходные данные'!$F$46/2)^2)/PI())*2/10)","v":12.878071861657411},{"$f":"7.1+5*+LOG10(SQRT((((PI()*('Исходные данные'!$F$6/2)^2)*Виньетирование!BT199)-PI()*('Исходные данные'!$F$46/2)^2)/PI())*2/10)","v":12.878071861657411},{"$f":"7.1+5*+LOG10(SQRT((((PI()*('Исходные данные'!$F$6/2)^2)*Виньетирование!BU199)-PI()*('Исходные данные'!$F$46/2)^2)/PI())*2/10)","v":12.878071861657411},{"$f":"7.1+5*+LOG10(SQRT((((PI()*('Исходные данные'!$F$6/2)^2)*Виньетирование!BV199)-PI()*('Исходные данные'!$F$46/2)^2)/PI())*2/10)","v":12.878071861657411},{"$f":"7.1+5*+LOG10(SQRT((((PI()*('Исходные данные'!$F$6/2)^2)*Виньетирование!BW199)-PI()*('Исходные данные'!$F$46/2)^2)/PI())*2/10)","v":12.878071861657411},{"$f":"7.1+5*+LOG10(SQRT((((PI()*('Исходные данные'!$F$6/2)^2)*Виньетирование!BX199)-PI()*('Исходные данные'!$F$46/2)^2)/PI())*2/10)","v":12.878071861657411},{"$f":"7.1+5*+LOG10(SQRT((((PI()*('Исходные данные'!$F$6/2)^2)*Виньетирование!BY199)-PI()*('Исходные данные'!$F$46/2)^2)/PI())*2/10)","v":12.878071861657411},{"$f":"7.1+5*+LOG10(SQRT((((PI()*('Исходные данные'!$F$6/2)^2)*Виньетирование!BZ199)-PI()*('Исходные данные'!$F$46/2)^2)/PI())*2/10)","v":12.878071861657411},{"$f":"7.1+5*+LOG10(SQRT((((PI()*('Исходные данные'!$F$6/2)^2)*Виньетирование!CA199)-PI()*('Исходные данные'!$F$46/2)^2)/PI())*2/10)","v":12.878071861657411},{"$f":"7.1+5*+LOG10(SQRT((((PI()*('Исходные данные'!$F$6/2)^2)*Виньетирование!CB199)-PI()*('Исходные данные'!$F$46/2)^2)/PI())*2/10)","v":12.878071861657411},{"$f":"7.1+5*+LOG10(SQRT((((PI()*('Исходные данные'!$F$6/2)^2)*Виньетирование!CC199)-PI()*('Исходные данные'!$F$46/2)^2)/PI())*2/10)","v":12.878071861657411},{"$f":"7.1+5*+LOG10(SQRT((((PI()*('Исходные данные'!$F$6/2)^2)*Виньетирование!CD199)-PI()*('Исходные данные'!$F$46/2)^2)/PI())*2/10)","v":12.878071861657411},{"$f":"7.1+5*+LOG10(SQRT((((PI()*('Исходные данные'!$F$6/2)^2)*Виньетирование!CE199)-PI()*('Исходные данные'!$F$46/2)^2)/PI())*2/10)","v":12.878071861657411},{"$f":"7.1+5*+LOG10(SQRT((((PI()*('Исходные данные'!$F$6/2)^2)*Виньетирование!CF199)-PI()*('Исходные данные'!$F$46/2)^2)/PI())*2/10)","v":12.878071861657411},{"$f":"7.1+5*+LOG10(SQRT((((PI()*('Исходные данные'!$F$6/2)^2)*Виньетирование!CG199)-PI()*('Исходные данные'!$F$46/2)^2)/PI())*2/10)","v":12.878071861657411},{"$f":"7.1+5*+LOG10(SQRT((((PI()*('Исходные данные'!$F$6/2)^2)*Виньетирование!CH199)-PI()*('Исходные данные'!$F$46/2)^2)/PI())*2/10)","v":12.878071861657411},{"$f":"7.1+5*+LOG10(SQRT((((PI()*('Исходные данные'!$F$6/2)^2)*Виньетирование!CI199)-PI()*('Исходные данные'!$F$46/2)^2)/PI())*2/10)","v":12.878071861657411},{"$f":"7.1+5*+LOG10(SQRT((((PI()*('Исходные данные'!$F$6/2)^2)*Виньетирование!CJ199)-PI()*('Исходные данные'!$F$46/2)^2)/PI())*2/10)","v":12.878071861657411},{"$f":"7.1+5*+LOG10(SQRT((((PI()*('Исходные данные'!$F$6/2)^2)*Виньетирование!CK199)-PI()*('Исходные данные'!$F$46/2)^2)/PI())*2/10)","v":12.878071861657411},{"$f":"7.1+5*+LOG10(SQRT((((PI()*('Исходные данные'!$F$6/2)^2)*Виньетирование!CL199)-PI()*('Исходные данные'!$F$46/2)^2)/PI())*2/10)","v":12.878071861657411},{"$f":"7.1+5*+LOG10(SQRT((((PI()*('Исходные данные'!$F$6/2)^2)*Виньетирование!CM199)-PI()*('Исходные данные'!$F$46/2)^2)/PI())*2/10)","v":12.878071861657411},{"$f":"7.1+5*+LOG10(SQRT((((PI()*('Исходные данные'!$F$6/2)^2)*Виньетирование!CN199)-PI()*('Исходные данные'!$F$46/2)^2)/PI())*2/10)","v":12.878071861657411},{"$f":"7.1+5*+LOG10(SQRT((((PI()*('Исходные данные'!$F$6/2)^2)*Виньетирование!CO199)-PI()*('Исходные данные'!$F$46/2)^2)/PI())*2/10)","v":12.878071861657411},{"$f":"7.1+5*+LOG10(SQRT((((PI()*('Исходные данные'!$F$6/2)^2)*Виньетирование!CP199)-PI()*('Исходные данные'!$F$46/2)^2)/PI())*2/10)","v":12.878071861657411},{"$f":"7.1+5*+LOG10(SQRT((((PI()*('Исходные данные'!$F$6/2)^2)*Виньетирование!CQ199)-PI()*('Исходные данные'!$F$46/2)^2)/PI())*2/10)","v":12.878071861657411},{"$f":"7.1+5*+LOG10(SQRT((((PI()*('Исходные данные'!$F$6/2)^2)*Виньетирование!CR199)-PI()*('Исходные данные'!$F$46/2)^2)/PI())*2/10)","v":12.878071861657411},{"$f":"7.1+5*+LOG10(SQRT((((PI()*('Исходные данные'!$F$6/2)^2)*Виньетирование!CS199)-PI()*('Исходные данные'!$F$46/2)^2)/PI())*2/10)","v":12.878071861657411},{"$f":"7.1+5*+LOG10(SQRT((((PI()*('Исходные данные'!$F$6/2)^2)*Виньетирование!CT199)-PI()*('Исходные данные'!$F$46/2)^2)/PI())*2/10)","v":12.878071861657411},{"$f":"7.1+5*+LOG10(SQRT((((PI()*('Исходные данные'!$F$6/2)^2)*Виньетирование!CU199)-PI()*('Исходные данные'!$F$46/2)^2)/PI())*2/10)","v":12.878071861657411},{"$f":"7.1+5*+LOG10(SQRT((((PI()*('Исходные данные'!$F$6/2)^2)*Виньетирование!CV199)-PI()*('Исходные данные'!$F$46/2)^2)/PI())*2/10)","v":12.878071861657411},{"$f":"7.1+5*+LOG10(SQRT((((PI()*('Исходные данные'!$F$6/2)^2)*Виньетирование!CW199)-PI()*('Исходные данные'!$F$46/2)^2)/PI())*2/10)","v":12.878071861657411},{"$f":"7.1+5*+LOG10(SQRT((((PI()*('Исходные данные'!$F$6/2)^2)*Виньетирование!CX199)-PI()*('Исходные данные'!$F$46/2)^2)/PI())*2/10)","v":12.878071861657411},{"$f":"7.1+5*+LOG10(SQRT((((PI()*('Исходные данные'!$F$6/2)^2)*Виньетирование!CY199)-PI()*('Исходные данные'!$F$46/2)^2)/PI())*2/10)","v":12.878071861657411},{"$f":"7.1+5*+LOG10(SQRT((((PI()*('Исходные данные'!$F$6/2)^2)*Виньетирование!CZ199)-PI()*('Исходные данные'!$F$46/2)^2)/PI())*2/10)","v":12.878071861657411},{"$f":"7.1+5*+LOG10(SQRT((((PI()*('Исходные данные'!$F$6/2)^2)*Виньетирование!DA199)-PI()*('Исходные данные'!$F$46/2)^2)/PI())*2/10)","v":12.878071861657411},{"$f":"7.1+5*+LOG10(SQRT((((PI()*('Исходные данные'!$F$6/2)^2)*Виньетирование!DB199)-PI()*('Исходные данные'!$F$46/2)^2)/PI())*2/10)","v":12.878071861657411},{"$f":"7.1+5*+LOG10(SQRT((((PI()*('Исходные данные'!$F$6/2)^2)*Виньетирование!DC199)-PI()*('Исходные данные'!$F$46/2)^2)/PI())*2/10)","v":12.878071861657411},{"$f":"7.1+5*+LOG10(SQRT((((PI()*('Исходные данные'!$F$6/2)^2)*Виньетирование!DD199)-PI()*('Исходные данные'!$F$46/2)^2)/PI())*2/10)","v":12.878071861657411},{"$f":"7.1+5*+LOG10(SQRT((((PI()*('Исходные данные'!$F$6/2)^2)*Виньетирование!DE199)-PI()*('Исходные данные'!$F$46/2)^2)/PI())*2/10)","v":12.878071861657411},{"$f":"7.1+5*+LOG10(SQRT((((PI()*('Исходные данные'!$F$6/2)^2)*Виньетирование!DF199)-PI()*('Исходные данные'!$F$46/2)^2)/PI())*2/10)","v":12.878071861657411},{"$f":"7.1+5*+LOG10(SQRT((((PI()*('Исходные данные'!$F$6/2)^2)*Виньетирование!DG199)-PI()*('Исходные данные'!$F$46/2)^2)/PI())*2/10)","v":12.878071861657411},{"$f":"7.1+5*+LOG10(SQRT((((PI()*('Исходные данные'!$F$6/2)^2)*Виньетирование!DH199)-PI()*('Исходные данные'!$F$46/2)^2)/PI())*2/10)","v":12.878071861657411},{"$f":"7.1+5*+LOG10(SQRT((((PI()*('Исходные данные'!$F$6/2)^2)*Виньетирование!DI199)-PI()*('Исходные данные'!$F$46/2)^2)/PI())*2/10)","v":12.878071861657411},{"$f":"7.1+5*+LOG10(SQRT((((PI()*('Исходные данные'!$F$6/2)^2)*Виньетирование!DJ199)-PI()*('Исходные данные'!$F$46/2)^2)/PI())*2/10)","v":12.878071861657411},{"$f":"7.1+5*+LOG10(SQRT((((PI()*('Исходные данные'!$F$6/2)^2)*Виньетирование!DK199)-PI()*('Исходные данные'!$F$46/2)^2)/PI())*2/10)","v":12.878071861657411},{"$f":"7.1+5*+LOG10(SQRT((((PI()*('Исходные данные'!$F$6/2)^2)*Виньетирование!DL199)-PI()*('Исходные данные'!$F$46/2)^2)/PI())*2/10)","v":12.878071861657411},{"$f":"7.1+5*+LOG10(SQRT((((PI()*('Исходные данные'!$F$6/2)^2)*Виньетирование!DM199)-PI()*('Исходные данные'!$F$46/2)^2)/PI())*2/10)","v":12.878071861657411},{"$f":"7.1+5*+LOG10(SQRT((((PI()*('Исходные данные'!$F$6/2)^2)*Виньетирование!DN199)-PI()*('Исходные данные'!$F$46/2)^2)/PI())*2/10)","v":12.878071861657411},{"$f":"7.1+5*+LOG10(SQRT((((PI()*('Исходные данные'!$F$6/2)^2)*Виньетирование!DO199)-PI()*('Исходные данные'!$F$46/2)^2)/PI())*2/10)","v":12.878071861657411},{"$f":"7.1+5*+LOG10(SQRT((((PI()*('Исходные данные'!$F$6/2)^2)*Виньетирование!DP199)-PI()*('Исходные данные'!$F$46/2)^2)/PI())*2/10)","v":12.878071861657411},{"$f":"7.1+5*+LOG10(SQRT((((PI()*('Исходные данные'!$F$6/2)^2)*Виньетирование!DQ199)-PI()*('Исходные данные'!$F$46/2)^2)/PI())*2/10)","v":12.878071861657411},{"$f":"7.1+5*+LOG10(SQRT((((PI()*('Исходные данные'!$F$6/2)^2)*Виньетирование!DR199)-PI()*('Исходные данные'!$F$46/2)^2)/PI())*2/10)","v":12.878071861657411},{"$f":"7.1+5*+LOG10(SQRT((((PI()*('Исходные данные'!$F$6/2)^2)*Виньетирование!DS199)-PI()*('Исходные данные'!$F$46/2)^2)/PI())*2/10)","v":12.878071861657411},{"$f":"7.1+5*+LOG10(SQRT((((PI()*('Исходные данные'!$F$6/2)^2)*Виньетирование!DT199)-PI()*('Исходные данные'!$F$46/2)^2)/PI())*2/10)","v":12.878071861657411},{"$f":"7.1+5*+LOG10(SQRT((((PI()*('Исходные данные'!$F$6/2)^2)*Виньетирование!DU199)-PI()*('Исходные данные'!$F$46/2)^2)/PI())*2/10)","v":12.878071861657411},{"$f":"7.1+5*+LOG10(SQRT((((PI()*('Исходные данные'!$F$6/2)^2)*Виньетирование!DV199)-PI()*('Исходные данные'!$F$46/2)^2)/PI())*2/10)","v":12.878071861657411},{"$f":"7.1+5*+LOG10(SQRT((((PI()*('Исходные данные'!$F$6/2)^2)*Виньетирование!DW199)-PI()*('Исходные данные'!$F$46/2)^2)/PI())*2/10)","v":12.878071861657411},{"$f":"7.1+5*+LOG10(SQRT((((PI()*('Исходные данные'!$F$6/2)^2)*Виньетирование!DX199)-PI()*('Исходные данные'!$F$46/2)^2)/PI())*2/10)","v":12.878071861657411},{"$f":"7.1+5*+LOG10(SQRT((((PI()*('Исходные данные'!$F$6/2)^2)*Виньетирование!DY199)-PI()*('Исходные данные'!$F$46/2)^2)/PI())*2/10)","v":12.878071861657411},{"$f":"7.1+5*+LOG10(SQRT((((PI()*('Исходные данные'!$F$6/2)^2)*Виньетирование!DZ199)-PI()*('Исходные данные'!$F$46/2)^2)/PI())*2/10)","v":12.878071861657411},{"$f":"7.1+5*+LOG10(SQRT((((PI()*('Исходные данные'!$F$6/2)^2)*Виньетирование!EA199)-PI()*('Исходные данные'!$F$46/2)^2)/PI())*2/10)","v":12.878071861657411},{"$f":"7.1+5*+LOG10(SQRT((((PI()*('Исходные данные'!$F$6/2)^2)*Виньетирование!EB199)-PI()*('Исходные данные'!$F$46/2)^2)/PI())*2/10)","v":12.878071861657411},{"$f":"7.1+5*+LOG10(SQRT((((PI()*('Исходные данные'!$F$6/2)^2)*Виньетирование!EC199)-PI()*('Исходные данные'!$F$46/2)^2)/PI())*2/10)","v":12.878071861657411},{"$f":"7.1+5*+LOG10(SQRT((((PI()*('Исходные данные'!$F$6/2)^2)*Виньетирование!ED199)-PI()*('Исходные данные'!$F$46/2)^2)/PI())*2/10)","v":12.878071861657411},{"$f":"7.1+5*+LOG10(SQRT((((PI()*('Исходные данные'!$F$6/2)^2)*Виньетирование!EE199)-PI()*('Исходные данные'!$F$46/2)^2)/PI())*2/10)","v":12.878071861657411},{"$f":"7.1+5*+LOG10(SQRT((((PI()*('Исходные данные'!$F$6/2)^2)*Виньетирование!EF199)-PI()*('Исходные данные'!$F$46/2)^2)/PI())*2/10)","v":12.877999291987306}]
[null,null,null,null,null,null,null,null,null,null,null,null,null,null,null,null,null,null,null,null,null,null,null,null,null,null,null,null,null,null,null,null,null,"Эквивалентная апретура",null,{"$f":"SQRT((PI()*('Исходные данные'!$F$6/2)^2)*Виньетирование!AJ199/PI())*2","v":149.99543826125947},{"$f":"SQRT((PI()*('Исходные данные'!$F$6/2)^2)*Виньетирование!AK199/PI())*2","v":150},{"$f":"SQRT((PI()*('Исходные данные'!$F$6/2)^2)*Виньетирование!AL199/PI())*2","v":150},{"$f":"SQRT((PI()*('Исходные данные'!$F$6/2)^2)*Виньетирование!AM199/PI())*2","v":150},{"$f":"SQRT((PI()*('Исходные данные'!$F$6/2)^2)*Виньетирование!AN199/PI())*2","v":150},{"$f":"SQRT((PI()*('Исходные данные'!$F$6/2)^2)*Виньетирование!AO199/PI())*2","v":150},{"$f":"SQRT((PI()*('Исходные данные'!$F$6/2)^2)*Виньетирование!AP199/PI())*2","v":150},{"$f":"SQRT((PI()*('Исходные данные'!$F$6/2)^2)*Виньетирование!AQ199/PI())*2","v":150},{"$f":"SQRT((PI()*('Исходные данные'!$F$6/2)^2)*Виньетирование!AR199/PI())*2","v":150},{"$f":"SQRT((PI()*('Исходные данные'!$F$6/2)^2)*Виньетирование!AS199/PI())*2","v":150},{"$f":"SQRT((PI()*('Исходные данные'!$F$6/2)^2)*Виньетирование!AT199/PI())*2","v":150},{"$f":"SQRT((PI()*('Исходные данные'!$F$6/2)^2)*Виньетирование!AU199/PI())*2","v":150},{"$f":"SQRT((PI()*('Исходные данные'!$F$6/2)^2)*Виньетирование!AV199/PI())*2","v":150},{"$f":"SQRT((PI()*('Исходные данные'!$F$6/2)^2)*Виньетирование!AW199/PI())*2","v":150},{"$f":"SQRT((PI()*('Исходные данные'!$F$6/2)^2)*Виньетирование!AX199/PI())*2","v":150},{"$f":"SQRT((PI()*('Исходные данные'!$F$6/2)^2)*Виньетирование!AY199/PI())*2","v":150},{"$f":"SQRT((PI()*('Исходные данные'!$F$6/2)^2)*Виньетирование!AZ199/PI())*2","v":150},{"$f":"SQRT((PI()*('Исходные данные'!$F$6/2)^2)*Виньетирование!BA199/PI())*2","v":150},{"$f":"SQRT((PI()*('Исходные данные'!$F$6/2)^2)*Виньетирование!BB199/PI())*2","v":150},{"$f":"SQRT((PI()*('Исходные данные'!$F$6/2)^2)*Виньетирование!BC199/PI())*2","v":150},{"$f":"SQRT((PI()*('Исходные данные'!$F$6/2)^2)*Виньетирование!BD199/PI())*2","v":150},{"$f":"SQRT((PI()*('Исходные данные'!$F$6/2)^2)*Виньетирование!BE199/PI())*2","v":150},{"$f":"SQRT((PI()*('Исходные данные'!$F$6/2)^2)*Виньетирование!BF199/PI())*2","v":150},{"$f":"SQRT((PI()*('Исходные данные'!$F$6/2)^2)*Виньетирование!BG199/PI())*2","v":150},{"$f":"SQRT((PI()*('Исходные данные'!$F$6/2)^2)*Виньетирование!BH199/PI())*2","v":150},{"$f":"SQRT((PI()*('Исходные данные'!$F$6/2)^2)*Виньетирование!BI199/PI())*2","v":150},{"$f":"SQRT((PI()*('Исходные данные'!$F$6/2)^2)*Виньетирование!BJ199/PI())*2","v":150},{"$f":"SQRT((PI()*('Исходные данные'!$F$6/2)^2)*Виньетирование!BK199/PI())*2","v":150},{"$f":"SQRT((PI()*('Исходные данные'!$F$6/2)^2)*Виньетирование!BL199/PI())*2","v":150},{"$f":"SQRT((PI()*('Исходные данные'!$F$6/2)^2)*Виньетирование!BM199/PI())*2","v":150},{"$f":"SQRT((PI()*('Исходные данные'!$F$6/2)^2)*Виньетирование!BN199/PI())*2","v":150},{"$f":"SQRT((PI()*('Исходные данные'!$F$6/2)^2)*Виньетирование!BO199/PI())*2","v":150},{"$f":"SQRT((PI()*('Исходные данные'!$F$6/2)^2)*Виньетирование!BP199/PI())*2","v":150},{"$f":"SQRT((PI()*('Исходные данные'!$F$6/2)^2)*Виньетирование!BQ199/PI())*2","v":150},{"$f":"SQRT((PI()*('Исходные данные'!$F$6/2)^2)*Виньетирование!BR199/PI())*2","v":150},{"$f":"SQRT((PI()*('Исходные данные'!$F$6/2)^2)*Виньетирование!BS199/PI())*2","v":150},{"$f":"SQRT((PI()*('Исходные данные'!$F$6/2)^2)*Виньетирование!BT199/PI())*2","v":150},{"$f":"SQRT((PI()*('Исходные данные'!$F$6/2)^2)*Виньетирование!BU199/PI())*2","v":150},{"$f":"SQRT((PI()*('Исходные данные'!$F$6/2)^2)*Виньетирование!BV199/PI())*2","v":150},{"$f":"SQRT((PI()*('Исходные данные'!$F$6/2)^2)*Виньетирование!BW199/PI())*2","v":150},{"$f":"SQRT((PI()*('Исходные данные'!$F$6/2)^2)*Виньетирование!BX199/PI())*2","v":150},{"$f":"SQRT((PI()*('Исходные данные'!$F$6/2)^2)*Виньетирование!BY199/PI())*2","v":150},{"$f":"SQRT((PI()*('Исходные данные'!$F$6/2)^2)*Виньетирование!BZ199/PI())*2","v":150},{"$f":"SQRT((PI()*('Исходные данные'!$F$6/2)^2)*Виньетирование!CA199/PI())*2","v":150},{"$f":"SQRT((PI()*('Исходные данные'!$F$6/2)^2)*Виньетирование!CB199/PI())*2","v":150},{"$f":"SQRT((PI()*('Исходные данные'!$F$6/2)^2)*Виньетирование!CC199/PI())*2","v":150},{"$f":"SQRT((PI()*('Исходные данные'!$F$6/2)^2)*Виньетирование!CD199/PI())*2","v":150},{"$f":"SQRT((PI()*('Исходные данные'!$F$6/2)^2)*Виньетирование!CE199/PI())*2","v":150},{"$f":"SQRT((PI()*('Исходные данные'!$F$6/2)^2)*Виньетирование!CF199/PI())*2","v":150},{"$f":"SQRT((PI()*('Исходные данные'!$F$6/2)^2)*Виньетирование!CG199/PI())*2","v":150},{"$f":"SQRT((PI()*('Исходные данные'!$F$6/2)^2)*Виньетирование!CH199/PI())*2","v":150},{"$f":"SQRT((PI()*('Исходные данные'!$F$6/2)^2)*Виньетирование!CI199/PI())*2","v":150},{"$f":"SQRT((PI()*('Исходные данные'!$F$6/2)^2)*Виньетирование!CJ199/PI())*2","v":150},{"$f":"SQRT((PI()*('Исходные данные'!$F$6/2)^2)*Виньетирование!CK199/PI())*2","v":150},{"$f":"SQRT((PI()*('Исходные данные'!$F$6/2)^2)*Виньетирование!CL199/PI())*2","v":150},{"$f":"SQRT((PI()*('Исходные данные'!$F$6/2)^2)*Виньетирование!CM199/PI())*2","v":150},{"$f":"SQRT((PI()*('Исходные данные'!$F$6/2)^2)*Виньетирование!CN199/PI())*2","v":150},{"$f":"SQRT((PI()*('Исходные данные'!$F$6/2)^2)*Виньетирование!CO199/PI())*2","v":150},{"$f":"SQRT((PI()*('Исходные данные'!$F$6/2)^2)*Виньетирование!CP199/PI())*2","v":150},{"$f":"SQRT((PI()*('Исходные данные'!$F$6/2)^2)*Виньетирование!CQ199/PI())*2","v":150},{"$f":"SQRT((PI()*('Исходные данные'!$F$6/2)^2)*Виньетирование!CR199/PI())*2","v":150},{"$f":"SQRT((PI()*('Исходные данные'!$F$6/2)^2)*Виньетирование!CS199/PI())*2","v":150},{"$f":"SQRT((PI()*('Исходные данные'!$F$6/2)^2)*Виньетирование!CT199/PI())*2","v":150},{"$f":"SQRT((PI()*('Исходные данные'!$F$6/2)^2)*Виньетирование!CU199/PI())*2","v":150},{"$f":"SQRT((PI()*('Исходные данные'!$F$6/2)^2)*Виньетирование!CV199/PI())*2","v":150},{"$f":"SQRT((PI()*('Исходные данные'!$F$6/2)^2)*Виньетирование!CW199/PI())*2","v":150},{"$f":"SQRT((PI()*('Исходные данные'!$F$6/2)^2)*Виньетирование!CX199/PI())*2","v":150},{"$f":"SQRT((PI()*('Исходные данные'!$F$6/2)^2)*Виньетирование!CY199/PI())*2","v":150},{"$f":"SQRT((PI()*('Исходные данные'!$F$6/2)^2)*Виньетирование!CZ199/PI())*2","v":150},{"$f":"SQRT((PI()*('Исходные данные'!$F$6/2)^2)*Виньетирование!DA199/PI())*2","v":150},{"$f":"SQRT((PI()*('Исходные данные'!$F$6/2)^2)*Виньетирование!DB199/PI())*2","v":150},{"$f":"SQRT((PI()*('Исходные данные'!$F$6/2)^2)*Виньетирование!DC199/PI())*2","v":150},{"$f":"SQRT((PI()*('Исходные данные'!$F$6/2)^2)*Виньетирование!DD199/PI())*2","v":150},{"$f":"SQRT((PI()*('Исходные данные'!$F$6/2)^2)*Виньетирование!DE199/PI())*2","v":150},{"$f":"SQRT((PI()*('Исходные данные'!$F$6/2)^2)*Виньетирование!DF199/PI())*2","v":150},{"$f":"SQRT((PI()*('Исходные данные'!$F$6/2)^2)*Виньетирование!DG199/PI())*2","v":150},{"$f":"SQRT((PI()*('Исходные данные'!$F$6/2)^2)*Виньетирование!DH199/PI())*2","v":150},{"$f":"SQRT((PI()*('Исходные данные'!$F$6/2)^2)*Виньетирование!DI199/PI())*2","v":150},{"$f":"SQRT((PI()*('Исходные данные'!$F$6/2)^2)*Виньетирование!DJ199/PI())*2","v":150},{"$f":"SQRT((PI()*('Исходные данные'!$F$6/2)^2)*Виньетирование!DK199/PI())*2","v":150},{"$f":"SQRT((PI()*('Исходные данные'!$F$6/2)^2)*Виньетирование!DL199/PI())*2","v":150},{"$f":"SQRT((PI()*('Исходные данные'!$F$6/2)^2)*Виньетирование!DM199/PI())*2","v":150},{"$f":"SQRT((PI()*('Исходные данные'!$F$6/2)^2)*Виньетирование!DN199/PI())*2","v":150},{"$f":"SQRT((PI()*('Исходные данные'!$F$6/2)^2)*Виньетирование!DO199/PI())*2","v":150},{"$f":"SQRT((PI()*('Исходные данные'!$F$6/2)^2)*Виньетирование!DP199/PI())*2","v":150},{"$f":"SQRT((PI()*('Исходные данные'!$F$6/2)^2)*Виньетирование!DQ199/PI())*2","v":150},{"$f":"SQRT((PI()*('Исходные данные'!$F$6/2)^2)*Виньетирование!DR199/PI())*2","v":150},{"$f":"SQRT((PI()*('Исходные данные'!$F$6/2)^2)*Виньетирование!DS199/PI())*2","v":150},{"$f":"SQRT((PI()*('Исходные данные'!$F$6/2)^2)*Виньетирование!DT199/PI())*2","v":150},{"$f":"SQRT((PI()*('Исходные данные'!$F$6/2)^2)*Виньетирование!DU199/PI())*2","v":150},{"$f":"SQRT((PI()*('Исходные данные'!$F$6/2)^2)*Виньетирование!DV199/PI())*2","v":150},{"$f":"SQRT((PI()*('Исходные данные'!$F$6/2)^2)*Виньетирование!DW199/PI())*2","v":150},{"$f":"SQRT((PI()*('Исходные данные'!$F$6/2)^2)*Виньетирование!DX199/PI())*2","v":150},{"$f":"SQRT((PI()*('Исходные данные'!$F$6/2)^2)*Виньетирование!DY199/PI())*2","v":150},{"$f":"SQRT((PI()*('Исходные данные'!$F$6/2)^2)*Виньетирование!DZ199/PI())*2","v":150},{"$f":"SQRT((PI()*('Исходные данные'!$F$6/2)^2)*Виньетирование!EA199/PI())*2","v":150},{"$f":"SQRT((PI()*('Исходные данные'!$F$6/2)^2)*Виньетирование!EB199/PI())*2","v":150},{"$f":"SQRT((PI()*('Исходные данные'!$F$6/2)^2)*Виньетирование!EC199/PI())*2","v":150},{"$f":"SQRT((PI()*('Исходные данные'!$F$6/2)^2)*Виньетирование!ED199/PI())*2","v":150},{"$f":"SQRT((PI()*('Исходные данные'!$F$6/2)^2)*Виньетирование!EE199/PI())*2","v":150},{"$f":"SQRT((PI()*('Исходные данные'!$F$6/2)^2)*Виньетирование!EF199/PI())*2","v":149.99543826125947}]

{"sheet":"Чертёж","index":4,"n_rows":2511,"n_cols":231,"rows_kept":2511,"cut":false,"hidden":false,"merged":[[2359,219,2359,224],[2311,185,2311,187],[2312,185,2312,187],[2339,218,2344,218],[2328,218,2338,218],[2318,197,2319,197],[2314,197,2317,197],[2315,192,2316,192],[2315,193,2316,193],[2315,188,2315,189],[2315,187,2316,187],[2330,219,2331,219],[2328,219,2329,219],[2315,190,2316,190],[2315,191,2316,191],[2319,218,2320,218],[2321,218,2322,218],[2215,219,2218,219],[2260,218,2261,218],[2250,218,2251,218],[2252,218,2253,218],[2242,218,2243,218],[2244,218,2245,218],[2246,218,2247,218],[2248,218,2249,218],[2234,218,2235,218],[2236,218,2237,218],[2238,218,2239,218],[2240,218,2241,218],[2256,218,2257,218],[2254,218,2255,218],[2258,218,2259,218],[2196,223,2196,224],[2196,220,2197,220],[2196,219,2197,219],[2213,219,2214,219],[2198,219,2201,219],[2209,219,2212,219],[2196,221,2196,222],[2262,218,2263,218],[2310,207,2310,210],[2306,211,2306,212],[2306,213,2306,214],[2266,218,2267,218],[2268,218,2269,218],[2264,218,2265,218],[2308,207,2308,210],[2309,207,2309,210]]}
[]
[]
[]
[]
[]
[]
[]
[]
[]
[]
[]
[]
[]
[]
[]
[]
[]
[]
[]
[]
[]
[]
[]
[]
[]
[]
[]
[]
[]
[]
[]
[]
[]
[]
[]
[]
[]
[]
[]
[]
[]
[]
[]
[]
[]
[]
[]
[]
[]
[]
[]
[]
[]
[]
[]
[]
[]
[]
[]
[null,null,null,null,null,null,null,null,null,null,null,null,null,null,null,null,null,null,null,null,null,null,null,null,null,null,null,null,null,null,null,null,null,null,null,null,null,null,null,null,null,null,null,null,null,"     "]
[]
[]
[]
[]
[]
[]
[]
[]
[]
[]
[]
[]
[]
[]
[]
[]
[]
[]
[]
[]
[]
[]
[]
[]
[]
[]
[null,null,null,null,null,null,null,null,null,null,null,null,null,"`"]
[]
[]
[]
[]
[]
[]
[]
[]
[]
[]
[]
[]
[]
[]
[]
[]
[]
[]
[]
[]
[]
[]
[]
[]
[]
[]
[]
[]
[]
[]
[]
[]
[]
[]
[]
[]
[]
[]
[]
[]
[]
[]
[]
[]
[]
[]
[]
[]
[]
[]
[]
[]
[]
[]
[]
[]
[]
[]
[]
[]
[]
[]
[]
[]
[]
[]
[]
[]
[]
[]
[]
[]
[]
[]
[]
[]
[]
[]
[]
[]
[]
[]
[]
[]
[]
[]
[]
[]
[]
[]
[]
[]
[]
[]
[]
[]
[]
[]
[]
[]
[]
[]
[]
[]
[]
[]
[]
[]
[]
[]
[]
[]
[]
[]
[]
[]
[]
[]
[]
[]
[]
[]
[]
[]
[]
[]
[]
[]
[]
[]
[]
[]
[]
[]
[]
[]
[]
[]
[]
[]
[]
[]
[]
[]
[]
[]
[]
[]
[]
[]
[]
[]
[]
[]
[]
[]
[]
[]
[]
[]
[]
[]
[]
[]
[]
[]
[]
[]
[]
[]
[]
[]
[]
[]
[]
[]
[]
[]
[]
[]
[]
[]
[]
[]
[]
[]
[]
[]
[]
[]
[]
[]
[]
[]
[]
[]
[]
[]
[]
[]
[]
[]
[]
[]
[]
[]
[]
[]
[]
[]
[]
[]
[]
[]
[]
[]
[]
[]
[]
[]
[]
[]
[]
[]
[]
[]
[]
[]
[]
[]
[]
[]
[]
[]
[]
[]
[]
[]
[]
[]
[]
[]
[]
[]
[]
[]
[]
[]
[]
[]
[]
[]
[]
[]
[]
[]
[]
[]
[]
[]
[]
[]
[]
[]
[]
[]
[]
[]
[]
[]
[]
[]
[]
[]
[]
[]
[]
[]
[]
[]
[]
[]
[]
[]
[]
[]
[]
[]
[]
[]
[]
[]
[]
[]
[]
[]
[]
[]
[]
[]
[]
[]
[]
[]
[]
[]
[]
[]
[]
[]
[]
[]
[]
[]
[]
[]
[]
[]
[]
[]
[]
[]
[]
[]
[]
[]
[]
[]
[]
[]
[]
[]
[]
[]
[]
[]
[]
[]
[]
[]
[]
[]
[]
[]
[]
[]
[]
[]
[]
[]
[]
[]
[]
[]
[]
[]
[]
[]
[]
[]
[]
[]
[]
[]
[]
[]
[]
[]
[]
[]
[]
[]
[]
[]
[]
[]
[]
[]
[]
[]
[]
[]
[]
[]
[]
[]
[]
[]
[]
[]
[]
[]
[]
[]
[]
[]
[]
[]
[]
[]
[]
[]
[]
[]
[]
[]
[]
[]
[]
[]
[]
[]
[]
[]
[]
[]
[]
[]
[]
[]
[]
[]
[]
[]
[]
[]
[]
[]
[]
[]
[]
[]
[]
[]
[]
[]
[]
[]
[]
[]
[]
[]
[]
[]
[]
[]
[]
[]
[]
[]
[]
[]
[]
[]
[]
[]
[]
[]
[]
[]
[]
[]
[]
[]
[]
[]
[]
[]
[]
[]
[]
[]
[]
[]
[]
[]
[]
[]
[]
[]
[]
[]
[]
[]
[]
[]
[]
[]
[]
[]
[]
[]
[]
[]
[]
[]
[]
[]
[]
[]
[]
[]
[]
[]
[]
[]
[]
[]
[]
[]
[]
[]
[]
[]
[]
[]
[]
[]
[]
[]
[]
[]
[]
[]
[]
[]
[]
[]
[]
[]
[]
[]
[]
[]
[]
[]
[]
[]
[]
[]
[]
[]
[]
[]
[]
[]
[]
[]
[]
[]
[]
[]
[]
[]
[]
[]
[]
[]
[]
[]
[]
[]
[]
[]
[]
[]
[]
[]
[]
[]
[]
[]
[]
[]
[]
[]
[]
[]
[]
[]
[]
[]
[]
[]
[]
[]
[]
[]
[]
[]
[]
[]
[]
[]
[]
[]
[]
[]
[]
[]
[]
[]
[]
[]
[]
[]
[]
[]
[]
[]
[]
[]
[]
[]
[]
[]
[]
[]
[]
[]
[]
[]
[]
[]
[]
[]
[]
[]
[]
[]
[]
[]
[]
[]
[]
[]
[]
[]
[]
[]
[]
[]
[]
[]
[]
[]
[]
[]
[]
[]
[]
[]
[]
[]
[]
[]
[]
[]
[]
[]
[]
[]
[]
[]
[]
[]
[]
[]
[]
[]
[]
[]
[]
[]
[]
[]
[]
[]
[]
[]
[]
[]
[]
[]
[]
[]
[]
[]
[]
[]
[]
[]
[]
[]
[]
[]
[]
[]
[]
[]
[]
[]
[]
[]
[]
[]
[]
[]
[]
[]
[]
[]
[]
[]
[]
[]
[]
[]
[]
[]
[]
[]
[]
[]
[]
[]
[]
[]
[]
[]
[]
[]
[]
[]
[]
[]
[]
[]
[]
[]
[]
[]
[]
[]
[]
[]
[]
[]
[]
[]
[]
[]
[]
[]
[]
[]
[]
[]
[]
[]
[]
[]
[]
[]
[]
[]
[]
[]
[]
[]
[]
[]
[]
[]
[]
[]
[]
[]
[]
[]
[]
[]
[]
[]
[]
[]
[]
[]
[]
[]
[]
[]
[]
[]
[]
[]
[]
[]
[]
[]
[]
[]
[]
[]
[]
[]
[]
[]
[]
[]
[]
[]
[]
[]
[]
[]
[]
[]
[]
[]
[]
[]
[]
[]
[]
[]
[]
[]
[]
[]
[]
[]
[]
[]
[]
[]
[]
[]
[]
[]
[]
[]
[]
[]
[]
[]
[]
[]
[]
[]
[]
[]
[]
[]
[]
[]
[]
[]
[]
[]
[]
[]
[]
[]
[]
[]
[]
[]
[]
[]
[]
[]
[]
[]
[]
[]
[]
[]
[]
[]
[]
[]
[]
[]
[]
[]
[]
[]
[]
[]
[]
[]
[]
[]
[]
[]
[]
[]
[]
[]
[]
[]
[]
[]
[]
[]
[]
[]
[]
[]
[]
[]
[]
[]
[]
[]
[]
[]
[]
[]
[]
[]
[]
[]
[]
[]
[]
[]
[]
[]
[]
[]
[]
[]
[]
[]
[]
[]
[]
[]
[]
[]
[]
[]
[]
[]
[]
[]
[]
[]
[]
[]
[]
[]
[]
[]
[]
[]
[]
[]
[]
[]
[]
[]
[]
[]
[]
[]
[]
[]
[]
[]
[]
[]
[]
[]
[]
[]
[]
[]
[]
[]
[]
[]
[]
[]
[]
[]
[]
[]
[]
[]
[]
[]
[]
[]
[]
[]
[]
[]
[]
[]
[]
[]
[]
[]
[]
[]
[]
[]
[]
[]
[]
[]
[]
[]
[]
[]
[]
[]
[]
[]
[]
[]
[]
[]
[]
[]
[]
[]
[]
[]
[]
[]
[]
[]
[]
[]
[]
[]
[]
[]
[]
[]
[]
[]
[]
[]
[]
[]
[]
[]
[]
[]
[]
[]
[]
[]
[]
[]
[]
[]
[]
[]
[]
[]
[]
[]
[]
[]
[]
[]
[]
[]
[]
[]
[]
[]
[]
[]
[]
[]
[]
[]
[]
[]
[]
[]
[]
[]
[]
[]
[]
[]
[]
[]
[]
[]
[]
[]
[]
[]
[]
[]
[]
[]
[]
[]
[]
[]
[]
[]
[]
[]
[]
[]
[]
[]
[]
[]
[]
[]
[]
[]
[]
[]
[]
[]
[]
[]
[]
[]
[]
[]
[]
[]
[]
[]
[]
[]
[]
[]
[]
[]
[]
[]
[]
[]
[]
[]
[]
[]
[]
[]
[]
[]
[]
[]
[]
[]
[]
[]
[]
[]
[]
[]
[]
[]
[]
[]
[]
[]
[]
[]
[]
[]
[]
[]
[]
[]
[]
[]
[]
[]
[]
[]
[]
[]
[]
[]
[]
[]
[]
[]
[]
[]
[]
[]
[]
[]
[]
[]
[]
[]
[]
[]
[]
[]
[]
[]
[]
[]
[]
[]
[]
[]
[]
[]
[]
[]
[]
[]
[]
[]
[]
[]
[]
[]
[]
[]
[]
[]
[]
[]
[]
[]
[]
[]
[]
[]
[]
[]
[]
[]
[]
[]
[]
[]
[]
[]
[]
[]
[]
[]
[]
[]
[]
[]
[]
[]
[]
[]
[]
[]
[]
[]
[]
[]
[]
[]
[]
[]
[]
[]
[]
[]
[]
[]
[]
[]
[]
[]
[]
[]
[]
[]
[]
[]
[]
[]
[]
[]
[]
[]
[]
[]
[]
[]
[]
[]
[]
[]
[]
[]
[]
[]
[]
[]
[]
[]
[]
[]
[]
[]
[]
[]
[]
[]
[]
[]
[]
[]
[]
[]
[]
[]
[]
[]
[]
[]
[]
[]
[]
[]
[]
[]
[]
[]
[]
[]
[]
[]
[]
[]
[]
[]
[]
[]
[]
[]
[]
[]
[]
[]
[]
[]
[]
[]
[]
[]
[]
[]
[]
[]
[]
[]
[]
[]
[]
[]
[]
[]
[]
[]
[]
[]
[]
[]
[]
[]
[]
[]
[]
[]
[]
[]
[]
[]
[]
[]
[]
[]
[]
[]
[]
[]
[]
[]
[]
[]
[]
[]
[]
[]
[]
[]
[]
[]
[]
[]
[]
[]
[]
[]
[]
[]
[]
[]
[]
[]
[]
[]
[]
[]
[]
[]
[]
[]
[]
[]
[]
[]
[]
[]
[]
[]
[]
[]
[]
[]
[]
[]
[]
[]
[]
[]
[]
[]
[]
[]
[]
[]
[]
[]
[]
[]
[]
[]
[]
[]
[]
[]
[]
[]
[]
[]
[]
[]
[]
[]
[]
[]
[]
[]
[]
[]
[]
[]
[]
[]
[]
[]
[]
[]
[]
[]
[]
[]
[]
[]
[]
[]
[]
[]
[]
[]
[]
[]
[]
[]
[]
[]
[]
[]
[]
[]
[]
[]
[]
[]
[]
[]
[]
[]
[]
[]
[]
[]
[]
[]
[]
[]
[]
[]
[]
[]
[]
[]
[]
[]
[]
[]
[]
[]
[]
[]
[]
[]
[]
[]
[]
[]
[]
[]
[]
[]
[]
[]
[]
[]
[]
[]
[]
[]
[]
[]
[]
[]
[]
[]
[]
[]
[]
[]
[]
[]
[]
[]
[]
[]
[]
[]
[]
[]
[]
[]
[]
[]
[]
[]
[]
[]
[]
[]
[]
[]
[]
[]
[]
[]
[]
[]
[]
[]
[]
[]
[]
[]
[]
[]
[]
[]
[]
[]
[]
[]
[]
[]
[]
[]
[]
[]
[]
[]
[]
[]
[]
[]
[]
[]
[]
[]
[]
[]
[]
[]
[]
[]
[]
[]
[]
[]
[]
[]
[]
[]
[]
[]
[]
[]
[]
[]
[]
[]
[]
[]
[]
[]
[]
[]
[]
[]
[]
[]
[]
[]
[]
[]
[]
[]
[]
[]
[]
[]
[]
[]
[]
[]
[]
[]
[]
[]
[]
[]
[]
[]
[]
[]
[]
[]
[]
[]
[]
[]
[]
[]
[]
[]
[]
[]
[]
[]
[]
[]
[]
[]
[]
[]
[]
[]
[]
[]
[]
[]
[]
[]
[]
[]
[]
[]
[]
[]
[]
[]
[]
[]
[]
[]
[]
[]
[]
[]
[]
[]
[]
[]
[]
[]
[]
[]
[]
[]
[]
[]
[]
[]
[]
[]
[]
[]
[]
[]
[]
[]
[]
[]
[]
[]
[]
[]
[]
[]
[]
[]
[]
[]
[]
[]
[]
[]
[]
[]
[]
[]
[]
[]
[]
[]
[]
[]
[]
[]
[]
[]
[]
[]
[]
[]
[]
[]
[]
[]
[]
[]
[]
[]
[]
[]
[]
[]
[]
[]
[]
[]
[]
[]
[]
[]
[]
[]
[]
[]
[]
[]
[]
[]
[]
[]
[]
[]
[]
[]
[]
[]
[]
[]
[]
[]
[]
[]
[]
[]
[]
[]
[]
[]
[]
[]
[]
[]
[]
[]
[]
[]
[]
[]
[]
[]
[]
[]
[]
[]
[]
[]
[]
[]
[]
[]
[]
[]
[]
[]
[]
[]
[]
[]
[]
[]
[]
[]
[]
[]
[]
[]
[]
[]
[]
[]
[]
[]
[]
[]
[]
[]
[]
[]
[]
[]
[]
[]
[]
[]
[]
[]
[]
[]
[]
[]
[]
[]
[]
[]
[]
[]
[]
[]
[]
[]
[]
[]
[]
[]
[]
[]
[]
[]
[]
[]
[]
[]
[]
[]
[]
[]
[]
[]
[]
[]
[]
[]
[]
[]
[]
[]
[]
[]
[]
[]
[]
[]
[]
[]
[]
[]
[]
[]
[]
[]
[]
[]
[]
[]
[]
[]
[]
[]
[]
[]
[]
[]
[]
[]
[]
[]
[]
[]
[]
[]
[]
[]
[]
[]
[]
[]
[]
[]
[]
[]
[]
[]
[]
[]
[]
[]
[]
[]
[]
[]
[]
[]
[]
[]
[]
[]
[]
[]
[]
[]
[]
[]
[]
[]
[]
[]
[]
[]
[]
[]
[]
[]
[]
[]
[]
[]
[]
[]
[]
[]
[]
[]
[]
[]
[]
[]
[]
[]
[]
[]
[]
[]
[]
[]
[]
[]
[]
[]
[]
[]
[]
[]
[]
[]
[]
[]
[]
[]
[]
[]
[]
[]
[]
[]
[]
[]
[]
[]
[]
[]
[]
[]
[]
[]
[]
[]
[]
[]
[]
[]
[]
[]
[]
[]
[]
[]
[]
[]
[]
[]
[]
[]
[]
[]
[]
[]
[]
[]
[]
[]
[]
[]
[]
[]
[]
[]
[]
[]
[]
[]
[]
[]
[]
[null,null,null,null,null,null,null,null,null,null,null,null,null,null,null,null,null,null,null,null,null,null,null,null,null,null,null,null,null,null,null,null,null,null,null,null,null,null,null,null,null,null,null,null,null,null,null,null,null,null,null,null,null,null,null,null,null,null,null,null,null,null,null,null,null,null,null,null,null,null,null,null,null,null,null,null,null,null,null,null,null,null,null,null,null,null,null,null,null,null,null,null,null,null,null,null,null,null,null,null,null,null,null,null,null,null,null,null,null,null,null,null,null,null,null,null,null,null,null,null,null,null,null,null,null,null,null,null,null,null,null,null,null,null,null,null,null,null,null,null,null,null,null,null,null,null,null,null,null,null,null,null,null,null,null,null,null,null,null,null,null,null,null,null,null,null,null,null,null,null,null,null,null,null,null,null,null,null,null,null,null,null,null,null,null,null,null,null,null,null,null,null,null,null,null,null,null,null,null,null,null,null,null,null,null,null,null,null,null,null,null,null,null,null,null,null,null,null,null,null,null,null,null,null,"X","Y"]
[null,null,null,null,null,null,null,null,null,null,null,null,null,null,null,null,null,null,null,null,null,null,null,null,null,null,null,null,null,null,null,null,null,null,null,null,null,null,null,null,null,null,null,null,null,null,null,null,null,null,null,null,null,null,null,null,null,null,null,null,null,null,null,null,null,null,null,null,null,null,null,null,null,null,null,null,null,null,null,null,null,null,null,null,null,null,null,null,null,null,null,null,null,null,null,null,null,null,null,null,null,null,null,null,null,null,null,null,null,null,null,null,null,null,null,null,null,null,null,null,null,null,null,null,null,null,null,null,null,null,null,null,null,null,null,null,null,null,null,null,null,null,null,null,null,null,null,null,null,null,null,null,null,null,null,null,null,null,null,null,null,null,null,null,null,null,null,null,null,null,null,null,null,null,null,null,null,null,null,null,null,null,null,null,null,null,null,null,null,null,null,null,null,null,null,null,null,null,null,null,null,null,null,null,null,null,null,null,null,null,null,null,null,null,null,null,null,null,null,"Относительный фокус  ",{"$f":"'Исходные данные'!G8","v":5}]
[]
[]
[]
[]
[]
[null,null,null,null,null,null,null,null,null,null,null,null,null,null,null,null,null,null,null,null,null,null,null,null,null,null,null,null,null,null,null,null,null,null,null,null,null,null,null,null,null,null,null,null,null,null,null,null,null,null,null,null,null,null,null,null,null,null,null,null,null,null,null,null,null,null,null,null,null,null,null,null,null,null,null,null,null,null,null,null,null,null,null,null,null,null,null,null,null,null,null,null,null,null,null,null,null,null,null,null,null,null,null,null,null,null,null,null,null,null,null,null,null,null,null,null,null,null,null,null,null,null,null,null,null,null,null,null,null,null,null,null,null,null,null,null,null,null,null,null,null,null,null,null,null,null,null,null,null,null,null,null,null,null,null,null,null,null,null,null,null,null,null,null,null,null,null,null,null,null,null,null,null,null,null,null,null,null,null,null,null,null,null,null,null,null,null,null,null,null,null,null,null,null,null,null,null,null,null,null,null,null,null,null,null,null,null,null,null,null,null,null,null,null,null,null,null,null,null,"Проверка размеров",{"$f":"SQRT(1.32^2+1.48^2)","v":1.9831288409984864},{"$f":"HM2186*2.83518705763397","v":5.6225412236195638}]
[]
[]
[]
[null,null,null,null,null,null,null,null,null,null,null,null,null,null,null,null,null,null,null,null,null,null,null,null,null,null,null,null,null,null,null,null,null,null,null,null,null,null,null,null,null,null,null,null,null,null,null,null,null,null,null,null,null,null,null,null,null,null,null,null,null,null,null,null,null,null,null,null,null,null,null,null,null,null,null,null,null,null,null,null,null,null,null,null,null,null,null,null,null,null,null,null,null,null,null,null,null,null,null,null,null,null,null,null,null,null,null,null,null,null,null,null,null,null,null,null,null,null,null,null,null,null,null,null,null,null,null,null,null,null,null,null,null,null,null,null,null,null,null,null,null,null,null,null,null,null,null,null,null,null,null,null,null,null,null,null,null,null,null,null,null,null,null,null,null,null,null,null,null,null,null,null,null,null,null,null,null,null,null,null,null,null,null,null,null,null,null,null,null,null,null,null,null,null,null,null,null,null,null,null,null,null,null,null,null,null,null,null,null,null,null,null,null,null,null,null,null,null,null,null,"X","Y","Масштаб"]
[null,null,null,null,null,null,null,null,null,null,null,null,null,null,null,null,null,null,null,null,null,null,null,null,null,null,null,null,null,null,null,null,null,null,null,null,null,null,null,null,null,null,null,null,null,null,null,null,null,null,null,null,null,null,null,null,null,null,null,null,null,null,null,null,null,null,null,null,null,null,null,null,null,null,null,null,null,null,null,null,null,null,null,null,null,null,null,null,null,null,null,null,null,null,null,null,null,null,null,null,null,null,null,null,null,null,null,null,null,null,null,null,null,null,null,null,null,null,null,null,null,null,null,null,null,null,null,null,null,null,null,null,null,null,null,null,null,null,null,null,null,null,null,null,null,null,null,null,null,null,null,null,null,null,null,null,null,null,null,null,null,null,null,null,null,null,null,null,null,null,null,null,null,null,null,null,null,null,null,null,null,null,null,null,null,null,null,null,null,null,null,null,null,null,null,null,null,null,null,null,null,null,null,null,null,null,null,null,null,null,null,null,null,null,null,null,null,null,null,"Положение логотипа",-2000,-2000,{"$f":"HP2299/1074.18","v":0.94304492729337719}]
[]
[]
[null,null,null,null,null,null,null,null,null,null,null,null,null,null,null,null,null,null,null,null,null,null,null,null,null,null,null,null,null,null,null,null,null,null,null,null,null,null,null,null,null,null,null,null,null,null,null,null,null,null,null,null,null,null,null,null,null,null,null,null,null,null,null,null,null,null,null,null,null,null,null,null,null,null,null,null,null,null,null,null,null,null,null,null,null,null,null,null,null,null,null,null,null,null,null,null,null,null,null,null,null,null,null,null,null,null,null,null,null,null,null,null,null,null,null,null,null,null,null,null,null,null,null,null,null,null,null,null,null,null,null,null,null,null,null,null,null,null,null,null,null,null,null,null,null,null,null,null,null,null,null,null,null,null,null,null,null,null,null,null,null,null,null,null,null,null,null,null,null,null,null,null,null,null,null,null,null,null,null,null,null,null,null,null,null,null,null,null,null,null,null,null,null,null,null,null,null,null,null,null,null,null,null,null,null,null,null,null,null,null,null,null,null,null,null,null,null,null,null,null,null,"Смещение X","Смещение Y"]
[null,null,null,null,null,null,null,null,null,null,null,null,null,null,null,null,null,null,null,null,null,null,null,null,null,null,null,null,null,null,null,null,null,null,null,null,null,null,null,null,null,null,null,null,null,null,null,null,null,null,null,null,null,null,null,null,null,null,null,null,null,null,null,null,null,null,null,null,null,null,null,null,null,null,null,null,null,null,null,null,null,null,null,null,null,null,null,null,null,null,null,null,null,null,null,null,null,null,null,null,null,null,null,null,null,null,null,null,null,null,null,null,null,null,null,null,null,null,null,null,null,null,null,null,null,null,null,null,null,null,null,null,null,null,null,null,null,null,null,null,null,null,null,null,null,null,null,null,null,null,null,null,null,null,null,null,null,null,null,null,null,null,null,null,null,null,null,null,null,null,null,null,null,null,null,null,null,null,null,null,null,null,null,null,null,null,null,null,null,null,null,null,null,null,null,null,null,null,null,null,null,null,null,null,null,null,null,null,null,null,null,null,null,null,null,null,null,null,null,null,null,{"$f":"'Исходные данные'!F14+150","v":200},{"$f":"((HN2195+'Исходные данные'!F60+150)*0.75)/2","v":379.875}]
[null,null,null,null,null,null,null,null,null,null,null,null,null,null,null,null,null,null,null,null,null,null,null,null,null,null,null,null,null,null,null,null,null,null,null,null,null,null,null,null,null,null,null,null,null,null,null,null,null,null,null,null,null,null,null,null,null,null,null,null,null,null,null,null,null,null,null,null,null,null,null,null,null,null,null,null,null,null,null,null,null,null,null,null,null,null,null,null,null,null,null,null,null,null,null,null,null,null,null,null,null,null,null,null,null,null,null,null,null,null,null,null,null,null,null,null,null,null,null,null,null,null,null,null,null,null,null,null,null,null,null,null,null,null,null,null,null,null,null,null,null,null,null,null,null,null,null,null,null,null,null,null,null,null,null,null,null,null,null,null,null,null,null,null,null,null,null,null,null,null,null,null,null,null,null,null,null,null,null,null,null,null,null,null,null,null,null,null,null,null,null,null,null,null,null,null,null,null,null,null,null,null,null,null,null,null,null,null,null,null,null,null,null,null,null,null,null,null,null,220,221,222,223,224,225,226]
[null,null,null,null,null,null,null,null,null,null,null,null,null,null,null,null,null,null,null,null,null,null,null,null,null,null,null,null,null,null,null,null,null,null,null,null,null,null,null,null,null,null,null,null,null,null,null,null,null,null,null,null,null,null,null,null,null,null,null,null,null,null,null,null,null,null,null,null,null,null,null,null,null,null,null,null,null,null,null,null,null,null,null,null,null,null,null,null,null,null,null,null,null,null,null,null,null,null,null,null,null,null,null,null,null,null,null,null,null,null,null,null,null,null,null,null,null,null,null,null,null,null,null,null,null,null,null,null,null,null,null,null,null,null,null,null,null,null,null,null,null,null,null,null,null,null,null,null,null,null,null,null,null,null,null,null,null,null,null,null,null,null,null,null,null,null,null,null,null,null,null,null,null,null,null,null,null,null,null,null,null,null,null,null,null,null,null,null,null,null,null,null,null,null,null,null,null,null,null,null,null,null,null,null,null,null,null,null,null,null,null,null,null,null,null,null,null,null,null,null,"Отрезок","Начало",null,"Конец"]
[null,null,null,null,null,null,null,null,null,null,null,null,null,null,null,null,null,null,null,null,null,null,null,null,null,null,null,null,null,null,null,null,null,null,null,null,null,null,null,null,null,null,null,null,null,null,null,null,null,null,null,null,null,null,null,null,null,null,null,null,null,null,null,null,null,null,null,null,null,null,null,null,null,null,null,null,null,null,null,null,null,null,null,null,null,null,null,null,null,null,null,null,null,null,null,null,null,null,null,null,null,null,null,null,null,null,null,null,null,null,null,null,null,null,null,null,null,null,null,null,null,null,null,null,null,null,null,null,null,null,null,null,null,null,null,null,null,null,null,null,null,null,null,null,null,null,null,null,null,null,null,null,null,null,null,null,null,null,null,null,null,null,null,null,null,null,null,null,null,null,null,null,null,null,null,null,null,null,null,null,null,null,null,null,null,null,null,null,null,null,null,null,null,null,null,null,null,null,null,null,null,null,null,null,null,null,null,null,null,null,null,null,null,null,null,null,null,null,null,null,null,"X","Y","X","Y"]
[null,null,null,null,null,null,null,null,null,null,null,null,null,null,null,null,null,null,null,null,null,null,null,null,null,null,null,null,null,null,null,null,null,null,null,null,null,null,null,null,null,null,null,null,null,null,null,null,null,null,null,null,null,null,null,null,null,null,null,null,null,null,null,null,null,null,null,null,null,null,null,null,null,null,null,null,null,null,null,null,null,null,null,null,null,null,null,null,null,null,null,null,null,null,null,null,null,null,null,null,null,null,null,null,null,null,null,null,null,null,null,null,null,null,null,null,null,null,null,null,null,null,null,null,null,null,null,null,null,null,null,null,null,null,null,null,null,null,null,null,null,null,null,null,null,null,null,null,null,null,null,null,null,null,null,null,null,null,null,null,null,null,null,null,null,null,null,null,null,null,null,null,null,null,null,null,null,null,null,null,null,null,null,null,null,null,null,null,null,null,null,null,null,null,null,null,null,null,null,null,null,null,null,null,null,null,null,null,null,null,null,null,null,null,null,null,null,null,null,"Главное зеркало",1,{"$f":"$HN$2195-'Исходные данные'!F20","v":182},{"$f":"$HO$2195-'Исходные данные'!$F$6/2","v":304.875},{"$f":"'Исходные данные'!F20","v":18},{"$f":"'Исходные данные'!F6","v":150}]
[null,null,null,null,null,null,null,null,null,null,null,null,null,null,null,null,null,null,null,null,null,null,null,null,null,null,null,null,null,null,null,null,null,null,null,null,null,null,null,null,null,null,null,null,null,null,null,null,null,null,null,null,null,null,null,null,null,null,null,null,null,null,null,null,null,null,null,null,null,null,null,null,null,null,null,null,null,null,null,null,null,null,null,null,null,null,null,null,null,null,null,null,null,null,null,null,null,null,null,null,null,null,null,null,null,null,null,null,null,null,null,null,null,null,null,null,null,null,null,null,null,null,null,null,null,null,null,null,null,null,null,null,null,null,null,null,null,null,null,null,null,null,null,null,null,null,null,null,null,null,null,null,null,null,null,null,null,null,null,null,null,null,null,null,null,null,null,null,null,null,null,null,null,null,null,null,null,null,null,null,null,null,null,null,null,null,null,null,null,null,null,null,null,null,null,null,null,null,null,null,null,null,null,null,null,null,null,null,null,null,null,null,null,null,null,null,null,null,null,null,2,{"$f":"HN2195","v":200},{"$f":"$HO$2195-'Исходные данные'!$F$6/2","v":304.875},{"$f":"HN2195","v":200},{"$f":"$HO$2195+'Исходные данные'!$F$6/2","v":454.875}]
[null,null,null,null,null,null,null,null,null,null,null,null,null,null,null,null,null,null,null,null,null,null,null,null,null,null,null,null,null,null,null,null,null,null,null,null,null,null,null,null,null,null,null,null,null,null,null,null,null,null,null,null,null,null,null,null,null,null,null,null,null,null,null,null,null,null,null,null,null,null,null,null,null,null,null,null,null,null,null,null,null,null,null,null,null,null,null,null,null,null,null,null,null,null,null,null,null,null,null,null,null,null,null,null,null,null,null,null,null,null,null,null,null,null,null,null,null,null,null,null,null,null,null,null,null,null,null,null,null,null,null,null,null,null,null,null,null,null,null,null,null,null,null,null,null,null,null,null,null,null,null,null,null,null,null,null,null,null,null,null,null,null,null,null,null,null,null,null,null,null,null,null,null,null,null,null,null,null,null,null,null,null,null,null,null,null,null,null,null,null,null,null,null,null,null,null,null,null,null,null,null,null,null,null,null,null,null,null,null,null,null,null,null,null,null,null,null,null,null,null,3,{"$f":"$HN$2195-25","v":175},{"$f":"$HO$2195-'Исходные данные'!$F$6/2","v":304.875},{"$f":"HN2195","v":200},{"$f":"$HO$2195-'Исходные данные'!$F$6/2","v":304.875}]
[null,null,null,null,null,null,null,null,null,null,null,null,null,null,null,null,null,null,null,null,null,null,null,null,null,null,null,null,null,null,null,null,null,null,null,null,null,null,null,null,null,null,null,null,null,null,null,null,null,null,null,null,null,null,null,null,null,null,null,null,null,null,null,null,null,null,null,null,null,null,null,null,null,null,null,null,null,null,null,null,null,null,null,null,null,null,null,null,null,null,null,null,null,null,null,null,null,null,null,null,null,null,null,null,null,null,null,null,null,null,null,null,null,null,null,null,null,null,null,null,null,null,null,null,null,null,null,null,null,null,null,null,null,null,null,null,null,null,null,null,null,null,null,null,null,null,null,null,null,null,null,null,null,null,null,null,null,null,null,null,null,null,null,null,null,null,null,null,null,null,null,null,null,null,null,null,null,null,null,null,null,null,null,null,null,null,null,null,null,null,null,null,null,null,null,null,null,null,null,null,null,null,null,null,null,null,null,null,null,null,null,null,null,null,null,null,null,null,null,null,4,{"$f":"HN2195","v":200},{"$f":"$HO$2195+'Исходные данные'!$F$6/2","v":454.875},{"$f":"$HN$2195-25","v":175},{"$f":"$HO$2195+'Исходные данные'!$F$6/2","v":454.875}]
[null,null,null,null,null,null,null,null,null,null,null,null,null,null,null,null,null,null,null,null,null,null,null,null,null,null,null,null,null,null,null,null,null,null,null,null,null,null,null,null,null,null,null,null,null,null,null,null,null,null,null,null,null,null,null,null,null,null,null,null,null,null,null,null,null,null,null,null,null,null,null,null,null,null,null,null,null,null,null,null,null,null,null,null,null,null,null,null,null,null,null,null,null,null,null,null,null,null,null,null,null,null,null,null,null,null,null,null,null,null,null,null,null,null,null,null,null,null,null,null,null,null,null,null,null,null,null,null,null,null,null,null,null,null,null,null,null,null,null,null,null,null,null,null,null,null,null,null,null,null,null,null,null,null,null,null,null,null,null,null,null,null,null,null,null,null,null,null,null,null,null,null,null,null,null,null,null,null,null,null,null,null,null,null,null,null,null,null,null,null,null,null,null,null,null,null,null,null,null,null,null,null,null,null,null,null,null,null,null,null,null,null,null,null,null,null,null,null,null,"Верхний отраженный ГЗ луч",5,{"$f":"$HN$2195","v":200},{"$f":"$HO$2195-'Исходные данные'!$F$6/2","v":304.875},{"$f":"$HN$2195+'Исходные данные'!$F$36-'Исходные данные'!$F$12+'Исходные данные'!$AN$10/SQRT(2)","v":823.52726578630416},{"$f":"$HO$2195-'Исходные данные'!$AN$10/SQRT(2)","v":359.34773421369579}]
[null,null,null,null,null,null,null,null,null,null,null,null,null,null,null,null,null,null,null,null,null,null,null,null,null,null,null,null,null,null,null,null,null,null,null,null,null,null,null,null,null,null,null,null,null,null,null,null,null,null,null,null,null,null,null,null,null,null,null,null,null,null,null,null,null,null,null,null,null,null,null,null,null,null,null,null,null,null,null,null,null,null,null,null,null,null,null,null,null,null,null,null,null,null,null,null,null,null,null,null,null,null,null,null,null,null,null,null,null,null,null,null,null,null,null,null,null,null,null,null,null,null,null,null,null,null,null,null,null,null,null,null,null,null,null,null,null,null,null,null,null,null,null,null,null,null,null,null,null,null,null,null,null,null,null,null,null,null,null,null,null,null,null,null,null,null,null,null,null,null,null,null,null,null,null,null,null,null,null,null,null,null,null,null,null,null,null,null,null,null,null,null,null,null,null,null,null,null,null,null,null,null,null,null,null,null,null,null,null,null,null,null,null,null,null,null,null,null,null,"Нижний отраженный ГЗ луч",6,{"$f":"$HN$2195","v":200},{"$f":"$HO$2195+'Исходные данные'!$F$6/2","v":454.875},{"$f":"HN2206","v":778.52979822582301},{"$f":"$HO$2195+'Исходные данные'!$AN$12/SQRT(2)","v":404.34520177417699}]
[null,null,null,null,null,null,null,null,null,null,null,null,null,null,null,null,null,null,null,null,null,null,null,null,null,null,null,null,null,null,null,null,null,null,null,null,null,null,null,null,null,null,null,null,null,null,null,null,null,null,null,null,null,null,null,null,null,null,null,null,null,null,null,null,null,null,null,null,null,null,null,null,null,null,null,null,null,null,null,null,null,null,null,null,null,null,null,null,null,null,null,null,null,null,null,null,null,null,null,null,null,null,null,null,null,null,null,null,null,null,null,null,null,null,null,null,null,null,null,null,null,null,null,null,null,null,null,null,null,null,null,null,null,null,null,null,null,null,null,null,null,null,null,null,null,null,null,null,null,null,null,null,null,null,null,null,null,null,null,null,null,null,null,null,null,null,null,null,null,null,null,null,null,null,null,null,null,null,null,null,null,null,null,null,null,null,null,null,null,null,null,null,null,null,null,null,null,null,null,null,null,null,null,null,null,null,null,null,null,null,null,null,null,null,null,null,null,null,null,"Левый отраженный ДЗ луч",7,{"$f":"HP2203","v":823.52726578630416},{"$f":"HQ2203","v":359.34773421369579},{"$f":"HN2195+'Исходные данные'!F36-'Исходные данные'!F12+'Исходные данные'!F10/2","v":812.44500000000005},{"$f":"HO2195-'Исходные данные'!F12","v":232.875}]
[null,null,null,null,null,null,null,null,null,null,null,null,null,null,null,null,null,null,null,null,null,null,null,null,null,null,null,null,null,null,null,null,null,null,null,null,null,null,null,null,null,null,null,null,null,null,null,null,null,null,null,null,null,null,null,null,null,null,null,null,null,null,null,null,null,null,null,null,null,null,null,null,null,null,null,null,null,null,null,null,null,null,null,null,null,null,null,null,null,null,null,null,null,null,null,null,null,null,null,null,null,null,null,null,null,null,null,null,null,null,null,null,null,null,null,null,null,null,null,null,null,null,null,null,null,null,null,null,null,null,null,null,null,null,null,null,null,null,null,null,null,null,null,null,null,null,null,null,null,null,null,null,null,null,null,null,null,null,null,null,null,null,null,null,null,null,null,null,null,null,null,null,null,null,null,null,null,null,null,null,null,null,null,null,null,null,null,null,null,null,null,null,null,null,null,null,null,null,null,null,null,null,null,null,null,null,null,null,null,null,null,null,null,null,null,null,null,null,null,"Правый отраженный ДЗ луч",8,{"$f":"HN2195+'Исходные данные'!F36-'Исходные данные'!F12-'Исходные данные'!AN12/SQRT(2)","v":778.52979822582301},{"$f":"HQ2204","v":404.34520177417699},{"$f":"HN2195+'Исходные данные'!F36-'Исходные данные'!F12-'Исходные данные'!F10/2","v":793.55499999999995},{"$f":"HO2195-'Исходные данные'!F12","v":232.875}]
[null,null,null,null,null,null,null,null,null,null,null,null,null,null,null,null,null,null,null,null,null,null,null,null,null,null,null,null,null,null,null,null,null,null,null,null,null,null,null,null,null,null,null,null,null,null,null,null,null,null,null,null,null,null,null,null,null,null,null,null,null,null,null,null,null,null,null,null,null,null,null,null,null,null,null,null,null,null,null,null,null,null,null,null,null,null,null,null,null,null,null,null,null,null,null,null,null,null,null,null,null,null,null,null,null,null,null,null,null,null,null,null,null,null,null,null,null,null,null,null,null,null,null,null,null,null,null,null,null,null,null,null,null,null,null,null,null,null,null,null,null,null,null,null,null,null,null,null,null,null,null,null,null,null,null,null,null,null,null,null,null,null,null,null,null,null,null,null,null,null,null,null,null,null,null,null,null,null,null,null,null,null,null,null,null,null,null,null,null,null,null,null,null,null,null,null,null,null,null,null,null,null,null,null,null,null,null,null,null,null,null,null,null,null,null,null,null,null,null,"Фокальная плоскость",9,{"$f":"HN2195+'Исходные данные'!F36-'Исходные данные'!F12-'Исходные данные'!F10/2","v":793.55499999999995},{"$f":"HO2195-'Исходные данные'!F12","v":232.875},{"$f":"HN2195+'Исходные данные'!F36-'Исходные данные'!F12+'Исходные данные'!F10/2","v":812.44500000000005},{"$f":"HO2195-'Исходные данные'!F12","v":232.875}]
[null,null,null,null,null,null,null,null,null,null,null,null,null,null,null,null,null,null,null,null,null,null,null,null,null,null,null,null,null,null,null,null,null,null,null,null,null,null,null,null,null,null,null,null,null,null,null,null,null,null,null,null,null,null,null,null,null,null,null,null,null,null,null,null,null,null,null,null,null,null,null,null,null,null,null,null,null,null,null,null,null,null,null,null,null,null,null,null,null,null,null,null,null,null,null,null,null,null,null,null,null,null,null,null,null,null,null,null,null,null,null,null,null,null,null,null,null,null,null,null,null,null,null,null,null,null,null,null,null,null,null,null,null,null,null,null,null,null,null,null,null,null,null,null,null,null,null,null,null,null,null,null,null,null,null,null,null,null,null,null,null,null,null,null,null,null,null,null,null,null,null,null,null,null,null,null,null,null,null,null,null,null,null,null,null,null,null,null,null,null,null,null,null,null,null,null,null,null,null,null,null,null,null,null,null,null,null,null,null,null,null,null,null,null,null,null,null,null,null,"Верхний входящий луч",10,{"$f":"$HN$2195+'Исходные данные'!$F$60","v":863},{"$f":"$HO$2195-'Исходные данные'!F6/2-('Исходные данные'!F10/2)*('Исходные данные'!F60/'Исходные данные'!F36)","v":296.52562},{"$f":"HN2195","v":200},{"$f":"HO2195-'Исходные данные'!F6/2","v":304.875}]
[null,null,null,null,null,null,null,null,null,null,null,null,null,null,null,null,null,null,null,null,null,null,null,null,null,null,null,null,null,null,null,null,null,null,null,null,null,null,null,null,null,null,null,null,null,null,null,null,null,null,null,null,null,null,null,null,null,null,null,null,null,null,null,null,null,null,null,null,null,null,null,null,null,null,null,null,null,null,null,null,null,null,null,null,null,null,null,null,null,null,null,null,null,null,null,null,null,null,null,null,null,null,null,null,null,null,null,null,null,null,null,null,null,null,null,null,null,null,null,null,null,null,null,null,null,null,null,null,null,null,null,null,null,null,null,null,null,null,null,null,null,null,null,null,null,null,null,null,null,null,null,null,null,null,null,null,null,null,null,null,null,null,null,null,null,null,null,null,null,null,null,null,null,null,null,null,null,null,null,null,null,null,null,null,null,null,null,null,null,null,null,null,null,null,null,null,null,null,null,null,null,null,null,null,null,null,null,null,null,null,null,null,null,null,null,null,null,null,null,"Нижний входящий луч",11,{"$f":"$HN$2195+'Исходные данные'!$F$60","v":863},{"$f":"$HO$2195+'Исходные данные'!F6/2+('Исходные данные'!F10/2)*('Исходные данные'!F60/'Исходные данные'!F36)","v":463.22438},{"$f":"HN2195","v":200},{"$f":"HO2195+'Исходные данные'!F6/2","v":454.875}]
[null,null,null,null,null,null,null,null,null,null,null,null,null,null,null,null,null,null,null,null,null,null,null,null,null,null,null,null,null,null,null,null,null,null,null,null,null,null,null,null,null,null,null,null,null,null,null,null,null,null,null,null,null,null,null,null,null,null,null,null,null,null,null,null,null,null,null,null,null,null,null,null,null,null,null,null,null,null,null,null,null,null,null,null,null,null,null,null,null,null,null,null,null,null,null,null,null,null,null,null,null,null,null,null,null,null,null,null,null,null,null,null,null,null,null,null,null,null,null,null,null,null,null,null,null,null,null,null,null,null,null,null,null,null,null,null,null,null,null,null,null,null,null,null,null,null,null,null,null,null,null,null,null,null,null,null,null,null,null,null,null,null,null,null,null,null,null,null,null,null,null,null,null,null,null,null,null,null,null,null,null,null,null,null,null,null,null,null,null,null,null,null,null,null,null,null,null,null,null,null,null,null,null,null,null,null,null,null,null,null,null,null,null,null,null,null,null,null,null,"Диагональное зеркало",12,{"$f":"HN2205","v":823.52726578630416},{"$f":"HO2205","v":359.34773421369579},{"$f":"HN2206","v":778.52979822582301},{"$f":"HO2206","v":404.34520177417699}]
[null,null,null,null,null,null,null,null,null,null,null,null,null,null,null,null,null,null,null,null,null,null,null,null,null,null,null,null,null,null,null,null,null,null,null,null,null,null,null,null,null,null,null,null,null,null,null,null,null,null,null,null,null,null,null,null,null,null,null,null,null,null,null,null,null,null,null,null,null,null,null,null,null,null,null,null,null,null,null,null,null,null,null,null,null,null,null,null,null,null,null,null,null,null,null,null,null,null,null,null,null,null,null,null,null,null,null,null,null,null,null,null,null,null,null,null,null,null,null,null,null,null,null,null,null,null,null,null,null,null,null,null,null,null,null,null,null,null,null,null,null,null,null,null,null,null,null,null,null,null,null,null,null,null,null,null,null,null,null,null,null,null,null,null,null,null,null,null,null,null,null,null,null,null,null,null,null,null,null,null,null,null,null,null,null,null,null,null,null,null,null,null,null,null,null,null,null,null,null,null,null,null,null,null,null,null,null,null,null,null,null,null,null,null,null,null,null,null,null,null,13,{"$f":"HP2210+'Исходные данные'!$F$22*SQRT(2)","v":785.17660196897657},{"$f":"HQ2210","v":404.34520177417699},{"$f":"HN2210+'Исходные данные'!$F$22*SQRT(2)","v":830.17406952945771},{"$f":"HO2210","v":359.34773421369579}]
[null,null,null,null,null,null,null,null,null,null,null,null,null,null,null,null,null,null,null,null,null,null,null,null,null,null,null,null,null,null,null,null,null,null,null,null,null,null,null,null,null,null,null,null,null,null,null,null,null,null,null,null,null,null,null,null,null,null,null,null,null,null,null,null,null,null,null,null,null,null,null,null,null,null,null,null,null,null,null,null,null,null,null,null,null,null,null,null,null,null,null,null,null,null,null,null,null,null,null,null,null,null,null,null,null,null,null,null,null,null,null,null,null,null,null,null,null,null,null,null,null,null,null,null,null,null,null,null,null,null,null,null,null,null,null,null,null,null,null,null,null,null,null,null,null,null,null,null,null,null,null,null,null,null,null,null,null,null,null,null,null,null,null,null,null,null,null,null,null,null,null,null,null,null,null,null,null,null,null,null,null,null,null,null,null,null,null,null,null,null,null,null,null,null,null,null,null,null,null,null,null,null,null,null,null,null,null,null,null,null,null,null,null,null,null,null,null,null,null,null,14,{"$f":"HN2210","v":823.52726578630416},{"$f":"HO2210","v":359.34773421369579}]
[null,null,null,null,null,null,null,null,null,null,null,null,null,null,null,null,null,null,null,null,null,null,null,null,null,null,null,null,null,null,null,null,null,null,null,null,null,null,null,null,null,null,null,null,null,null,null,null,null,null,null,null,null,null,null,null,null,null,null,null,null,null,null,null,null,null,null,null,null,null,null,null,null,null,null,null,null,null,null,null,null,null,null,null,null,null,null,null,null,null,null,null,null,null,null,null,null,null,null,null,null,null,null,null,null,null,null,null,null,null,null,null,null,null,null,null,null,null,null,null,null,null,null,null,null,null,null,null,null,null,null,null,null,null,null,null,null,null,null,null,null,null,null,null,null,null,null,null,null,null,null,null,null,null,null,null,null,null,null,null,null,null,null,null,null,null,null,null,null,null,null,null,null,null,null,null,null,null,null,null,null,null,null,null,null,null,null,null,null,null,null,null,null,null,null,null,null,null,null,null,null,null,null,null,null,null,null,null,null,null,null,null,null,null,null,null,null,null,null,null,15]
[null,null,null,null,null,null,null,null,null,null,null,null,null,null,null,null,null,null,null,null,null,null,null,null,null,null,null,null,null,null,null,null,null,null,null,null,null,null,null,null,null,null,null,null,null,null,null,null,null,null,null,null,null,null,null,null,null,null,null,null,null,null,null,null,null,null,null,null,null,null,null,null,null,null,null,null,null,null,null,null,null,null,null,null,null,null,null,null,null,null,null,null,null,null,null,null,null,null,null,null,null,null,null,null,null,null,null,null,null,null,null,null,null,null,null,null,null,null,null,null,null,null,null,null,null,null,null,null,null,null,null,null,null,null,null,null,null,null,null,null,null,null,null,null,null,null,null,null,null,null,null,null,null,null,null,null,null,null,null,null,null,null,null,null,null,null,null,null,null,null,null,null,null,null,null,null,null,null,null,null,null,null,null,null,null,null,null,null,null,null,null,null,null,null,null,null,null,null,null,null,null,null,null,null,null,null,null,null,null,null,null,null,null,null,null,null,null,null,null,"Оптическая ось",16,{"$f":"HN2195","v":200},{"$f":"HO2195","v":379.875},{"$f":"HN2208","v":863},{"$f":"HO2195","v":379.875}]
[null,null,null,null,null,null,null,null,null,null,null,null,null,null,null,null,null,null,null,null,null,null,null,null,null,null,null,null,null,null,null,null,null,null,null,null,null,null,null,null,null,null,null,null,null,null,null,null,null,null,null,null,null,null,null,null,null,null,null,null,null,null,null,null,null,null,null,null,null,null,null,null,null,null,null,null,null,null,null,null,null,null,null,null,null,null,null,null,null,null,null,null,null,null,null,null,null,null,null,null,null,null,null,null,null,null,null,null,null,null,null,null,null,null,null,null,null,null,null,null,null,null,null,null,null,null,null,null,null,null,null,null,null,null,null,null,null,null,null,null,null,null,null,null,null,null,null,null,null,null,null,null,null,null,null,null,null,null,null,null,null,null,null,null,null,null,null,null,null,null,null,null,null,null,null,null,null,null,null,null,null,null,null,null,null,null,null,null,null,null,null,null,null,null,null,null,null,null,null,null,null,null,null,null,null,null,null,null,null,null,null,null,null,null,null,null,null,null,null,null,17,{"$f":"HN2195+'Исходные данные'!F36-'Исходные данные'!F12","v":803},{"$f":"HO2195","v":379.875},{"$f":"HN2215","v":803},{"$f":"HO2195-'Исходные данные'!F12","v":232.875}]
[null,null,null,null,null,null,null,null,null,null,null,null,null,null,null,null,null,null,null,null,null,null,null,null,null,null,null,null,null,null,null,null,null,null,null,null,null,null,null,null,null,null,null,null,null,null,null,null,null,null,null,null,null,null,null,null,null,null,null,null,null,null,null,null,null,null,null,null,null,null,null,null,null,null,null,null,null,null,null,null,null,null,null,null,null,null,null,null,null,null,null,null,null,null,null,null,null,null,null,null,null,null,null,null,null,null,null,null,null,null,null,null,null,null,null,null,null,null,null,null,null,null,null,null,null,null,null,null,null,null,null,null,null,null,null,null,null,null,null,null,null,null,null,null,null,null,null,null,null,null,null,null,null,null,null,null,null,null,null,null,null,null,null,null,null,null,null,null,null,null,null,null,null,null,null,null,null,null,null,null,null,null,null,null,null,null,null,null,null,null,null,null,null,null,null,null,null,null,null,null,null,null,null,null,null,null,null,null,null,null,null,null,null,null,null,null,null,null,null,"Труба",18,{"$f":"$HN$2195-'Исходные данные'!$F$14","v":150},{"$f":"$HO$2195+'Исходные данные'!$F$34/2","v":463.875},{"$f":"'Исходные данные'!$F$60+'Исходные данные'!$F$14","v":713},{"$f":"'Исходные данные'!$F$16","v":3}]
[null,null,null,null,null,null,null,null,null,null,null,null,null,null,null,null,null,null,null,null,null,null,null,null,null,null,null,null,null,null,null,null,null,null,null,null,null,null,null,null,null,null,null,null,null,null,null,null,null,null,null,null,null,null,null,null,null,null,null,null,null,null,null,null,null,null,null,null,null,null,null,null,null,null,null,null,null,null,null,null,null,null,null,null,null,null,null,null,null,null,null,null,null,null,null,null,null,null,null,null,null,null,null,null,null,null,null,null,null,null,null,null,null,null,null,null,null,null,null,null,null,null,null,null,null,null,null,null,null,null,null,null,null,null,null,null,null,null,null,null,null,null,null,null,null,null,null,null,null,null,null,null,null,null,null,null,null,null,null,null,null,null,null,null,null,null,null,null,null,null,null,null,null,null,null,null,null,null,null,null,null,null,null,null,null,null,null,null,null,null,null,null,null,null,null,null,null,null,null,null,null,null,null,null,null,null,null,null,null,null,null,null,null,null,null,null,null,null,null,null,19,{"$f":"$HN$2195-'Исходные данные'!$F$14","v":150},{"$f":"$HO$2195-'Исходные данные'!$F$34/2-'Исходные данные'!$F$16","v":292.875},{"$f":"'Исходные данные'!$F$60+'Исходные данные'!$F$14","v":713},{"$f":"'Исходные данные'!$F$16","v":3}]
[null,null,null,null,null,null,null,null,null,null,null,null,null,null,null,null,null,null,null,null,null,null,null,null,null,null,null,null,null,null,null,null,null,null,null,null,null,null,null,null,null,null,null,null,null,null,null,null,null,null,null,null,null,null,null,null,null,null,null,null,null,null,null,null,null,null,null,null,null,null,null,null,null,null,null,null,null,null,null,null,null,null,null,null,null,null,null,null,null,null,null,null,null,null,null,null,null,null,null,null,null,null,null,null,null,null,null,null,null,null,null,null,null,null,null,null,null,null,null,null,null,null,null,null,null,null,null,null,null,null,null,null,null,null,null,null,null,null,null,null,null,null,null,null,null,null,null,null,null,null,null,null,null,null,null,null,null,null,null,null,null,null,null,null,null,null,null,null,null,null,null,null,null,null,null,null,null,null,null,null,null,null,null,null,null,null,null,null,null,null,null,null,null,null,null,null,null,null,null,null,null,null,null,null,null,null,null,null,null,null,null,null,null,null,null,null,null,null,null,null,20,{"$f":"HN2195+'Исходные данные'!F36-'Исходные данные'!F12-HP2218/2","v":789.37199999999996},{"$f":"HO2217","v":292.875},{"$f":"('Исходные данные'!F6-'Исходные данные'!F18)*(('Исходные данные'!F56+'Исходные данные'!F16)/'Исходные данные'!F36)+'Исходные данные'!F18","v":27.256},{"$f":"'Исходные данные'!$F$16","v":3}]
[null,null,null,null,null,null,null,null,null,null,null,null,null,null,null,null,null,null,null,null,null,null,null,null,null,null,null,null,null,null,null,null,null,null,null,null,null,null,null,null,null,null,null,null,null,null,null,null,null,null,null,null,null,null,null,null,null,null,null,null,null,null,null,null,null,null,null,null,null,null,null,null,null,null,null,null,null,null,null,null,null,null,null,null,null,null,null,null,null,null,null,null,null,null,null,null,null,null,null,null,null,null,null,null,null,null,null,null,null,null,null,null,null,null,null,null,null,null,null,null,null,null,null,null,null,null,null,null,null,null,null,null,null,null,null,null,null,null,null,null,null,null,null,null,null,null,null,null,null,null,null,null,null,null,null,null,null,null,null,null,null,null,null,null,null,null,null,null,null,null,null,null,null,null,null,null,null,null,null,null,null,null,null,null,null,null,null,null,null,null,null,null,null,null,null,null,null,null,null,null,null,null,null,null,null,null,null,null,null,null,null,null,null,null,null,null,null,null,null,null,21,{"$f":"HN2217","v":150},{"$f":"HO2217+'Исходные данные'!F16","v":295.875},{"$f":"HP2217","v":713},{"$f":"'Исходные данные'!F34","v":168}]
[null,null,null,null,null,null,null,null,null,null,null,null,null,null,null,null,null,null,null,null,null,null,null,null,null,null,null,null,null,null,null,null,null,null,null,null,null,null,null,null,null,null,null,null,null,null,null,null,null,null,null,null,null,null,null,null,null,null,null,null,null,null,null,null,null,null,null,null,null,null,null,null,null,null,null,null,null,null,null,null,null,null,null,null,null,null,null,null,null,null,null,null,null,null,null,null,null,null,null,null,null,null,null,null,null,null,null,null,null,null,null,null,null,null,null,null,null,null,null,null,null,null,null,null,null,null,null,null,null,null,null,null,null,null,null,null,null,null,null,null,null,null,null,null,null,null,null,null,null,null,null,null,null,null,null,null,null,null,null,null,null,null,null,null,null,null,null,null,null,null,null,null,null,null,null,null,null,null,null,null,null,null,null,null,null,null,null,null,null,null,null,null,null,null,null,null,null,null,null,null,null,null,null,null,null,null,null,null,null,null,null,null,null,null,null,null,null,null,null,"Треугольник диагоналки",22,{"$f":"HN2195+'Исходные данные'!F36-'Исходные данные'!F12+'Исходные данные'!F22*SQRT(2)-HP2220/2","v":792.77275340797314},{"$f":"HO2195-HQ2220/2","v":363.00094966481953},{"$f":"'Исходные данные'!F46*0.75","v":33.748100670360898},{"$f":"HP2220","v":33.748100670360898}]
[null,null,null,null,null,null,null,null,null,null,null,null,null,null,null,null,null,null,null,null,null,null,null,null,null,null,null,null,null,null,null,null,null,null,null,null,null,null,null,null,null,null,null,null,null,null,null,null,null,null,null,null,null,null,null,null,null,null,null,null,null,null,null,null,null,null,null,null,null,null,null,null,null,null,null,null,null,null,null,null,null,null,null,null,null,null,null,null,null,null,null,null,null,null,null,null,null,null,null,null,null,null,null,null,null,null,null,null,null,null,null,null,null,null,null,null,null,null,null,null,null,null,null,null,null,null,null,null,null,null,null,null,null,null,null,null,null,null,null,null,null,null,null,null,null,null,null,null,null,null,null,null,null,null,null,null,null,null,null,null,null,null,null,null,null,null,null,null,null,null,null,null,null,null,null,null,null,null,null,null,null,null,null,null,null,null,null,null,null,null,null,null,null,null,null,null,null,null,null,null,null,null,null,null,null,null,null,null,null,null,null,null,null,null,null,null,null,null,null,"Основа паука",23,{"$f":"HN2220+2+HP2220","v":828.52085407833408},{"$f":"HO2220","v":363.00094966481953},{"$f":"HN2222+HP2222+5-HN2221","v":45.07297506040095},{"$f":"HQ2220","v":33.748100670360898}]
[null,null,null,null,null,null,null,null,null,null,null,null,null,null,null,null,null,null,null,null,null,null,null,null,null,null,null,null,null,null,null,null,null,null,null,null,null,null,null,null,null,null,null,null,null,null,null,null,null,null,null,null,null,null,null,null,null,null,null,null,null,null,null,null,null,null,null,null,null,null,null,null,null,null,null,null,null,null,null,null,null,null,null,null,null,null,null,null,null,null,null,null,null,null,null,null,null,null,null,null,null,null,null,null,null,null,null,null,null,null,null,null,null,null,null,null,null,null,null,null,null,null,null,null,null,null,null,null,null,null,null,null,null,null,null,null,null,null,null,null,null,null,null,null,null,null,null,null,null,null,null,null,null,null,null,null,null,null,null,null,null,null,null,null,null,null,null,null,null,null,null,null,null,null,null,null,null,null,null,null,null,null,null,null,null,null,null,null,null,null,null,null,null,null,null,null,null,null,null,null,null,null,null,null,null,null,null,null,null,null,null,null,null,null,null,null,null,null,null,"Растяжка 1",24,{"$f":"Чертёж!HN2195+'Исходные данные'!F36-'Исходные данные'!F12+'Исходные данные'!F26-HP2222/2","v":857.40617086126508},{"$f":"HO2195-'Исходные данные'!F34/2","v":295.875},{"$f":"HQ2222/6","v":11.187658277469927},{"$f":"'Исходные данные'!F34/2-HQ2221/2","v":67.125949664819558}]
[null,null,null,null,null,null,null,null,null,null,null,null,null,null,null,null,null,null,null,null,null,null,null,null,null,null,null,null,null,null,null,null,null,null,null,null,null,null,null,null,null,null,null,null,null,null,null,null,null,null,null,null,null,null,null,null,null,null,null,null,null,null,null,null,null,null,null,null,null,null,null,null,null,null,null,null,null,null,null,null,null,null,null,null,null,null,null,null,null,null,null,null,null,null,null,null,null,null,null,null,null,null,null,null,null,null,null,null,null,null,null,null,null,null,null,null,null,null,null,null,null,null,null,null,null,null,null,null,null,null,null,null,null,null,null,null,null,null,null,null,null,null,null,null,null,null,null,null,null,null,null,null,null,null,null,null,null,null,null,null,null,null,null,null,null,null,null,null,null,null,null,null,null,null,null,null,null,null,null,null,null,null,null,null,null,null,null,null,null,null,null,null,null,null,null,null,null,null,null,null,null,null,null,null,null,null,null,null,null,null,null,null,null,null,null,null,null,null,null,"Растяжка 2",25,{"$f":"HN2222","v":857.40617086126508},{"$f":"HO2195+HQ2221/2","v":396.74905033518047},{"$f":"HP2222","v":11.187658277469927},{"$f":"IF('Исходные данные'!F30=0,Чертёж!HQ2222,HQ2222+'Исходные данные'!F30-('Исходные данные'!F34-'Исходные данные'!F32)/2)","v":67.125949664819558}]
[null,null,null,null,null,null,null,null,null,null,null,null,null,null,null,null,null,null,null,null,null,null,null,null,null,null,null,null,null,null,null,null,null,null,null,null,null,null,null,null,null,null,null,null,null,null,null,null,null,null,null,null,null,null,null,null,null,null,null,null,null,null,null,null,null,null,null,null,null,null,null,null,null,null,null,null,null,null,null,null,null,null,null,null,null,null,null,null,null,null,null,null,null,null,null,null,null,null,null,null,null,null,null,null,null,null,null,null,null,null,null,null,null,null,null,null,null,null,null,null,null,null,null,null,null,null,null,null,null,null,null,null,null,null,null,null,null,null,null,null,null,null,null,null,null,null,null,null,null,null,null,null,null,null,null,null,null,null,null,null,null,null,null,null,null,null,null,null,null,null,null,null,null,null,null,null,null,null,null,null,null,null,null,null,null,null,null,null,null,null,null,null,null,null,null,null,null,null,null,null,null,null,null,null,null,null,null,null,null,null,null,null,null,null,null,null,null,null,null,"Верхний отраженный ГЗ луч",5,{"$f":"$HN$2195","v":200},{"$f":"$HO$2195-'Исходные данные'!$F$6/2","v":304.875},{"$f":"$HN$2195+'Исходные данные'!$F$36-'Исходные данные'!$F$12+'Исходные данные'!$AP$10/SQRT(2)","v":822.42524152737315},{"$f":"$HO$2195-'Исходные данные'!$AP$10/SQRT(2)","v":360.44975847262691}]
[null,null,null,null,null,null,null,null,null,null,null,null,null,null,null,null,null,null,null,null,null,null,null,null,null,null,null,null,null,null,null,null,null,null,null,null,null,null,null,null,null,null,null,null,null,null,null,null,null,null,null,null,null,null,null,null,null,null,null,null,null,null,null,null,null,null,null,null,null,null,null,null,null,null,null,null,null,null,null,null,null,null,null,null,null,null,null,null,null,null,null,null,null,null,null,null,null,null,null,null,null,null,null,null,null,null,null,null,null,null,null,null,null,null,null,null,null,null,null,null,null,null,null,null,null,null,null,null,null,null,null,null,null,null,null,null,null,null,null,null,null,null,null,null,null,null,null,null,null,null,null,null,null,null,null,null,null,null,null,null,null,null,null,null,null,null,null,null,null,null,null,null,null,null,null,null,null,null,null,null,null,null,null,null,null,null,null,null,null,null,null,null,null,null,null,null,null,null,null,null,null,null,null,null,null,null,null,null,null,null,null,null,null,null,null,null,null,null,null,"Нижний отраженный ГЗ луч",6,{"$f":"$HN$2195","v":200},{"$f":"$HO$2195+'Исходные данные'!$F$6/2","v":454.875},{"$f":"HN2227","v":779.75316571848043},{"$f":"$HO$2195+'Исходные данные'!$AP$12/SQRT(2)","v":403.12183428151957}]
[null,null,null,null,null,null,null,null,null,null,null,null,null,null,null,null,null,null,null,null,null,null,null,null,null,null,null,null,null,null,null,null,null,null,null,null,null,null,null,null,null,null,null,null,null,null,null,null,null,null,null,null,null,null,null,null,null,null,null,null,null,null,null,null,null,null,null,null,null,null,null,null,null,null,null,null,null,null,null,null,null,null,null,null,null,null,null,null,null,null,null,null,null,null,null,null,null,null,null,null,null,null,null,null,null,null,null,null,null,null,null,null,null,null,null,null,null,null,null,null,null,null,null,null,null,null,null,null,null,null,null,null,null,null,null,null,null,null,null,null,null,null,null,null,null,null,null,null,null,null,null,null,null,null,null,null,null,null,null,null,null,null,null,null,null,null,null,null,null,null,null,null,null,null,null,null,null,null,null,null,null,null,null,null,null,null,null,null,null,null,null,null,null,null,null,null,null,null,null,null,null,null,null,null,null,null,null,null,null,null,null,null,null,null,null,null,null,null,null,"Левый отраженный ДЗ луч",7,{"$f":"HP2224","v":822.42524152737315},{"$f":"HQ2224","v":360.44975847262691},{"$f":"HN2195+'Исходные данные'!F36-'Исходные данные'!F12+'Исходные данные'!F18/2","v":811},{"$f":"HO2195-'Исходные данные'!F12","v":232.875}]
[null,null,null,null,null,null,null,null,null,null,null,null,null,null,null,null,null,null,null,null,null,null,null,null,null,null,null,null,null,null,null,null,null,null,null,null,null,null,null,null,null,null,null,null,null,null,null,null,null,null,null,null,null,null,null,null,null,null,null,null,null,null,null,null,null,null,null,null,null,null,null,null,null,null,null,null,null,null,null,null,null,null,null,null,null,null,null,null,null,null,null,null,null,null,null,null,null,null,null,null,null,null,null,null,null,null,null,null,null,null,null,null,null,null,null,null,null,null,null,null,null,null,null,null,null,null,null,null,null,null,null,null,null,null,null,null,null,null,null,null,null,null,null,null,null,null,null,null,null,null,null,null,null,null,null,null,null,null,null,null,null,null,null,null,null,null,null,null,null,null,null,null,null,null,null,null,null,null,null,null,null,null,null,null,null,null,null,null,null,null,null,null,null,null,null,null,null,null,null,null,null,null,null,null,null,null,null,null,null,null,null,null,null,null,null,null,null,null,null,"Правый отраженный ДЗ луч",8,{"$f":"HN2195+'Исходные данные'!F36-'Исходные данные'!F12-'Исходные данные'!AP12/SQRT(2)","v":779.75316571848043},{"$f":"HQ2225","v":403.12183428151957},{"$f":"HN2195+'Исходные данные'!F36-'Исходные данные'!F12-'Исходные данные'!F18/2","v":795},{"$f":"HO2195-'Исходные данные'!F12","v":232.875}]
[null,null,null,null,null,null,null,null,null,null,null,null,null,null,null,null,null,null,null,null,null,null,null,null,null,null,null,null,null,null,null,null,null,null,null,null,null,null,null,null,null,null,null,null,null,null,null,null,null,null,null,null,null,null,null,null,null,null,null,null,null,null,null,null,null,null,null,null,null,null,null,null,null,null,null,null,null,null,null,null,null,null,null,null,null,null,null,null,null,null,null,null,null,null,null,null,null,null,null,null,null,null,null,null,null,null,null,null,null,null,null,null,null,null,null,null,null,null,null,null,null,null,null,null,null,null,null,null,null,null,null,null,null,null,null,null,null,null,null,null,null,null,null,null,null,null,null,null,null,null,null,null,null,null,null,null,null,null,null,null,null,null,null,null,null,null,null,null,null,null,null,null,null,null,null,null,null,null,null,null,null,null,null,null,null,null,null,null,null,null,null,null,null,null,null,null,null,null,null,null,null,null,null,null,null,null,null,null,null,null,null,null,null,null,null,null,null,null,null,"Фокальная плоскость",9,{"$f":"HN2195+'Исходные данные'!F36-'Исходные данные'!F12-'Исходные данные'!F18/2","v":795},{"$f":"HO2195-'Исходные данные'!F12","v":232.875},{"$f":"HN2195+'Исходные данные'!F36-'Исходные данные'!F12+'Исходные данные'!F18/2","v":811},{"$f":"HO2195-'Исходные данные'!F12","v":232.875}]
[null,null,null,null,null,null,null,null,null,null,null,null,null,null,null,null,null,null,null,null,null,null,null,null,null,null,null,null,null,null,null,null,null,null,null,null,null,null,null,null,null,null,null,null,null,null,null,null,null,null,null,null,null,null,null,null,null,null,null,null,null,null,null,null,null,null,null,null,null,null,null,null,null,null,null,null,null,null,null,null,null,null,null,null,null,null,null,null,null,null,null,null,null,null,null,null,null,null,null,null,null,null,null,null,null,null,null,null,null,null,null,null,null,null,null,null,null,null,null,null,null,null,null,null,null,null,null,null,null,null,null,null,null,null,null,null,null,null,null,null,null,null,null,null,null,null,null,null,null,null,null,null,null,null,null,null,null,null,null,null,null,null,null,null,null,null,null,null,null,null,null,null,null,null,null,null,null,null,null,null,null,null,null,null,null,null,null,null,null,null,null,null,null,null,null,null,null,null,null,null,null,null,null,null,null,null,null,null,null,null,null,null,null,null,null,null,null,null,null,"Верхний входящий луч",10,{"$f":"$HN$2195+'Исходные данные'!$F$60","v":863},{"$f":"$HO$2195-'Исходные данные'!F6/2-('Исходные данные'!F18/2)*('Исходные данные'!F60/'Исходные данные'!F36)","v":297.803},{"$f":"HN2195","v":200},{"$f":"HO2195-'Исходные данные'!F6/2","v":304.875}]
[null,null,null,null,null,null,null,null,null,null,null,null,null,null,null,null,null,null,null,null,null,null,null,null,null,null,null,null,null,null,null,null,null,null,null,null,null,null,null,null,null,null,null,null,null,null,null,null,null,null,null,null,null,null,null,null,null,null,null,null,null,null,null,null,null,null,null,null,null,null,null,null,null,null,null,null,null,null,null,null,null,null,null,null,null,null,null,null,null,null,null,null,null,null,null,null,null,null,null,null,null,null,null,null,null,null,null,null,null,null,null,null,null,null,null,null,null,null,null,null,null,null,null,null,null,null,null,null,null,null,null,null,null,null,null,null,null,null,null,null,null,null,null,null,null,null,null,null,null,null,null,null,null,null,null,null,null,null,null,null,null,null,null,null,null,null,null,null,null,null,null,null,null,null,null,null,null,null,null,null,null,null,null,null,null,null,null,null,null,null,null,null,null,null,null,null,null,null,null,null,null,null,null,null,null,null,null,null,null,null,null,null,null,null,null,null,null,null,null,"Нижний входящий луч",11,{"$f":"$HN$2195+'Исходные данные'!$F$60","v":863},{"$f":"$HO$2195+'Исходные данные'!F6/2+('Исходные данные'!F18/2)*('Исходные данные'!F60/'Исходные данные'!F36)","v":461.947},{"$f":"HN2195","v":200},{"$f":"HO2195+'Исходные данные'!F6/2","v":454.875}]
[null,null,null,null,null,null,null,null,null,null,null,null,null,null,null,null,null,null,null,null,null,null,null,null,null,null,null,null,null,null,null,null,null,null,null,null,null,null,null,null,null,null,null,null,null,null,null,null,null,null,null,null,null,null,null,null,null,null,null,null,null,null,null,null,null,null,null,null,null,null,null,null,null,null,null,null,null,null,null,null,null,null,null,null,null,null,null,null,null,null,null,null,null,null,null,null,null,null,null,null,null,null,null,null,null,null,null,null,null,null,null,null,null,null,null,null,null,null,null,null,null,null,null,null,null,null,null,null,null,null,null,null,null,null,null,null,null,null,null,null,null,null,null,null,null,null,null,null,null,null,null,null,null,null,null,null,null,null,null,null,null,null,null,null,null,null,null,null,null,null,null,null,null,null,null,null,null,null,null,null,null,null,null,null,null,null,null,null,null,null,null,null,null,null,null,null,null,null,null,null,null,null,null,null,null,null,null,null,null,null,null,null,null,null,null,null,null,null,null,"Оправа ГЗ",33,{"$f":"HN2195-'Исходные данные'!F14","v":150},{"$f":"HO2195-'Исходные данные'!F34/2","v":295.875},{"$f":"'Исходные данные'!F14","v":50},{"$f":"'Исходные данные'!F34","v":168}]
[null,null,null,null,null,null,null,null,null,null,null,null,null,null,null,null,null,null,null,null,null,null,null,null,null,null,null,null,null,null,null,null,null,null,null,null,null,null,null,null,null,null,null,null,null,null,null,null,null,null,null,null,null,null,null,null,null,null,null,null,null,null,null,null,null,null,null,null,null,null,null,null,null,null,null,null,null,null,null,null,null,null,null,null,null,null,null,null,null,null,null,null,null,null,null,null,null,null,null,null,null,null,null,null,null,null,null,null,null,null,null,null,null,null,null,null,null,null,null,null,null,null,null,null,null,null,null,null,null,null,null,null,null,null,null,null,null,null,null,null,null,null,null,null,null,null,null,null,null,null,null,null,null,null,null,null,null,null,null,null,null,null,null,null,null,null,null,null,null,null,null,null,null,null,null,null,null,null,null,null,null,null,null,null,null,null,null,null,null,null,null,null,null,null,null,null,null,null,null,null,null,null,null,null,null,null,null,null,null,null,null,null,null,null,null,null,null,null,null,"Отверстие в трубе под паук верхнее",34,{"$f":"HN2195+'Исходные данные'!F36-'Исходные данные'!F12+'Исходные данные'!F26-HP2232/2","v":861},{"$f":"HO2195-'Исходные данные'!F34/2-'Исходные данные'!F16","v":292.875},4,{"$f":"'Исходные данные'!F16","v":3}]
[null,null,null,null,null,null,null,null,null,null,null,null,null,null,null,null,null,null,null,null,null,null,null,null,null,null,null,null,null,null,null,null,null,null,null,null,null,null,null,null,null,null,null,null,null,null,null,null,null,null,null,null,null,null,null,null,null,null,null,null,null,null,null,null,null,null,null,null,null,null,null,null,null,null,null,null,null,null,null,null,null,null,null,null,null,null,null,null,null,null,null,null,null,null,null,null,null,null,null,null,null,null,null,null,null,null,null,null,null,null,null,null,null,null,null,null,null,null,null,null,null,null,null,null,null,null,null,null,null,null,null,null,null,null,null,null,null,null,null,null,null,null,null,null,null,null,null,null,null,null,null,null,null,null,null,null,null,null,null,null,null,null,null,null,null,null,null,null,null,null,null,null,null,null,null,null,null,null,null,null,null,null,null,null,null,null,null,null,null,null,null,null,null,null,null,null,null,null,null,null,null,null,null,null,null,null,null,null,null,null,null,null,null,null,null,null,null,null,null,"Отверстие в трубе под паук нижнее",35,{"$f":"HN2232","v":861},{"$f":"HO2223+HQ2223","v":463.875},{"$f":"HP2232","v":4},{"$f":"HQ2232","v":3}]
[null,null,null,null,null,null,null,null,null,null,null,null,null,null,null,null,null,null,null,null,null,null,null,null,null,null,null,null,null,null,null,null,null,null,null,null,null,null,null,null,null,null,null,null,null,null,null,null,null,null,null,null,null,null,null,null,null,null,null,null,null,null,null,null,null,null,null,null,null,null,null,null,null,null,null,null,null,null,null,null,null,null,null,null,null,null,null,null,null,null,null,null,null,null,null,null,null,null,null,null,null,null,null,null,null,null,null,null,null,null,null,null,null,null,null,null,null,null,null,null,null,null,null,null,null,null,null,null,null,null,null,null,null,null,null,null,null,null,null,null,null,null,null,null,null,null,null,null,null,null,null,null,null,null,null,null,null,null,null,null,null,null,null,null,null,null,null,null,null,null,null,null,null,null,null,null,null,null,null,null,null,null,null,null,null,null,null,null,null,null,null,null,null,null,null,null,null,null,null,null,null,null,null,null,null,null,null,null,null,null,null,null,null,null,null,null,null,null,null,"Отверстие в трубе под крепление ГЗ",36,{"$f":"HN2195-'Исходные данные'!F24-HP2234/2","v":183},{"$f":"HO2216","v":463.875},{"$f":"HP2233","v":4},{"$f":"HQ2233","v":3}]
[null,null,null,null,null,null,null,null,null,null,null,null,null,null,null,null,null,null,null,null,null,null,null,null,null,null,null,null,null,null,null,null,null,null,null,null,null,null,null,null,null,null,null,null,null,null,null,null,null,null,null,null,null,null,null,null,null,null,null,null,null,null,null,null,null,null,null,null,null,null,null,null,null,null,null,null,null,null,null,null,null,null,null,null,null,null,null,null,null,null,null,null,null,null,null,null,null,null,null,null,null,null,null,null,null,null,null,null,null,null,null,null,null,null,null,null,null,null,null,null,null,null,null,null,null,null,null,null,null,null,null,null,null,null,null,null,null,null,null,null,null,null,null,null,null,null,null,null,null,null,null,null,null,null,null,null,null,null,null,null,null,null,null,null,null,null,null,null,null,null,null,null,null,null,null,null,null,null,null,null,null,null,null,null,null,null,null,null,null,null,null,null,null,null,null,null,null,null,null,null,null,null,null,null,null,null,null,null,null,null,null,null,null,null,null,null,null,null,"Расстояние от заднего конца трубы до отверстия крепления оправы ГЗ","Стрелка 1",37,{"$f":"HN2195-'Исходные данные'!F14","v":150},{"$f":"HO2195+'Исходные данные'!F32/2+'Исходные данные'!F16+50+'Исходные данные'!F30","v":514.875},{"$f":"HN2234+HP2234/2","v":185},{"$f":"HO2235","v":514.875},null,null,"Размер шрифта"]
[null,null,null,null,null,null,null,null,null,null,null,null,null,null,null,null,null,null,null,null,null,null,null,null,null,null,null,null,null,null,null,null,null,null,null,null,null,null,null,null,null,null,null,null,null,null,null,null,null,null,null,null,null,null,null,null,null,null,null,null,null,null,null,null,null,null,null,null,null,null,null,null,null,null,null,null,null,null,null,null,null,null,null,null,null,null,null,null,null,null,null,null,null,null,null,null,null,null,null,null,null,null,null,null,null,null,null,null,null,null,null,null,null,null,null,null,null,null,null,null,null,null,null,null,null,null,null,null,null,null,null,null,null,null,null,null,null,null,null,null,null,null,null,null,null,null,null,null,null,null,null,null,null,null,null,null,null,null,null,null,null,null,null,null,null,null,null,null,null,null,null,null,null,null,null,null,null,null,null,null,null,null,null,null,null,null,null,null,null,null,null,null,null,null,null,null,null,null,null,null,null,null,null,null,null,null,null,null,null,null,null,null,null,null,null,null,null,null,null,"Размер 1",38,{"$f":"HN2235+((HP2235-HN2235)/2)-HP2236/2","v":142.5},{"$f":"HO2235-20","v":494.875},50,20,{"$f":"'Исходные данные'!F14-'Исходные данные'!F24","v":35},1,{"$f":"IF(15/(37.28/'Исходные данные'!AN10)>=15,15,15/(37.28/'Исходные данные'!AN10))","v":11.680500673321598}]
[null,null,null,null,null,null,null,null,null,null,null,null,null,null,null,null,null,null,null,null,null,null,null,null,null,null,null,null,null,null,null,null,null,null,null,null,null,null,null,null,null,null,null,null,null,null,null,null,null,null,null,null,null,null,null,null,null,null,null,null,null,null,null,null,null,null,null,null,null,null,null,null,null,null,null,null,null,null,null,null,null,null,null,null,null,null,null,null,null,null,null,null,null,null,null,null,null,null,null,null,null,null,null,null,null,null,null,null,null,null,null,null,null,null,null,null,null,null,null,null,null,null,null,null,null,null,null,null,null,null,null,null,null,null,null,null,null,null,null,null,null,null,null,null,null,null,null,null,null,null,null,null,null,null,null,null,null,null,null,null,null,null,null,null,null,null,null,null,null,null,null,null,null,null,null,null,null,null,null,null,null,null,null,null,null,null,null,null,null,null,null,null,null,null,null,null,null,null,null,null,null,null,null,null,null,null,null,null,null,null,null,null,null,null,null,null,null,null,"Расстояние от переднего конца трубы до отверстия крепления паука","Стрелка 2",39,{"$f":"HN2195+'Исходные данные'!F36-'Исходные данные'!F12+'Исходные данные'!F26","v":863},{"$f":"HO2235","v":514.875},{"$f":"HN2195+'Исходные данные'!F60","v":863},{"$f":"HQ2235","v":514.875}]
[null,null,null,null,null,null,null,null,null,null,null,null,null,null,null,null,null,null,null,null,null,null,null,null,null,null,null,null,null,null,null,null,null,null,null,null,null,null,null,null,null,null,null,null,null,null,null,null,null,null,null,null,null,null,null,null,null,null,null,null,null,null,null,null,null,null,null,null,null,null,null,null,null,null,null,null,null,null,null,null,null,null,null,null,null,null,null,null,null,null,null,null,null,null,null,null,null,null,null,null,null,null,null,null,null,null,null,null,null,null,null,null,null,null,null,null,null,null,null,null,null,null,null,null,null,null,null,null,null,null,null,null,null,null,null,null,null,null,null,null,null,null,null,null,null,null,null,null,null,null,null,null,null,null,null,null,null,null,null,null,null,null,null,null,null,null,null,null,null,null,null,null,null,null,null,null,null,null,null,null,null,null,null,null,null,null,null,null,null,null,null,null,null,null,null,null,null,null,null,null,null,null,null,null,null,null,null,null,null,null,null,null,null,null,null,null,null,null,null,"Размер 2",40,{"$f":"HN2237+((HP2237-HN2237)/2)-HP2238/2","v":838},{"$f":"HO2236","v":494.875},{"$f":"HP2236","v":50},{"$f":"HQ2236","v":20},{"$f":"HP2237-HN2237","v":0},2]
[null,null,null,null,null,null,null,null,null,null,null,null,null,null,null,null,null,null,null,null,null,null,null,null,null,null,null,null,null,null,null,null,null,null,null,null,null,null,null,null,null,null,null,null,null,null,null,null,null,null,null,null,null,null,null,null,null,null,null,null,null,null,null,null,null,null,null,null,null,null,null,null,null,null,null,null,null,null,null,null,null,null,null,null,null,null,null,null,null,null,null,null,null,null,null,null,null,null,null,null,null,null,null,null,null,null,null,null,null,null,null,null,null,null,null,null,null,null,null,null,null,null,null,null,null,null,null,null,null,null,null,null,null,null,null,null,null,null,null,null,null,null,null,null,null,null,null,null,null,null,null,null,null,null,null,null,null,null,null,null,null,null,null,null,null,null,null,null,null,null,null,null,null,null,null,null,null,null,null,null,null,null,null,null,null,null,null,null,null,null,null,null,null,null,null,null,null,null,null,null,null,null,null,null,null,null,null,null,null,null,null,null,null,null,null,null,null,null,"Длина трубы","Стрелка 3",41,{"$f":"HN2195-'Исходные данные'!F14","v":150},{"$f":"HO2237+30","v":544.875},{"$f":"HN2195+'Исходные данные'!F60","v":863},{"$f":"HO2239","v":544.875}]
[null,null,null,null,null,null,null,null,null,null,null,null,null,null,null,null,null,null,null,null,null,null,null,null,null,null,null,null,null,null,null,null,null,null,null,null,null,null,null,null,null,null,null,null,null,null,null,null,null,null,null,null,null,null,null,null,null,null,null,null,null,null,null,null,null,null,null,null,null,null,null,null,null,null,null,null,null,null,null,null,null,null,null,null,null,null,null,null,null,null,null,null,null,null,null,null,null,null,null,null,null,null,null,null,null,null,null,null,null,null,null,null,null,null,null,null,null,null,null,null,null,null,null,null,null,null,null,null,null,null,null,null,null,null,null,null,null,null,null,null,null,null,null,null,null,null,null,null,null,null,null,null,null,null,null,null,null,null,null,null,null,null,null,null,null,null,null,null,null,null,null,null,null,null,null,null,null,null,null,null,null,null,null,null,null,null,null,null,null,null,null,null,null,null,null,null,null,null,null,null,null,null,null,null,null,null,null,null,null,null,null,null,null,null,null,null,null,null,null,"Размер 3",42,{"$f":"HN2239+((HP2239-HN2239)/2)-HP2240/2","v":481.5},{"$f":"HO2239-20","v":524.875},{"$f":"HP2238","v":50},{"$f":"HQ2238","v":20},{"$f":"'Исходные данные'!F60+'Исходные данные'!F14","v":713},3]
[null,null,null,null,null,null,null,null,null,null,null,null,null,null,null,null,null,null,null,null,null,null,null,null,null,null,null,null,null,null,null,null,null,null,null,null,null,null,null,null,null,null,null,null,null,null,null,null,null,null,null,null,null,null,null,null,null,null,null,null,null,null,null,null,null,null,null,null,null,null,null,null,null,null,null,null,null,null,null,null,null,null,null,null,null,null,null,null,null,null,null,null,null,null,null,null,null,null,null,null,null,null,null,null,null,null,null,null,null,null,null,null,null,null,null,null,null,null,null,null,null,null,null,null,null,null,null,null,null,null,null,null,null,null,null,null,null,null,null,null,null,null,null,null,null,null,null,null,null,null,null,null,null,null,null,null,null,null,null,null,null,null,null,null,null,null,null,null,null,null,null,null,null,null,null,null,null,null,null,null,null,null,null,null,null,null,null,null,null,null,null,null,null,null,null,null,null,null,null,null,null,null,null,null,null,null,null,null,null,null,null,null,null,null,null,null,null,null,"Расстояние от переднего края трубы до оптической оси фокусера","Стрелка 4",43,{"$f":"HN2195+'Исходные данные'!F36-'Исходные данные'!F12","v":803},{"$f":"HO2237","v":514.875},{"$f":"HP2239","v":863},{"$f":"HO2241","v":514.875}]
[null,null,null,null,null,null,null,null,null,null,null,null,null,null,null,null,null,null,null,null,null,null,null,null,null,null,null,null,null,null,null,null,null,null,null,null,null,null,null,null,null,null,null,null,null,null,null,null,null,null,null,null,null,null,null,null,null,null,null,null,null,null,null,null,null,null,null,null,null,null,null,null,null,null,null,null,null,null,null,null,null,null,null,null,null,null,null,null,null,null,null,null,null,null,null,null,null,null,null,null,null,null,null,null,null,null,null,null,null,null,null,null,null,null,null,null,null,null,null,null,null,null,null,null,null,null,null,null,null,null,null,null,null,null,null,null,null,null,null,null,null,null,null,null,null,null,null,null,null,null,null,null,null,null,null,null,null,null,null,null,null,null,null,null,null,null,null,null,null,null,null,null,null,null,null,null,null,null,null,null,null,null,null,null,null,null,null,null,null,null,null,null,null,null,null,null,null,null,null,null,null,null,null,null,null,null,null,null,null,null,null,null,null,null,null,null,null,null,null,"Размер 4",44,{"$f":"HN2241+((HP2241-HN2241)/2)-HP2242/2","v":808},{"$f":"HO2241-20","v":494.875},{"$f":"HP2240","v":50},{"$f":"HQ2240","v":20},{"$f":"'Исходные данные'!F60-('Исходные данные'!F36-'Исходные данные'!F12)","v":60},4]
[null,null,null,null,null,null,null,null,null,null,null,null,null,null,null,null,null,null,null,null,null,null,null,null,null,null,null,null,null,null,null,null,null,null,null,null,null,null,null,null,null,null,null,null,null,null,null,null,null,null,null,null,null,null,null,null,null,null,null,null,null,null,null,null,null,null,null,null,null,null,null,null,null,null,null,null,null,null,null,null,null,null,null,null,null,null,null,null,null,null,null,null,null,null,null,null,null,null,null,null,null,null,null,null,null,null,null,null,null,null,null,null,null,null,null,null,null,null,null,null,null,null,null,null,null,null,null,null,null,null,null,null,null,null,null,null,null,null,null,null,null,null,null,null,null,null,null,null,null,null,null,null,null,null,null,null,null,null,null,null,null,null,null,null,null,null,null,null,null,null,null,null,null,null,null,null,null,null,null,null,null,null,null,null,null,null,null,null,null,null,null,null,null,null,null,null,null,null,null,null,null,null,null,null,null,null,null,null,null,null,null,null,null,null,null,null,null,null,"Расстояние между вершиной ГЗ и оптическим центром ДЗ","Стрелка 5",45,{"$f":"HN2195","v":200},{"$f":"HO2241","v":514.875},{"$f":"'Исходные данные'!F36-'Исходные данные'!F12+HN2195","v":803},{"$f":"HQ2241","v":514.875}]
[null,null,null,null,null,null,null,null,null,null,null,null,null,null,null,null,null,null,null,null,null,null,null,null,null,null,null,null,null,null,null,null,null,null,null,null,null,null,null,null,null,null,null,null,null,null,null,null,null,null,null,null,null,null,null,null,null,null,null,null,null,null,null,null,null,null,null,null,null,null,null,null,null,null,null,null,null,null,null,null,null,null,null,null,null,null,null,null,null,null,null,null,null,null,null,null,null,null,null,null,null,null,null,null,null,null,null,null,null,null,null,null,null,null,null,null,null,null,null,null,null,null,null,null,null,null,null,null,null,null,null,null,null,null,null,null,null,null,null,null,null,null,null,null,null,null,null,null,null,null,null,null,null,null,null,null,null,null,null,null,null,null,null,null,null,null,null,null,null,null,null,null,null,null,null,null,null,null,null,null,null,null,null,null,null,null,null,null,null,null,null,null,null,null,null,null,null,null,null,null,null,null,null,null,null,null,null,null,null,null,null,null,null,null,null,null,null,null,null,"Размер 5",46,{"$f":"HN2243+((HP2243-HN2243)/2)-HP2244/2","v":476.5},{"$f":"HO2243-20","v":494.875},{"$f":"HP2242","v":50},{"$f":"HQ2242","v":20},{"$f":"'Исходные данные'!F36-'Исходные данные'!F12","v":603},5]
[null,null,null,null,null,null,null,null,null,null,null,null,null,null,null,null,null,null,null,null,null,null,null,null,null,null,null,null,null,null,null,null,null,null,null,null,null,null,null,null,null,null,null,null,null,null,null,null,null,null,null,null,null,null,null,null,null,null,null,null,null,null,null,null,null,null,null,null,null,null,null,null,null,null,null,null,null,null,null,null,null,null,null,null,null,null,null,null,null,null,null,null,null,null,null,null,null,null,null,null,null,null,null,null,null,null,null,null,null,null,null,null,null,null,null,null,null,null,null,null,null,null,null,null,null,null,null,null,null,null,null,null,null,null,null,null,null,null,null,null,null,null,null,null,null,null,null,null,null,null,null,null,null,null,null,null,null,null,null,null,null,null,null,null,null,null,null,null,null,null,null,null,null,null,null,null,null,null,null,null,null,null,null,null,null,null,null,null,null,null,null,null,null,null,null,null,null,null,null,null,null,null,null,null,null,null,null,null,null,null,null,null,null,null,null,null,null,null,"Расстояние между вершиной ГЗ и отверстием для крепления его правы","Стрелка 6",47,{"$f":"HP2235","v":185},{"$f":"HO2237","v":514.875},{"$f":"HN2195","v":200},{"$f":"HO2245","v":514.875}]
[null,null,null,null,null,null,null,null,null,null,null,null,null,null,null,null,null,null,null,null,null,null,null,null,null,null,null,null,null,null,null,null,null,null,null,null,null,null,null,null,null,null,null,null,null,null,null,null,null,null,null,null,null,null,null,null,null,null,null,null,null,null,null,null,null,null,null,null,null,null,null,null,null,null,null,null,null,null,null,null,null,null,null,null,null,null,null,null,null,null,null,null,null,null,null,null,null,null,null,null,null,null,null,null,null,null,null,null,null,null,null,null,null,null,null,null,null,null,null,null,null,null,null,null,null,null,null,null,null,null,null,null,null,null,null,null,null,null,null,null,null,null,null,null,null,null,null,null,null,null,null,null,null,null,null,null,null,null,null,null,null,null,null,null,null,null,null,null,null,null,null,null,null,null,null,null,null,null,null,null,null,null,null,null,null,null,null,null,null,null,null,null,null,null,null,null,null,null,null,null,null,null,null,null,null,null,null,null,null,null,null,null,null,null,null,null,null,null,null,"Размер 6",48,{"$f":"HN2245+((HP2245-HN2245)/2)-HP2246/2","v":167.5},{"$f":"HO2245-20","v":494.875},{"$f":"HP2244","v":50},{"$f":"HQ2244","v":20},{"$f":"'Исходные данные'!F24","v":15},6]
[null,null,null,null,null,null,null,null,null,null,null,null,null,null,null,null,null,null,null,null,null,null,null,null,null,null,null,null,null,null,null,null,null,null,null,null,null,null,null,null,null,null,null,null,null,null,null,null,null,null,null,null,null,null,null,null,null,null,null,null,null,null,null,null,null,null,null,null,null,null,null,null,null,null,null,null,null,null,null,null,null,null,null,null,null,null,null,null,null,null,null,null,null,null,null,null,null,null,null,null,null,null,null,null,null,null,null,null,null,null,null,null,null,null,null,null,null,null,null,null,null,null,null,null,null,null,null,null,null,null,null,null,null,null,null,null,null,null,null,null,null,null,null,null,null,null,null,null,null,null,null,null,null,null,null,null,null,null,null,null,null,null,null,null,null,null,null,null,null,null,null,null,null,null,null,null,null,null,null,null,null,null,null,null,null,null,null,null,null,null,null,null,null,null,null,null,null,null,null,null,null,null,null,null,null,null,null,null,null,null,null,null,null,null,null,null,null,null,"Расстояние от оптического центра ДЗ до плоскости крепления паука","Стрелка 7",49,{"$f":"HN2195+'Исходные данные'!F36-'Исходные данные'!F12","v":803},{"$f":"HO2245","v":514.875},{"$f":"HN2233+HP2233/2","v":863},{"$f":"HO2247","v":514.875}]
[null,null,null,null,null,null,null,null,null,null,null,null,null,null,null,null,null,null,null,null,null,null,null,null,null,null,null,null,null,null,null,null,null,null,null,null,null,null,null,null,null,null,null,null,null,null,null,null,null,null,null,null,null,null,null,null,null,null,null,null,null,null,null,null,null,null,null,null,null,null,null,null,null,null,null,null,null,null,null,null,null,null,null,null,null,null,null,null,null,null,null,null,null,null,null,null,null,null,null,null,null,null,null,null,null,null,null,null,null,null,null,null,null,null,null,null,null,null,null,null,null,null,null,null,null,null,null,null,null,null,null,null,null,null,null,null,null,null,null,null,null,null,null,null,null,null,null,null,null,null,null,null,null,null,null,null,null,null,null,null,null,null,null,null,null,null,null,null,null,null,null,null,null,null,null,null,null,null,null,null,null,null,null,null,null,null,null,null,null,null,null,null,null,null,null,null,null,null,null,null,null,null,null,null,null,null,null,null,null,null,null,null,null,null,null,null,null,null,null,"Размер 7",50,{"$f":"HN2247+((HP2247-HN2247)/2)-HP2248/2","v":808},{"$f":"HO2247-20","v":494.875},{"$f":"HP2246","v":50},{"$f":"HQ2246","v":20},{"$f":"'Исходные данные'!F26","v":60},7]
[null,null,null,null,null,null,null,null,null,null,null,null,null,null,null,null,null,null,null,null,null,null,null,null,null,null,null,null,null,null,null,null,null,null,null,null,null,null,null,null,null,null,null,null,null,null,null,null,null,null,null,null,null,null,null,null,null,null,null,null,null,null,null,null,null,null,null,null,null,null,null,null,null,null,null,null,null,null,null,null,null,null,null,null,null,null,null,null,null,null,null,null,null,null,null,null,null,null,null,null,null,null,null,null,null,null,null,null,null,null,null,null,null,null,null,null,null,null,null,null,null,null,null,null,null,null,null,null,null,null,null,null,null,null,null,null,null,null,null,null,null,null,null,null,null,null,null,null,null,null,null,null,null,null,null,null,null,null,null,null,null,null,null,null,null,null,null,null,null,null,null,null,null,null,null,null,null,null,null,null,null,null,null,null,null,null,null,null,null,null,null,null,null,null,null,null,null,null,null,null,null,null,null,null,null,null,null,null,null,null,null,null,null,null,null,null,null,null,"Диаметр невиньетированного поля зрения","Стрелка 8",51,{"$f":"Чертёж!HN2195+'Исходные данные'!F36-'Исходные данные'!F12-'Исходные данные'!F10/2","v":793.55499999999995},{"$f":"HO2195-'Исходные данные'!F12-15","v":217.875},{"$f":"Чертёж!HN2195+'Исходные данные'!F36-'Исходные данные'!F12+'Исходные данные'!F10/2","v":812.44500000000005},{"$f":"HO2249","v":217.875}]
[null,null,null,null,null,null,null,null,null,null,null,null,null,null,null,null,null,null,null,null,null,null,null,null,null,null,null,null,null,null,null,null,null,null,null,null,null,null,null,null,null,null,null,null,null,null,null,null,null,null,null,null,null,null,null,null,null,null,null,null,null,null,null,null,null,null,null,null,null,null,null,null,null,null,null,null,null,null,null,null,null,null,null,null,null,null,null,null,null,null,null,null,null,null,null,null,null,null,null,null,null,null,null,null,null,null,null,null,null,null,null,null,null,null,null,null,null,null,null,null,null,null,null,null,null,null,null,null,null,null,null,null,null,null,null,null,null,null,null,null,null,null,null,null,null,null,null,null,null,null,null,null,null,null,null,null,null,null,null,null,null,null,null,null,null,null,null,null,null,null,null,null,null,null,null,null,null,null,null,null,null,null,null,null,null,null,null,null,null,null,null,null,null,null,null,null,null,null,null,null,null,null,null,null,null,null,null,null,null,null,null,null,null,null,null,null,null,null,null,"Размер 8",52,{"$f":"HN2249+((HP2249-HN2249)/2)-HP2250/2","v":778},{"$f":"HO2249-20","v":197.875},{"$f":"HP2248","v":50},{"$f":"HQ2248","v":20},{"$f":"'Исходные данные'!F10","v":18.89},8]
[null,null,null,null,null,null,null,null,null,null,null,null,null,null,null,null,null,null,null,null,null,null,null,null,null,null,null,null,null,null,null,null,null,null,null,null,null,null,null,null,null,null,null,null,null,null,null,null,null,null,null,null,null,null,null,null,null,null,null,null,null,null,null,null,null,null,null,null,null,null,null,null,null,null,null,null,null,null,null,null,null,null,null,null,null,null,null,null,null,null,null,null,null,null,null,null,null,null,null,null,null,null,null,null,null,null,null,null,null,null,null,null,null,null,null,null,null,null,null,null,null,null,null,null,null,null,null,null,null,null,null,null,null,null,null,null,null,null,null,null,null,null,null,null,null,null,null,null,null,null,null,null,null,null,null,null,null,null,null,null,null,null,null,null,null,null,null,null,null,null,null,null,null,null,null,null,null,null,null,null,null,null,null,null,null,null,null,null,null,null,null,null,null,null,null,null,null,null,null,null,null,null,null,null,null,null,null,null,null,null,null,null,null,null,null,null,null,null,"Диаметр полевой диафрагмы слабого окуляра или максимальное поле зрения","Стрелка 9",53,{"$f":"Чертёж!HN2195+'Исходные данные'!F36-'Исходные данные'!F12-'Исходные данные'!F18/2","v":795},{"$f":"HO2249-30","v":187.875},{"$f":"Чертёж!HN2195+'Исходные данные'!F36-'Исходные данные'!F12+'Исходные данные'!F18/2","v":811},{"$f":"HO2251","v":187.875}]
[null,null,null,null,null,null,null,null,null,null,null,null,null,null,null,null,null,null,null,null,null,null,null,null,null,null,null,null,null,null,null,null,null,null,null,null,null,null,null,null,null,null,null,null,null,null,null,null,null,null,null,null,null,null,null,null,null,null,null,null,null,null,null,null,null,null,null,null,null,null,null,null,null,null,null,null,null,null,null,null,null,null,null,null,null,null,null,null,null,null,null,null,null,null,null,null,null,null,null,null,null,null,null,null,null,null,null,null,null,null,null,null,null,null,null,null,null,null,null,null,null,null,null,null,null,null,null,null,null,null,null,null,null,null,null,null,null,null,null,null,null,null,null,null,null,null,null,null,null,null,null,null,null,null,null,null,null,null,null,null,null,null,null,null,null,null,null,null,null,null,null,null,null,null,null,null,null,null,null,null,null,null,null,null,null,null,null,null,null,null,null,null,null,null,null,null,null,null,null,null,null,null,null,null,null,null,null,null,null,null,null,null,null,null,null,null,null,null,null,"Размер 9",54,{"$f":"HN2251+((HP2251-HN2251)/2)-HP2252/2","v":778},{"$f":"HO2251-20","v":167.875},{"$f":"HP2250","v":50},{"$f":"HQ2250","v":20},{"$f":"'Исходные данные'!F18","v":16},9]
[null,null,null,null,null,null,null,null,null,null,null,null,null,null,null,null,null,null,null,null,null,null,null,null,null,null,null,null,null,null,null,null,null,null,null,null,null,null,null,null,null,null,null,null,null,null,null,null,null,null,null,null,null,null,null,null,null,null,null,null,null,null,null,null,null,null,null,null,null,null,null,null,null,null,null,null,null,null,null,null,null,null,null,null,null,null,null,null,null,null,null,null,null,null,null,null,null,null,null,null,null,null,null,null,null,null,null,null,null,null,null,null,null,null,null,null,null,null,null,null,null,null,null,null,null,null,null,null,null,null,null,null,null,null,null,null,null,null,null,null,null,null,null,null,null,null,null,null,null,null,null,null,null,null,null,null,null,null,null,null,null,null,null,null,null,null,null,null,null,null,null,null,null,null,null,null,null,null,null,null,null,null,null,null,null,null,null,null,null,null,null,null,null,null,null,null,null,null,null,null,null,null,null,null,null,null,null,null,null,null,null,null,null,null,null,null,null,null,"Диаметр отверстия под фокусер","Стрелка 10",55,{"$f":"Чертёж!HN2195+'Исходные данные'!F36-'Исходные данные'!F12-HP2218/2","v":789.37199999999996},{"$f":"HO2251-30","v":157.875},{"$f":"Чертёж!HN2195+'Исходные данные'!F36-'Исходные данные'!F12+HP2218/2","v":816.62800000000004},{"$f":"HO2253","v":157.875}]
[null,null,null,null,null,null,null,null,null,null,null,null,null,null,null,null,null,null,null,null,null,null,null,null,null,null,null,null,null,null,null,null,null,null,null,null,null,null,null,null,null,null,null,null,null,null,null,null,null,null,null,null,null,null,null,null,null,null,null,null,null,null,null,null,null,null,null,null,null,null,null,null,null,null,null,null,null,null,null,null,null,null,null,null,null,null,null,null,null,null,null,null,null,null,null,null,null,null,null,null,null,null,null,null,null,null,null,null,null,null,null,null,null,null,null,null,null,null,null,null,null,null,null,null,null,null,null,null,null,null,null,null,null,null,null,null,null,null,null,null,null,null,null,null,null,null,null,null,null,null,null,null,null,null,null,null,null,null,null,null,null,null,null,null,null,null,null,null,null,null,null,null,null,null,null,null,null,null,null,null,null,null,null,null,null,null,null,null,null,null,null,null,null,null,null,null,null,null,null,null,null,null,null,null,null,null,null,null,null,null,null,null,null,null,null,null,null,null,null,"Размер 10",56,{"$f":"HN2253+((HP2253-HN2253)/2)-HP2254/2","v":778},{"$f":"HO2253-20","v":137.875},{"$f":"HP2252","v":50},{"$f":"HQ2252","v":20},{"$f":"HP2218","v":27.256},10]
[null,null,null,null,null,null,null,null,null,null,null,null,null,null,null,null,null,null,null,null,null,null,null,null,null,null,null,null,null,null,null,null,null,null,null,null,null,null,null,null,null,null,null,null,null,null,null,null,null,null,null,null,null,null,null,null,null,null,null,null,null,null,null,null,null,null,null,null,null,null,null,null,null,null,null,null,null,null,null,null,null,null,null,null,null,null,null,null,null,null,null,null,null,null,null,null,null,null,null,null,null,null,null,null,null,null,null,null,null,null,null,null,null,null,null,null,null,null,null,null,null,null,null,null,null,null,null,null,null,null,null,null,null,null,null,null,null,null,null,null,null,null,null,null,null,null,null,null,null,null,null,null,null,null,null,null,null,null,null,null,null,null,null,null,null,null,null,null,null,null,null,null,null,null,null,null,null,null,null,null,null,null,null,null,null,null,null,null,null,null,null,null,null,null,null,null,null,null,null,null,null,null,null,null,null,null,null,null,null,null,null,null,null,null,null,null,null,null,"Раастояние от опт. Оси до нижнего края ДЗ","Стрелка 11",57,{"$f":"HN2195+'Исходные данные'!F60+30","v":893},{"$f":"HO2195","v":379.875},{"$f":"HN2255","v":893},{"$f":"HO2195+'Исходные данные'!AN12/SQRT(2)","v":404.34520177417699}]
[null,null,null,null,null,null,null,null,null,null,null,null,null,null,null,null,null,null,null,null,null,null,null,null,null,null,null,null,null,null,null,null,null,null,null,null,null,null,null,null,null,null,null,null,null,null,null,null,null,null,null,null,null,null,null,null,null,null,null,null,null,null,null,null,null,null,null,null,null,null,null,null,null,null,null,null,null,null,null,null,null,null,null,null,null,null,null,null,null,null,null,null,null,null,null,null,null,null,null,null,null,null,null,null,null,null,null,null,null,null,null,null,null,null,null,null,null,null,null,null,null,null,null,null,null,null,null,null,null,null,null,null,null,null,null,null,null,null,null,null,null,null,null,null,null,null,null,null,null,null,null,null,null,null,null,null,null,null,null,null,null,null,null,null,null,null,null,null,null,null,null,null,null,null,null,null,null,null,null,null,null,null,null,null,null,null,null,null,null,null,null,null,null,null,null,null,null,null,null,null,null,null,null,null,null,null,null,null,null,null,null,null,null,null,null,null,null,null,null,"Размер 11",58,{"$f":"HN2255+2","v":895},{"$f":"HO2255+((HQ2255-HO2255)/2)-HQ2256/2","v":381.98290741061447},{"$f":"20/(42.998/'Исходные данные'!AN10)","v":13.502924635298669},{"$f":"30/(42.998/'Исходные данные'!AN10)","v":20.254386952948003},{"$f":"'Исходные данные'!AN12/SQRT(2)","v":24.470201774177003},11,100]
[null,null,null,null,null,null,null,null,null,null,null,null,null,null,null,null,null,null,null,null,null,null,null,null,null,null,null,null,null,null,null,null,null,null,null,null,null,null,null,null,null,null,null,null,null,null,null,null,null,null,null,null,null,null,null,null,null,null,null,null,null,null,null,null,null,null,null,null,null,null,null,null,null,null,null,null,null,null,null,null,null,null,null,null,null,null,null,null,null,null,null,null,null,null,null,null,null,null,null,null,null,null,null,null,null,null,null,null,null,null,null,null,null,null,null,null,null,null,null,null,null,null,null,null,null,null,null,null,null,null,null,null,null,null,null,null,null,null,null,null,null,null,null,null,null,null,null,null,null,null,null,null,null,null,null,null,null,null,null,null,null,null,null,null,null,null,null,null,null,null,null,null,null,null,null,null,null,null,null,null,null,null,null,null,null,null,null,null,null,null,null,null,null,null,null,null,null,null,null,null,null,null,null,null,null,null,null,null,null,null,null,null,null,null,null,null,null,null,"Раастояние от опт. Оси до верхнего края ДЗ","Стрелка 12",59,{"$f":"HN2195+'Исходные данные'!F60+30","v":893},{"$f":"HO2195-'Исходные данные'!AN10/SQRT(2)","v":359.34773421369579},{"$f":"HN2257","v":893},{"$f":"HO2255","v":379.875}]
[null,null,null,null,null,null,null,null,null,null,null,null,null,null,null,null,null,null,null,null,null,null,null,null,null,null,null,null,null,null,null,null,null,null,null,null,null,null,null,null,null,null,null,null,null,null,null,null,null,null,null,null,null,null,null,null,null,null,null,null,null,null,null,null,null,null,null,null,null,null,null,null,null,null,null,null,null,null,null,null,null,null,null,null,null,null,null,null,null,null,null,null,null,null,null,null,null,null,null,null,null,null,null,null,null,null,null,null,null,null,null,null,null,null,null,null,null,null,null,null,null,null,null,null,null,null,null,null,null,null,null,null,null,null,null,null,null,null,null,null,null,null,null,null,null,null,null,null,null,null,null,null,null,null,null,null,null,null,null,null,null,null,null,null,null,null,null,null,null,null,null,null,null,null,null,null,null,null,null,null,null,null,null,null,null,null,null,null,null,null,null,null,null,null,null,null,null,null,null,null,null,null,null,null,null,null,null,null,null,null,null,null,null,null,null,null,null,null,null,"Размер 12",60,{"$f":"HN2257+2","v":895},{"$f":"HO2257+((HQ2257-HO2257)/2)-HQ2258/2","v":359.48417363037385},{"$f":"HP2256","v":13.502924635298669},{"$f":"HQ2256","v":20.254386952948003},{"$f":"'Исходные данные'!AN10/SQRT(2)","v":20.527265786304195},12,{"$f":"HT2256","v":100}]
[null,null,null,null,null,null,null,null,null,null,null,null,null,null,null,null,null,null,null,null,null,null,null,null,null,null,null,null,null,null,null,null,null,null,null,null,null,null,null,null,null,null,null,null,null,null,null,null,null,null,null,null,null,null,null,null,null,null,null,null,null,null,null,null,null,null,null,null,null,null,null,null,null,null,null,null,null,null,null,null,null,null,null,null,null,null,null,null,null,null,null,null,null,null,null,null,null,null,null,null,null,null,null,null,null,null,null,null,null,null,null,null,null,null,null,null,null,null,null,null,null,null,null,null,null,null,null,null,null,null,null,null,null,null,null,null,null,null,null,null,null,null,null,null,null,null,null,null,null,null,null,null,null,null,null,null,null,null,null,null,null,null,null,null,null,null,null,null,null,null,null,null,null,null,null,null,null,null,null,null,null,null,null,null,null,null,null,null,null,null,null,null,null,null,null,null,null,null,null,null,null,null,null,null,null,null,null,null,null,null,null,null,null,null,null,null,null,null,"Малая ось диагонального зеркала","Стрелка 13",61,{"$f":"HN2195+'Исходные данные'!F60+60","v":923},{"$f":"HO2257","v":359.34773421369579},{"$f":"HN2259","v":923},{"$f":"HQ2255","v":404.34520177417699}]
[null,null,null,null,null,null,null,null,null,null,null,null,null,null,null,null,null,null,null,null,null,null,null,null,null,null,null,null,null,null,null,null,null,null,null,null,null,null,null,null,null,null,null,null,null,null,null,null,null,null,null,null,null,null,null,null,null,null,null,null,null,null,null,null,null,null,null,null,null,null,null,null,null,null,null,null,null,null,null,null,null,null,null,null,null,null,null,null,null,null,null,null,null,null,null,null,null,null,null,null,null,null,null,null,null,null,null,null,null,null,null,null,null,null,null,null,null,null,null,null,null,null,null,null,null,null,null,null,null,null,null,null,null,null,null,null,null,null,null,null,null,null,null,null,null,null,null,null,null,null,null,null,null,null,null,null,null,null,null,null,null,null,null,null,null,null,null,null,null,null,null,null,null,null,null,null,null,null,null,null,null,null,null,null,null,null,null,null,null,null,null,null,null,null,null,null,null,null,null,null,null,null,null,null,null,null,null,null,null,null,null,null,null,null,null,null,null,null,null,"Размер 13",62,{"$f":"HN2259+2","v":925},{"$f":"HO2259+((HQ2259-HO2259)/2)-HQ2260/2","v":356.84646799393636},20,50,{"$f":"HR2256+HR2258","v":44.997467560481198},13]
[null,null,null,null,null,null,null,null,null,null,null,null,null,null,null,null,null,null,null,null,null,null,null,null,null,null,null,null,null,null,null,null,null,null,null,null,null,null,null,null,null,null,null,null,null,null,null,null,null,null,null,null,null,null,null,null,null,null,null,null,null,null,null,null,null,null,null,null,null,null,null,null,null,null,null,null,null,null,null,null,null,null,null,null,null,null,null,null,null,null,null,null,null,null,null,null,null,null,null,null,null,null,null,null,null,null,null,null,null,null,null,null,null,null,null,null,null,null,null,null,null,null,null,null,null,null,null,null,null,null,null,null,null,null,null,null,null,null,null,null,null,null,null,null,null,null,null,null,null,null,null,null,null,null,null,null,null,null,null,null,null,null,null,null,null,null,null,null,null,null,null,null,null,null,null,null,null,null,null,null,null,null,null,null,null,null,null,null,null,null,null,null,null,null,null,null,null,null,null,null,null,null,null,null,null,null,null,null,null,null,null,null,null,null,null,null,null,null,"Расстояние от фокальной плоскости до поверхности трубы","Стрелка 14",63,{"$f":"HN2257","v":893},{"$f":"HO2195-'Исходные данные'!F12","v":232.875},{"$f":"HN2261","v":893},{"$f":"HO2195-'Исходные данные'!F12+'Исходные данные'!F56","v":292.875}]
[null,null,null,null,null,null,null,null,null,null,null,null,null,null,null,null,null,null,null,null,null,null,null,null,null,null,null,null,null,null,null,null,null,null,null,null,null,null,null,null,null,null,null,null,null,null,null,null,null,null,null,null,null,null,null,null,null,null,null,null,null,null,null,null,null,null,null,null,null,null,null,null,null,null,null,null,null,null,null,null,null,null,null,null,null,null,null,null,null,null,null,null,null,null,null,null,null,null,null,null,null,null,null,null,null,null,null,null,null,null,null,null,null,null,null,null,null,null,null,null,null,null,null,null,null,null,null,null,null,null,null,null,null,null,null,null,null,null,null,null,null,null,null,null,null,null,null,null,null,null,null,null,null,null,null,null,null,null,null,null,null,null,null,null,null,null,null,null,null,null,null,null,null,null,null,null,null,null,null,null,null,null,null,null,null,null,null,null,null,null,null,null,null,null,null,null,null,null,null,null,null,null,null,null,null,null,null,null,null,null,null,null,null,null,null,null,null,null,null,"Размер 14",64,{"$f":"HN2261+2","v":895},{"$f":"HO2261+((HQ2261-HO2261)/2)-HQ2262/2","v":237.875},{"$f":"HP2260","v":20},{"$f":"HQ2260","v":50},{"$f":"'Исходные данные'!F56","v":60},14]
[null,null,null,null,null,null,null,null,null,null,null,null,null,null,null,null,null,null,null,null,null,null,null,null,null,null,null,null,null,null,null,null,null,null,null,null,null,null,null,null,null,null,null,null,null,null,null,null,null,null,null,null,null,null,null,null,null,null,null,null,null,null,null,null,null,null,null,null,null,null,null,null,null,null,null,null,null,null,null,null,null,null,null,null,null,null,null,null,null,null,null,null,null,null,null,null,null,null,null,null,null,null,null,null,null,null,null,null,null,null,null,null,null,null,null,null,null,null,null,null,null,null,null,null,null,null,null,null,null,null,null,null,null,null,null,null,null,null,null,null,null,null,null,null,null,null,null,null,null,null,null,null,null,null,null,null,null,null,null,null,null,null,null,null,null,null,null,null,null,null,null,null,null,null,null,null,null,null,null,null,null,null,null,null,null,null,null,null,null,null,null,null,null,null,null,null,null,null,null,null,null,null,null,null,null,null,null,null,null,null,null,null,null,null,null,null,null,null,"Диаметр входного отверстия трубы","Стрелка 15",65,{"$f":"HN2195+'Исходные данные'!F60+90","v":953},{"$f":"HO2195-'Исходные данные'!F32/2","v":297.875},{"$f":"HN2263","v":953},{"$f":"HO2195+'Исходные данные'!F32/2","v":461.875}]
[null,null,null,null,null,null,null,null,null,null,null,null,null,null,null,null,null,null,null,null,null,null,null,null,null,null,null,null,null,null,null,null,null,null,null,null,null,null,null,null,null,null,null,null,null,null,null,null,null,null,null,null,null,null,null,null,null,null,null,null,null,null,null,null,null,null,null,null,null,null,null,null,null,null,null,null,null,null,null,null,null,null,null,null,null,null,null,null,null,null,null,null,null,null,null,null,null,null,null,null,null,null,null,null,null,null,null,null,null,null,null,null,null,null,null,null,null,null,null,null,null,null,null,null,null,null,null,null,null,null,null,null,null,null,null,null,null,null,null,null,null,null,null,null,null,null,null,null,null,null,null,null,null,null,null,null,null,null,null,null,null,null,null,null,null,null,null,null,null,null,null,null,null,null,null,null,null,null,null,null,null,null,null,null,null,null,null,null,null,null,null,null,null,null,null,null,null,null,null,null,null,null,null,null,null,null,null,null,null,null,null,null,null,null,null,null,null,null,null,"Размер 15",66,{"$f":"HN2263+2","v":955},{"$f":"HO2263+((HQ2263-HO2263)/2)-HQ2264/2","v":354.875},{"$f":"HP2262","v":20},{"$f":"HQ2262","v":50},{"$f":"'Исходные данные'!F32","v":164},15]
[null,null,null,null,null,null,null,null,null,null,null,null,null,null,null,null,null,null,null,null,null,null,null,null,null,null,null,null,null,null,null,null,null,null,null,null,null,null,null,null,null,null,null,null,null,null,null,null,null,null,null,null,null,null,null,null,null,null,null,null,null,null,null,null,null,null,null,null,null,null,null,null,null,null,null,null,null,null,null,null,null,null,null,null,null,null,null,null,null,null,null,null,null,null,null,null,null,null,null,null,null,null,null,null,null,null,null,null,null,null,null,null,null,null,null,null,null,null,null,null,null,null,null,null,null,null,null,null,null,null,null,null,null,null,null,null,null,null,null,null,null,null,null,null,null,null,null,null,null,null,null,null,null,null,null,null,null,null,null,null,null,null,null,null,null,null,null,null,null,null,null,null,null,null,null,null,null,null,null,null,null,null,null,null,null,null,null,null,null,null,null,null,null,null,null,null,null,null,null,null,null,null,null,null,null,null,null,null,null,null,null,null,null,null,null,null,null,null,"Диаметр ГЗ","Стрелка 16",67,{"$f":"HN2195-'Исходные данные'!F14-30","v":120},{"$f":"HO2195-'Исходные данные'!F6/2","v":304.875},{"$f":"HN2265","v":120},{"$f":"HO2195+'Исходные данные'!F6/2","v":454.875}]
[null,null,null,null,null,null,null,null,null,null,null,null,null,null,null,null,null,null,null,null,null,null,null,null,null,null,null,null,null,null,null,null,null,null,null,null,null,null,null,null,null,null,null,null,null,null,null,null,null,null,null,null,null,null,null,null,null,null,null,null,null,null,null,null,null,null,null,null,null,null,null,null,null,null,null,null,null,null,null,null,null,null,null,null,null,null,null,null,null,null,null,null,null,null,null,null,null,null,null,null,null,null,null,null,null,null,null,null,null,null,null,null,null,null,null,null,null,null,null,null,null,null,null,null,null,null,null,null,null,null,null,null,null,null,null,null,null,null,null,null,null,null,null,null,null,null,null,null,null,null,null,null,null,null,null,null,null,null,null,null,null,null,null,null,null,null,null,null,null,null,null,null,null,null,null,null,null,null,null,null,null,null,null,null,null,null,null,null,null,null,null,null,null,null,null,null,null,null,null,null,null,null,null,null,null,null,null,null,null,null,null,null,null,null,null,null,null,null,null,"Размер 16",68,{"$f":"HN2265+2","v":122},{"$f":"HO2265+((HQ2265-HO2265)/2)-HQ2266/2","v":354.875},{"$f":"HP2264","v":20},{"$f":"HQ2264","v":50},{"$f":"'Исходные данные'!F6","v":150},16]
[null,null,null,null,null,null,null,null,null,null,null,null,null,null,null,null,null,null,null,null,null,null,null,null,null,null,null,null,null,null,null,null,null,null,null,null,null,null,null,null,null,null,null,null,null,null,null,null,null,null,null,null,null,null,null,null,null,null,null,null,null,null,null,null,null,null,null,null,null,null,null,null,null,null,null,null,null,null,null,null,null,null,null,null,null,null,null,null,null,null,null,null,null,null,null,null,null,null,null,null,null,null,null,null,null,null,null,null,null,null,null,null,null,null,null,null,null,null,null,null,null,null,null,null,null,null,null,null,null,null,null,null,null,null,null,null,null,null,null,null,null,null,null,null,null,null,null,null,null,null,null,null,null,null,null,null,null,null,null,null,null,null,null,null,null,null,null,null,null,null,null,null,null,null,null,null,null,null,null,null,null,null,null,null,null,null,null,null,null,null,null,null,null,null,null,null,null,null,null,null,null,null,null,null,null,null,null,null,null,null,null,null,null,null,null,null,null,null,"Внутренний диаметр трубы телескопа","Стрелка 17",69,{"$f":"HN2265-30","v":90},{"$f":"HO2195-'Исходные данные'!F34/2","v":295.875},{"$f":"HN2267","v":90},{"$f":"HO2195+'Исходные данные'!F34/2","v":463.875}]
[null,null,null,null,null,null,null,null,null,null,null,null,null,null,null,null,null,null,null,null,null,null,null,null,null,null,null,null,null,null,null,null,null,null,null,null,null,null,null,null,null,null,null,null,null,null,null,null,null,null,null,null,null,null,null,null,null,null,null,null,null,null,null,null,null,null,null,null,null,null,null,null,null,null,null,null,null,null,null,null,null,null,null,null,null,null,null,null,null,null,null,null,null,null,null,null,null,null,null,null,null,null,null,null,null,null,null,null,null,null,null,null,null,null,null,null,null,null,null,null,null,null,null,null,null,null,null,null,null,null,null,null,null,null,null,null,null,null,null,null,null,null,null,null,null,null,null,null,null,null,null,null,null,null,null,null,null,null,null,null,null,null,null,null,null,null,null,null,null,null,null,null,null,null,null,null,null,null,null,null,null,null,null,null,null,null,null,null,null,null,null,null,null,null,null,null,null,null,null,null,null,null,null,null,null,null,null,null,null,null,null,null,null,null,null,null,null,null,null,"Размер 17",70,{"$f":"HN2267+2","v":92},{"$f":"HO2267+((HQ2267-HO2267)/2)-HQ2268/2","v":354.875},{"$f":"HP2266","v":20},{"$f":"HQ2266","v":50},{"$f":"'Исходные данные'!F34","v":168},17]
[null,null,null,null,null,null,null,null,null,null,null,null,null,null,null,null,null,null,null,null,null,null,null,null,null,null,null,null,null,null,null,null,null,null,null,null,null,null,null,null,null,null,null,null,null,null,null,null,null,null,null,null,null,null,null,null,null,null,null,null,null,null,null,null,null,null,null,null,null,null,null,null,null,null,null,null,null,null,null,null,null,null,null,null,null,null,null,null,null,null,null,null,null,null,null,null,null,null,null,null,null,null,null,null,null,null,null,null,null,null,null,null,null,null,null,null,null,null,null,null,null,null,null,null,null,null,null,null,null,null,null,null,null,null,null,null,null,null,null,null,null,null,null,null,null,null,null,null,null,null,null,null,null,null,null,null,null,null,null,null,null,null,null,null,null,null,null,null,null,null,null,null,null,null,null,null,null,null,null,null,null,null,null,null,null,null,null,null,null,null,null,null,null,null,null,null,null,null,null,null,null,null,null,null,null,null,null,null,null,null,null,null,null,null,null,null,null,null,"Наружный диаметр трубы телескопа","Стрелка 18",71,{"$f":"HN2267-30","v":60},{"$f":"HO2267-'Исходные данные'!F16","v":292.875},{"$f":"HN2269","v":60},{"$f":"HQ2267+'Исходные данные'!F16","v":466.875}]
[null,null,null,null,null,null,null,null,null,null,null,null,null,null,null,null,null,null,null,null,null,null,null,null,null,null,null,null,null,null,null,null,null,null,null,null,null,null,null,null,null,null,null,null,null,null,null,null,null,null,null,null,null,null,null,null,null,null,null,null,null,null,null,null,null,null,null,null,null,null,null,null,null,null,null,null,null,null,null,null,null,null,null,null,null,null,null,null,null,null,null,null,null,null,null,null,null,null,null,null,null,null,null,null,null,null,null,null,null,null,null,null,null,null,null,null,null,null,null,null,null,null,null,null,null,null,null,null,null,null,null,null,null,null,null,null,null,null,null,null,null,null,null,null,null,null,null,null,null,null,null,null,null,null,null,null,null,null,null,null,null,null,null,null,null,null,null,null,null,null,null,null,null,null,null,null,null,null,null,null,null,null,null,null,null,null,null,null,null,null,null,null,null,null,null,null,null,null,null,null,null,null,null,null,null,null,null,null,null,null,null,null,null,null,null,null,null,null,null,"Размер 18",72,{"$f":"HN2269+2","v":62},{"$f":"HO2269+((HQ2269-HO2269)/2)-HQ2270/2","v":354.875},{"$f":"HP2268","v":20},{"$f":"HQ2268","v":50},{"$f":"'Исходные данные'!F34+'Исходные данные'!F16*2","v":174},18]
[null,null,null,null,null,null,null,null,null,null,null,null,null,null,null,null,null,null,null,null,null,null,null,null,null,null,null,null,null,null,null,null,null,null,null,null,null,null,null,null,null,null,null,null,null,null,null,null,null,null,null,null,null,null,null,null,null,null,null,null,null,null,null,null,null,null,null,null,null,null,null,null,null,null,null,null,null,null,null,null,null,null,null,null,null,null,null,null,null,null,null,null,null,null,null,null,null,null,null,null,null,null,null,null,null,null,null,null,null,null,null,null,null,null,null,null,null,null,null,null,null,null,null,null,null,null,null,null,null,null,null,null,null,null,null,null,null,null,null,null,null,null,null,null,null,null,null,null,null,null,null,null,null,null,null,null,null,null,null,null,null,null,null,null,null,null,null,null,null,null,null,null,null,null,null,null,null,null,null,null,null,null,null,null,null,null,null,null,null,null,null,null,null,null,null,null,null,null,null,null,null,null,null,null,null,null,null,null,null,null,null,null,null,null,null,null,null,null,null,"Выносная линия1",73,{"$f":"HN2195-'Исходные данные'!F14","v":150},{"$f":"HO2195+'Исходные данные'!F34/2+'Исходные данные'!F16","v":466.875},{"$f":"HN2271","v":150},{"$f":"HO2239","v":544.875}]
[null,null,null,null,null,null,null,null,null,null,null,null,null,null,null,null,null,null,null,null,null,null,null,null,null,null,null,null,null,null,null,null,null,null,null,null,null,null,null,null,null,null,null,null,null,null,null,null,null,null,null,null,null,null,null,null,null,null,null,null,null,null,null,null,null,null,null,null,null,null,null,null,null,null,null,null,null,null,null,null,null,null,null,null,null,null,null,null,null,null,null,null,null,null,null,null,null,null,null,null,null,null,null,null,null,null,null,null,null,null,null,null,null,null,null,null,null,null,null,null,null,null,null,null,null,null,null,null,null,null,null,null,null,null,null,null,null,null,null,null,null,null,null,null,null,null,null,null,null,null,null,null,null,null,null,null,null,null,null,null,null,null,null,null,null,null,null,null,null,null,null,null,null,null,null,null,null,null,null,null,null,null,null,null,null,null,null,null,null,null,null,null,null,null,null,null,null,null,null,null,null,null,null,null,null,null,null,null,null,null,null,null,null,null,null,null,null,null,null,"Выносная линия2",74,{"$f":"HN2271+HR2236","v":185},{"$f":"HO2271","v":466.875},185,{"$f":"HQ2235","v":514.875}]
[null,null,null,null,null,null,null,null,null,null,null,null,null,null,null,null,null,null,null,null,null,null,null,null,null,null,null,null,null,null,null,null,null,null,null,null,null,null,null,null,null,null,null,null,null,null,null,null,null,null,null,null,null,null,null,null,null,null,null,null,null,null,null,null,null,null,null,null,null,null,null,null,null,null,null,null,null,null,null,null,null,null,null,null,null,null,null,null,null,null,null,null,null,null,null,null,null,null,null,null,null,null,null,null,null,null,null,null,null,null,null,null,null,null,null,null,null,null,null,null,null,null,null,null,null,null,null,null,null,null,null,null,null,null,null,null,null,null,null,null,null,null,null,null,null,null,null,null,null,null,null,null,null,null,null,null,null,null,null,null,null,null,null,null,null,null,null,null,null,null,null,null,null,null,null,null,null,null,null,null,null,null,null,null,null,null,null,null,null,null,null,null,null,null,null,null,null,null,null,null,null,null,null,null,null,null,null,null,null,null,null,null,null,null,null,null,null,null,null,"Выносная линия3",75,{"$f":"HN2195","v":200},{"$f":"HO2195+'Исходные данные'!F34/2+'Исходные данные'!F16","v":466.875},200,{"$f":"HQ2272","v":514.875}]
[null,null,null,null,null,null,null,null,null,null,null,null,null,null,null,null,null,null,null,null,null,null,null,null,null,null,null,null,null,null,null,null,null,null,null,null,null,null,null,null,null,null,null,null,null,null,null,null,null,null,null,null,null,null,null,null,null,null,null,null,null,null,null,null,null,null,null,null,null,null,null,null,null,null,null,null,null,null,null,null,null,null,null,null,null,null,null,null,null,null,null,null,null,null,null,null,null,null,null,null,null,null,null,null,null,null,null,null,null,null,null,null,null,null,null,null,null,null,null,null,null,null,null,null,null,null,null,null,null,null,null,null,null,null,null,null,null,null,null,null,null,null,null,null,null,null,null,null,null,null,null,null,null,null,null,null,null,null,null,null,null,null,null,null,null,null,null,null,null,null,null,null,null,null,null,null,null,null,null,null,null,null,null,null,null,null,null,null,null,null,null,null,null,null,null,null,null,null,null,null,null,null,null,null,null,null,null,null,null,null,null,null,null,null,null,null,null,null,null,"Выносная линия4",76,{"$f":"HN2216+HP2216","v":863},{"$f":"HO2273","v":466.875},863,{"$f":"HQ2271","v":544.875}]
[null,null,null,null,null,null,null,null,null,null,null,null,null,null,null,null,null,null,null,null,null,null,null,null,null,null,null,null,null,null,null,null,null,null,null,null,null,null,null,null,null,null,null,null,null,null,null,null,null,null,null,null,null,null,null,null,null,null,null,null,null,null,null,null,null,null,null,null,null,null,null,null,null,null,null,null,null,null,null,null,null,null,null,null,null,null,null,null,null,null,null,null,null,null,null,null,null,null,null,null,null,null,null,null,null,null,null,null,null,null,null,null,null,null,null,null,null,null,null,null,null,null,null,null,null,null,null,null,null,null,null,null,null,null,null,null,null,null,null,null,null,null,null,null,null,null,null,null,null,null,null,null,null,null,null,null,null,null,null,null,null,null,null,null,null,null,null,null,null,null,null,null,null,null,null,null,null,null,null,null,null,null,null,null,null,null,null,null,null,null,null,null,null,null,null,null,null,null,null,null,null,null,null,null,null,null,null,null,null,null,null,null,null,null,null,null,null,null,null,"Выносная линия5",77,{"$f":"HN2274-HR2238","v":863},{"$f":"HO2274","v":466.875},863,{"$f":"HQ2273","v":514.875}]
[null,null,null,null,null,null,null,null,null,null,null,null,null,null,null,null,null,null,null,null,null,null,null,null,null,null,null,null,null,null,null,null,null,null,null,null,null,null,null,null,null,null,null,null,null,null,null,null,null,null,null,null,null,null,null,null,null,null,null,null,null,null,null,null,null,null,null,null,null,null,null,null,null,null,null,null,null,null,null,null,null,null,null,null,null,null,null,null,null,null,null,null,null,null,null,null,null,null,null,null,null,null,null,null,null,null,null,null,null,null,null,null,null,null,null,null,null,null,null,null,null,null,null,null,null,null,null,null,null,null,null,null,null,null,null,null,null,null,null,null,null,null,null,null,null,null,null,null,null,null,null,null,null,null,null,null,null,null,null,null,null,null,null,null,null,null,null,null,null,null,null,null,null,null,null,null,null,null,null,null,null,null,null,null,null,null,null,null,null,null,null,null,null,null,null,null,null,null,null,null,null,null,null,null,null,null,null,null,null,null,null,null,null,null,null,null,null,null,null,"Выносная линия6",78,{"$f":"HN2275-HR2248","v":803},{"$f":"HO2195","v":379.875},803,{"$f":"HQ2275","v":514.875}]
[null,null,null,null,null,null,null,null,null,null,null,null,null,null,null,null,null,null,null,null,null,null,null,null,null,null,null,null,null,null,null,null,null,null,null,null,null,null,null,null,null,null,null,null,null,null,null,null,null,null,null,null,null,null,null,null,null,null,null,null,null,null,null,null,null,null,null,null,null,null,null,null,null,null,null,null,null,null,null,null,null,null,null,null,null,null,null,null,null,null,null,null,null,null,null,null,null,null,null,null,null,null,null,null,null,null,null,null,null,null,null,null,null,null,null,null,null,null,null,null,null,null,null,null,null,null,null,null,null,null,null,null,null,null,null,null,null,null,null,null,null,null,null,null,null,null,null,null,null,null,null,null,null,null,null,null,null,null,null,null,null,null,null,null,null,null,null,null,null,null,null,null,null,null,null,null,null,null,null,null,null,null,null,null,null,null,null,null,null,null,null,null,null,null,null,null,null,null,null,null,null,null,null,null,null,null,null,null,null,null,null,null,null,null,null,null,null,null,null,"Выносная линия7",79,{"$f":"Чертёж!HN2195-'Исходные данные'!F14","v":150},{"$f":"HO2275","v":466.875},{"$f":"HP2269","v":60},{"$f":"HO2277","v":466.875}]
[null,null,null,null,null,null,null,null,null,null,null,null,null,null,null,null,null,null,null,null,null,null,null,null,null,null,null,null,null,null,null,null,null,null,null,null,null,null,null,null,null,null,null,null,null,null,null,null,null,null,null,null,null,null,null,null,null,null,null,null,null,null,null,null,null,null,null,null,null,null,null,null,null,null,null,null,null,null,null,null,null,null,null,null,null,null,null,null,null,null,null,null,null,null,null,null,null,null,null,null,null,null,null,null,null,null,null,null,null,null,null,null,null,null,null,null,null,null,null,null,null,null,null,null,null,null,null,null,null,null,null,null,null,null,null,null,null,null,null,null,null,null,null,null,null,null,null,null,null,null,null,null,null,null,null,null,null,null,null,null,null,null,null,null,null,null,null,null,null,null,null,null,null,null,null,null,null,null,null,null,null,null,null,null,null,null,null,null,null,null,null,null,null,null,null,null,null,null,null,null,null,null,null,null,null,null,null,null,null,null,null,null,null,null,null,null,null,null,null,"Выносная линия8",80,{"$f":"HN2277","v":150},{"$f":"HO2195-'Исходные данные'!F34/2-'Исходные данные'!F16","v":292.875},{"$f":"HP2277","v":60},292.875]
[null,null,null,null,null,null,null,null,null,null,null,null,null,null,null,null,null,null,null,null,null,null,null,null,null,null,null,null,null,null,null,null,null,null,null,null,null,null,null,null,null,null,null,null,null,null,null,null,null,null,null,null,null,null,null,null,null,null,null,null,null,null,null,null,null,null,null,null,null,null,null,null,null,null,null,null,null,null,null,null,null,null,null,null,null,null,null,null,null,null,null,null,null,null,null,null,null,null,null,null,null,null,null,null,null,null,null,null,null,null,null,null,null,null,null,null,null,null,null,null,null,null,null,null,null,null,null,null,null,null,null,null,null,null,null,null,null,null,null,null,null,null,null,null,null,null,null,null,null,null,null,null,null,null,null,null,null,null,null,null,null,null,null,null,null,null,null,null,null,null,null,null,null,null,null,null,null,null,null,null,null,null,null,null,null,null,null,null,null,null,null,null,null,null,null,null,null,null,null,null,null,null,null,null,null,null,null,null,null,null,null,null,null,null,null,null,null,null,null,"Выносная линия9",81,{"$f":"HN2278","v":150},{"$f":"HO2195+'Исходные данные'!F34/2","v":463.875},{"$f":"HP2278+30","v":90},463.875]
[null,null,null,null,null,null,null,null,null,null,null,null,null,null,null,null,null,null,null,null,null,null,null,null,null,null,null,null,null,null,null,null,null,null,null,null,null,null,null,null,null,null,null,null,null,null,null,null,null,null,null,null,null,null,null,null,null,null,null,null,null,null,null,null,null,null,null,null,null,null,null,null,null,null,null,null,null,null,null,null,null,null,null,null,null,null,null,null,null,null,null,null,null,null,null,null,null,null,null,null,null,null,null,null,null,null,null,null,null,null,null,null,null,null,null,null,null,null,null,null,null,null,null,null,null,null,null,null,null,null,null,null,null,null,null,null,null,null,null,null,null,null,null,null,null,null,null,null,null,null,null,null,null,null,null,null,null,null,null,null,null,null,null,null,null,null,null,null,null,null,null,null,null,null,null,null,null,null,null,null,null,null,null,null,null,null,null,null,null,null,null,null,null,null,null,null,null,null,null,null,null,null,null,null,null,null,null,null,null,null,null,null,null,null,null,null,null,null,null,"Выносная линия10",82,{"$f":"HN2279","v":150},{"$f":"HO2195-'Исходные данные'!F34/2","v":295.875},{"$f":"HP2279","v":90},295.875]
[null,null,null,null,null,null,null,null,null,null,null,null,null,null,null,null,null,null,null,null,null,null,null,null,null,null,null,null,null,null,null,null,null,null,null,null,null,null,null,null,null,null,null,null,null,null,null,null,null,null,null,null,null,null,null,null,null,null,null,null,null,null,null,null,null,null,null,null,null,null,null,null,null,null,null,null,null,null,null,null,null,null,null,null,null,null,null,null,null,null,null,null,null,null,null,null,null,null,null,null,null,null,null,null,null,null,null,null,null,null,null,null,null,null,null,null,null,null,null,null,null,null,null,null,null,null,null,null,null,null,null,null,null,null,null,null,null,null,null,null,null,null,null,null,null,null,null,null,null,null,null,null,null,null,null,null,null,null,null,null,null,null,null,null,null,null,null,null,null,null,null,null,null,null,null,null,null,null,null,null,null,null,null,null,null,null,null,null,null,null,null,null,null,null,null,null,null,null,null,null,null,null,null,null,null,null,null,null,null,null,null,null,null,null,null,null,null,null,null,"Выносная линия11",83,{"$f":"HN2195-'Исходные данные'!F20","v":182},{"$f":"HO2195+'Исходные данные'!F6/2","v":454.875},{"$f":"HP2280+30","v":120},454.875]
[null,null,null,null,null,null,null,null,null,null,null,null,null,null,null,null,null,null,null,null,null,null,null,null,null,null,null,null,null,null,null,null,null,null,null,null,null,null,null,null,null,null,null,null,null,null,null,null,null,null,null,null,null,null,null,null,null,null,null,null,null,null,null,null,null,null,null,null,null,null,null,null,null,null,null,null,null,null,null,null,null,null,null,null,null,null,null,null,null,null,null,null,null,null,null,null,null,null,null,null,null,null,null,null,null,null,null,null,null,null,null,null,null,null,null,null,null,null,null,null,null,null,null,null,null,null,null,null,null,null,null,null,null,null,null,null,null,null,null,null,null,null,null,null,null,null,null,null,null,null,null,null,null,null,null,null,null,null,null,null,null,null,null,null,null,null,null,null,null,null,null,null,null,null,null,null,null,null,null,null,null,null,null,null,null,null,null,null,null,null,null,null,null,null,null,null,null,null,null,null,null,null,null,null,null,null,null,null,null,null,null,null,null,null,null,null,null,null,null,"Выносная линия12",84,{"$f":"HN2281","v":182},{"$f":"HO2195-'Исходные данные'!F6/2","v":304.875},{"$f":"HP2281","v":120},304.875]
[null,null,null,null,null,null,null,null,null,null,null,null,null,null,null,null,null,null,null,null,null,null,null,null,null,null,null,null,null,null,null,null,null,null,null,null,null,null,null,null,null,null,null,null,null,null,null,null,null,null,null,null,null,null,null,null,null,null,null,null,null,null,null,null,null,null,null,null,null,null,null,null,null,null,null,null,null,null,null,null,null,null,null,null,null,null,null,null,null,null,null,null,null,null,null,null,null,null,null,null,null,null,null,null,null,null,null,null,null,null,null,null,null,null,null,null,null,null,null,null,null,null,null,null,null,null,null,null,null,null,null,null,null,null,null,null,null,null,null,null,null,null,null,null,null,null,null,null,null,null,null,null,null,null,null,null,null,null,null,null,null,null,null,null,null,null,null,null,null,null,null,null,null,null,null,null,null,null,null,null,null,null,null,null,null,null,null,null,null,null,null,null,null,null,null,null,null,null,null,null,null,null,null,null,null,null,null,null,null,null,null,null,null,null,null,null,null,null,null,"Выносная линия13",85,{"$f":"HP2203","v":823.52726578630416},{"$f":"HQ2203","v":359.34773421369579},{"$f":"HN2259","v":923},359.34773421369579]
[null,null,null,null,null,null,null,null,null,null,null,null,null,null,null,null,null,null,null,null,null,null,null,null,null,null,null,null,null,null,null,null,null,null,null,null,null,null,null,null,null,null,null,null,null,null,null,null,null,null,null,null,null,null,null,null,null,null,null,null,null,null,null,null,null,null,null,null,null,null,null,null,null,null,null,null,null,null,null,null,null,null,null,null,null,null,null,null,null,null,null,null,null,null,null,null,null,null,null,null,null,null,null,null,null,null,null,null,null,null,null,null,null,null,null,null,null,null,null,null,null,null,null,null,null,null,null,null,null,null,null,null,null,null,null,null,null,null,null,null,null,null,null,null,null,null,null,null,null,null,null,null,null,null,null,null,null,null,null,null,null,null,null,null,null,null,null,null,null,null,null,null,null,null,null,null,null,null,null,null,null,null,null,null,null,null,null,null,null,null,null,null,null,null,null,null,null,null,null,null,null,null,null,null,null,null,null,null,null,null,null,null,null,null,null,null,null,null,null,"Выносная линия14",86,{"$f":"HP2225","v":779.75316571848043},{"$f":"HQ2259","v":404.34520177417699},{"$f":"HP2283","v":923},{"$f":"HQ2259","v":404.34520177417699}]
[null,null,null,null,null,null,null,null,null,null,null,null,null,null,null,null,null,null,null,null,null,null,null,null,null,null,null,null,null,null,null,null,null,null,null,null,null,null,null,null,null,null,null,null,null,null,null,null,null,null,null,null,null,null,null,null,null,null,null,null,null,null,null,null,null,null,null,null,null,null,null,null,null,null,null,null,null,null,null,null,null,null,null,null,null,null,null,null,null,null,null,null,null,null,null,null,null,null,null,null,null,null,null,null,null,null,null,null,null,null,null,null,null,null,null,null,null,null,null,null,null,null,null,null,null,null,null,null,null,null,null,null,null,null,null,null,null,null,null,null,null,null,null,null,null,null,null,null,null,null,null,null,null,null,null,null,null,null,null,null,null,null,null,null,null,null,null,null,null,null,null,null,null,null,null,null,null,null,null,null,null,null,null,null,null,null,null,null,null,null,null,null,null,null,null,null,null,null,null,null,null,null,null,null,null,null,null,null,null,null,null,null,null,null,null,null,null,null,null,"Выносная линия15",87,{"$f":"HN2195+HR2244+HR2248+HR2238","v":863},{"$f":"HO2195","v":379.875},{"$f":"HN2257","v":893},{"$f":"HO2285","v":379.875}]
[null,null,null,null,null,null,null,null,null,null,null,null,null,null,null,null,null,null,null,null,null,null,null,null,null,null,null,null,null,null,null,null,null,null,null,null,null,null,null,null,null,null,null,null,null,null,null,null,null,null,null,null,null,null,null,null,null,null,null,null,null,null,null,null,null,null,null,null,null,null,null,null,null,null,null,null,null,null,null,null,null,null,null,null,null,null,null,null,null,null,null,null,null,null,null,null,null,null,null,null,null,null,null,null,null,null,null,null,null,null,null,null,null,null,null,null,null,null,null,null,null,null,null,null,null,null,null,null,null,null,null,null,null,null,null,null,null,null,null,null,null,null,null,null,null,null,null,null,null,null,null,null,null,null,null,null,null,null,null,null,null,null,null,null,null,null,null,null,null,null,null,null,null,null,null,null,null,null,null,null,null,null,null,null,null,null,null,null,null,null,null,null,null,null,null,null,null,null,null,null,null,null,null,null,null,null,null,null,null,null,null,null,null,null,null,null,null,null,null,"Выносная линия16",88,{"$f":"HN2285","v":863},{"$f":"HQ2261","v":292.875},{"$f":"HN2261","v":893},{"$f":"HO2286","v":292.875}]
[null,null,null,null,null,null,null,null,null,null,null,null,null,null,null,null,null,null,null,null,null,null,null,null,null,null,null,null,null,null,null,null,null,null,null,null,null,null,null,null,null,null,null,null,null,null,null,null,null,null,null,null,null,null,null,null,null,null,null,null,null,null,null,null,null,null,null,null,null,null,null,null,null,null,null,null,null,null,null,null,null,null,null,null,null,null,null,null,null,null,null,null,null,null,null,null,null,null,null,null,null,null,null,null,null,null,null,null,null,null,null,null,null,null,null,null,null,null,null,null,null,null,null,null,null,null,null,null,null,null,null,null,null,null,null,null,null,null,null,null,null,null,null,null,null,null,null,null,null,null,null,null,null,null,null,null,null,null,null,null,null,null,null,null,null,null,null,null,null,null,null,null,null,null,null,null,null,null,null,null,null,null,null,null,null,null,null,null,null,null,null,null,null,null,null,null,null,null,null,null,null,null,null,null,null,null,null,null,null,null,null,null,null,null,null,null,null,null,null,"Выносная линия17",89,{"$f":"HN2195+HR2244","v":803},{"$f":"HO2195-'Исходные данные'!F12","v":232.875},{"$f":"HN2261","v":893},{"$f":"HO2287","v":232.875}]
[null,null,null,null,null,null,null,null,null,null,null,null,null,null,null,null,null,null,null,null,null,null,null,null,null,null,null,null,null,null,null,null,null,null,null,null,null,null,null,null,null,null,null,null,null,null,null,null,null,null,null,null,null,null,null,null,null,null,null,null,null,null,null,null,null,null,null,null,null,null,null,null,null,null,null,null,null,null,null,null,null,null,null,null,null,null,null,null,null,null,null,null,null,null,null,null,null,null,null,null,null,null,null,null,null,null,null,null,null,null,null,null,null,null,null,null,null,null,null,null,null,null,null,null,null,null,null,null,null,null,null,null,null,null,null,null,null,null,null,null,null,null,null,null,null,null,null,null,null,null,null,null,null,null,null,null,null,null,null,null,null,null,null,null,null,null,null,null,null,null,null,null,null,null,null,null,null,null,null,null,null,null,null,null,null,null,null,null,null,null,null,null,null,null,null,null,null,null,null,null,null,null,null,null,null,null,null,null,null,null,null,null,null,null,null,null,null,null,null,"Выносная линия18",90,{"$f":"HN2195+HR2244-'Исходные данные'!F10/2","v":793.55499999999995},{"$f":"HO2195-'Исходные данные'!F12","v":232.875},{"$f":"HN2288","v":793.55499999999995},{"$f":"HO2249","v":217.875}]
[null,null,null,null,null,null,null,null,null,null,null,null,null,null,null,null,null,null,null,null,null,null,null,null,null,null,null,null,null,null,null,null,null,null,null,null,null,null,null,null,null,null,null,null,null,null,null,null,null,null,null,null,null,null,null,null,null,null,null,null,null,null,null,null,null,null,null,null,null,null,null,null,null,null,null,null,null,null,null,null,null,null,null,null,null,null,null,null,null,null,null,null,null,null,null,null,null,null,null,null,null,null,null,null,null,null,null,null,null,null,null,null,null,null,null,null,null,null,null,null,null,null,null,null,null,null,null,null,null,null,null,null,null,null,null,null,null,null,null,null,null,null,null,null,null,null,null,null,null,null,null,null,null,null,null,null,null,null,null,null,null,null,null,null,null,null,null,null,null,null,null,null,null,null,null,null,null,null,null,null,null,null,null,null,null,null,null,null,null,null,null,null,null,null,null,null,null,null,null,null,null,null,null,null,null,null,null,null,null,null,null,null,null,null,null,null,null,null,null,"Выносная линия19",91,{"$f":"HN2195+HR2244+'Исходные данные'!F10/2","v":812.44500000000005},{"$f":"HO2288","v":232.875},812.44500000000005,{"$f":"HQ2288","v":217.875}]
[null,null,null,null,null,null,null,null,null,null,null,null,null,null,null,null,null,null,null,null,null,null,null,null,null,null,null,null,null,null,null,null,null,null,null,null,null,null,null,null,null,null,null,null,null,null,null,null,null,null,null,null,null,null,null,null,null,null,null,null,null,null,null,null,null,null,null,null,null,null,null,null,null,null,null,null,null,null,null,null,null,null,null,null,null,null,null,null,null,null,null,null,null,null,null,null,null,null,null,null,null,null,null,null,null,null,null,null,null,null,null,null,null,null,null,null,null,null,null,null,null,null,null,null,null,null,null,null,null,null,null,null,null,null,null,null,null,null,null,null,null,null,null,null,null,null,null,null,null,null,null,null,null,null,null,null,null,null,null,null,null,null,null,null,null,null,null,null,null,null,null,null,null,null,null,null,null,null,null,null,null,null,null,null,null,null,null,null,null,null,null,null,null,null,null,null,null,null,null,null,null,null,null,null,null,null,null,null,null,null,null,null,null,null,null,null,null,null,null,"Выносная линия20",92,{"$f":"HN2195+HR2244+'Исходные данные'!F18/2","v":811},{"$f":"HO2289","v":232.875},811,{"$f":"HQ2289-30","v":187.875}]
[null,null,null,null,null,null,null,null,null,null,null,null,null,null,null,null,null,null,null,null,null,null,null,null,null,null,null,null,null,null,null,null,null,null,null,null,null,null,null,null,null,null,null,null,null,null,null,null,null,null,null,null,null,null,null,null,null,null,null,null,null,null,null,null,null,null,null,null,null,null,null,null,null,null,null,null,null,null,null,null,null,null,null,null,null,null,null,null,null,null,null,null,null,null,null,null,null,null,null,null,null,null,null,null,null,null,null,null,null,null,null,null,null,null,null,null,null,null,null,null,null,null,null,null,null,null,null,null,null,null,null,null,null,null,null,null,null,null,null,null,null,null,null,null,null,null,null,null,null,null,null,null,null,null,null,null,null,null,null,null,null,null,null,null,null,null,null,null,null,null,null,null,null,null,null,null,null,null,null,null,null,null,null,null,null,null,null,null,null,null,null,null,null,null,null,null,null,null,null,null,null,null,null,null,null,null,null,null,null,null,null,null,null,null,null,null,null,null,null,"Выносная линия21",93,{"$f":"HN2195+HR2244-'Исходные данные'!F18/2","v":795},{"$f":"HO2290","v":232.875},795,{"$f":"HQ2290","v":187.875}]
[null,null,null,null,null,null,null,null,null,null,null,null,null,null,null,null,null,null,null,null,null,null,null,null,null,null,null,null,null,null,null,null,null,null,null,null,null,null,null,null,null,null,null,null,null,null,null,null,null,null,null,null,null,null,null,null,null,null,null,null,null,null,null,null,null,null,null,null,null,null,null,null,null,null,null,null,null,null,null,null,null,null,null,null,null,null,null,null,null,null,null,null,null,null,null,null,null,null,null,null,null,null,null,null,null,null,null,null,null,null,null,null,null,null,null,null,null,null,null,null,null,null,null,null,null,null,null,null,null,null,null,null,null,null,null,null,null,null,null,null,null,null,null,null,null,null,null,null,null,null,null,null,null,null,null,null,null,null,null,null,null,null,null,null,null,null,null,null,null,null,null,null,null,null,null,null,null,null,null,null,null,null,null,null,null,null,null,null,null,null,null,null,null,null,null,null,null,null,null,null,null,null,null,null,null,null,null,null,null,null,null,null,null,null,null,null,null,null,null,"Выносная линия22",94,{"$f":"HN2218","v":789.37199999999996},{"$f":"HO2195-'Исходные данные'!F34/2-'Исходные данные'!F16","v":292.875},789.37199999999996,{"$f":"HQ2291-30","v":157.875}]
[null,null,null,null,null,null,null,null,null,null,null,null,null,null,null,null,null,null,null,null,null,null,null,null,null,null,null,null,null,null,null,null,null,null,null,null,null,null,null,null,null,null,null,null,null,null,null,null,null,null,null,null,null,null,null,null,null,null,null,null,null,null,null,null,null,null,null,null,null,null,null,null,null,null,null,null,null,null,null,null,null,null,null,null,null,null,null,null,null,null,null,null,null,null,null,null,null,null,null,null,null,null,null,null,null,null,null,null,null,null,null,null,null,null,null,null,null,null,null,null,null,null,null,null,null,null,null,null,null,null,null,null,null,null,null,null,null,null,null,null,null,null,null,null,null,null,null,null,null,null,null,null,null,null,null,null,null,null,null,null,null,null,null,null,null,null,null,null,null,null,null,null,null,null,null,null,null,null,null,null,null,null,null,null,null,null,null,null,null,null,null,null,null,null,null,null,null,null,null,null,null,null,null,null,null,null,null,null,null,null,null,null,null,null,null,null,null,null,null,"Выносная линия23",95,{"$f":"HN2292+HP2218","v":816.62799999999993},{"$f":"HO2292","v":292.875},816.62799999999993,{"$f":"HQ2292","v":157.875}]
[null,null,null,null,null,null,null,null,null,null,null,null,null,null,null,null,null,null,null,null,null,null,null,null,null,null,null,null,null,null,null,null,null,null,null,null,null,null,null,null,null,null,null,null,null,null,null,null,null,null,null,null,null,null,null,null,null,null,null,null,null,null,null,null,null,null,null,null,null,null,null,null,null,null,null,null,null,null,null,null,null,null,null,null,null,null,null,null,null,null,null,null,null,null,null,null,null,null,null,null,null,null,null,null,null,null,null,null,null,null,null,null,null,null,null,null,null,null,null,null,null,null,null,null,null,null,null,null,null,null,null,null,null,null,null,null,null,null,null,null,null,null,null,null,null,null,null,null,null,null,null,null,null,null,null,null,null,null,null,null,null,null,null,null,null,null,null,null,null,null,null,null,null,null,null,null,null,null,null,null,null,null,null,null,null,null,null,null,null,null,null,null,null,null,null,null,null,null,null,null,null,null,null,null,null,null,null,null,null,null,null,null,null,null,null,null,null,null,null,"Выносная линия24",96]
[null,null,null,null,null,null,null,null,null,null,null,null,null,null,null,null,null,null,null,null,null,null,null,null,null,null,null,null,null,null,null,null,null,null,null,null,null,null,null,null,null,null,null,null,null,null,null,null,null,null,null,null,null,null,null,null,null,null,null,null,null,null,null,null,null,null,null,null,null,null,null,null,null,null,null,null,null,null,null,null,null,null,null,null,null,null,null,null,null,null,null,null,null,null,null,null,null,null,null,null,null,null,null,null,null,null,null,null,null,null,null,null,null,null,null,null,null,null,null,null,null,null,null,null,null,null,null,null,null,null,null,null,null,null,null,null,null,null,null,null,null,null,null,null,null,null,null,null,null,null,null,null,null,null,null,null,null,null,null,null,null,null,null,null,null,null,null,null,null,null,null,null,null,null,null,null,null,null,null,null,null,null,null,null,null,null,null,null,null,null,null,null,null,null,null,null,null,null,null,null,null,null,null,null,null,null,null,null,null,null,null,null,null,null,null,null,null,null,null,"Выносная линия25",97]
[null,null,null,null,null,null,null,null,null,null,null,null,null,null,null,null,null,null,null,null,null,null,null,null,null,null,null,null,null,null,null,null,null,null,null,null,null,null,null,null,null,null,null,null,null,null,null,null,null,null,null,null,null,null,null,null,null,null,null,null,null,null,null,null,null,null,null,null,null,null,null,null,null,null,null,null,null,null,null,null,null,null,null,null,null,null,null,null,null,null,null,null,null,null,null,null,null,null,null,null,null,null,null,null,null,null,null,null,null,null,null,null,null,null,null,null,null,null,null,null,null,null,null,null,null,null,null,null,null,null,null,null,null,null,null,null,null,null,null,null,null,null,null,null,null,null,null,null,null,null,null,null,null,null,null,null,null,null,null,null,null,null,null,null,null,null,null,null,null,null,null,null,null,null,null,null,null,null,null,null,null,null,null,null,null,null,null,null,null,null,null,null,null,null,null,null,null,null,null,null,null,null,null,null,null,null,null,null,null,null,null,null,null,null,null,null,null,null,null,"Выносная линия26",98]
[null,null,null,null,null,null,null,null,null,null,null,null,null,null,null,null,null,null,null,null,null,null,null,null,null,null,null,null,null,null,null,null,null,null,null,null,null,null,null,null,null,null,null,null,null,null,null,null,null,null,null,null,null,null,null,null,null,null,null,null,null,null,null,null,null,null,null,null,null,null,null,null,null,null,null,null,null,null,null,null,null,null,null,null,null,null,null,null,null,null,null,null,null,null,null,null,null,null,null,null,null,null,null,null,null,null,null,null,null,null,null,null,null,null,null,null,null,null,null,null,null,null,null,null,null,null,null,null,null,null,null,null,null,null,null,null,null,null,null,null,null,null,null,null,null,null,null,null,null,null,null,null,null,null,null,null,null,null,null,null,null,null,null,null,null,null,null,null,null,null,null,null,null,null,null,null,null,null,null,null,null,null,null,null,null,null,null,null,null,null,null,null,null,null,null,null,null,null,null,null,null,null,null,null,null,null,null,{"$f":"'Исходные данные'!B3","v":"My"},null,null,null,null,null,null,null,null,null,null,null,"Выносная линия27",99]
[null,null,null,null,null,null,null,null,null,null,null,null,null,null,null,null,null,null,null,null,null,null,null,null,null,null,null,null,null,null,null,null,null,null,null,null,null,null,null,null,null,null,null,null,null,null,null,null,null,null,null,null,null,null,null,null,null,null,null,null,null,null,null,null,null,null,null,null,null,null,null,null,null,null,null,null,null,null,null,null,null,null,null,null,null,null,null,null,null,null,null,null,null,null,null,null,null,null,null,null,null,null,null,null,null,null,null,null,null,null,null,null,null,null,null,null,null,null,null,null,null,null,null,null,null,null,null,null,null,null,null,null,null,null,null,null,null,null,null,null,null,null,null,null,null,null,null,null,null,null,null,null,null,null,null,null,null,null,null,null,null,null,null,null,null,null,null,null,null,null,null,null,null,null,null,null,null,null,null,null,null,null,null,null,null,null,null,null,null,null,null,null,null,null,null,null,null,null,null,null,null,null,null,null,null,null,null,null,null,null,null,null,null,null,null,null,null,null,null,"Выносная линия28",100]
[null,null,null,null,null,null,null,null,null,null,null,null,null,null,null,null,null,null,null,null,null,null,null,null,null,null,null,null,null,null,null,null,null,null,null,null,null,null,null,null,null,null,null,null,null,null,null,null,null,null,null,null,null,null,null,null,null,null,null,null,null,null,null,null,null,null,null,null,null,null,null,null,null,null,null,null,null,null,null,null,null,null,null,null,null,null,null,null,null,null,null,null,null,null,null,null,null,null,null,null,null,null,null,null,null,null,null,null,null,null,null,null,null,null,null,null,null,null,null,null,null,null,null,null,null,null,null,null,null,null,null,null,null,null,null,null,null,null,null,null,null,null,null,null,null,null,null,null,null,null,null,null,null,null,null,null,null,null,null,null,null,null,null,null,null,null,null,null,null,null,null,null,null,null,null,null,null,null,null,null,null,null,null,null,null,null,null,null,null,null,null,null,null,null,null,null,null,null,null,null,null,null,null,null,null,null,null,"Zoom=",{"$f":"50*(1472/HQ2299)","v":96.873971701217513},"%",null,null,null,null,null,null,null,null,"Рамка",null,101,10,10,{"$f":"HN2195+'Исходные данные'!F60+150","v":1013},{"$f":"HP2299*0.75","v":759.75}]
[null,null,null,null,null,null,null,null,null,null,null,null,null,null,null,null,null,null,null,null,null,null,null,null,null,null,null,null,null,null,null,null,null,null,null,null,null,null,null,null,null,null,null,null,null,null,null,null,null,null,null,null,null,null,null,null,null,null,null,null,null,null,null,null,null,null,null,null,null,null,null,null,null,null,null,null,null,null,null,null,null,null,null,null,null,null,null,null,null,null,null,null,null,null,null,null,null,null,null,null,null,null,null,null,null,null,null,null,null,null,null,null,null,null,null,null,null,null,null,null,null,null,null,null,null,null,null,null,null,null,null,null,null,null,null,null,null,null,null,null,null,null,null,null,null,null,null,null,null,null,null,null,null,null,null,null,null,null,null,null,null,null,null,null,null,null,null,null,null,null,null,null,null,null,null,null,null,null,null,null,null,null,null,null,null,null,null,null,null,null,null,null,null,null,null,null,null,null,null,null,null,null,null,null,null,null,null,null,null,null,null,null,null,null,null,null,null,null,"Надпись",null,102,{"$f":"60","v":60},{"$f":"HO2253/5","v":31.574999999999999},{"$f":"26/(800/'Исходные данные'!F36)","v":24.375}]
[null,null,null,null,null,null,null,null,null,null,null,null,null,null,null,null,null,null,null,null,null,null,null,null,null,null,null,null,null,null,null,null,null,null,null,null,null,null,null,null,null,null,null,null,null,null,null,null,null,null,null,null,null,null,null,null,null,null,null,null,null,null,null,null,null,null,null,null,null,null,null,null,null,null,null,null,null,null,null,null,null,null,null,null,null,null,null,null,null,null,null,null,null,null,null,null,null,null,null,null,null,null,null,null,null,null,null,null,null,null,null,null,null,null,null,null,null,null,null,null,null,null,null,null,null,null,null,null,null,null,null,null,null,null,null,null,null,null,null,null,null,null,null,null,null,null,null,null,null,null,null,null,null,null,null,null,null,null,null,null,null,null,null,null,null,null,null,null,null,null,null,null,null,null,null,null,null,null,null,null,null,null,null,null,null,null,null,null,null,null,null,null,null,null,null,null,null,null,null,null,null,null,null,null,null,null,null,"Положение фотоаппарата X",0,null,null,null,null,null,null,null,null,null,"Технические характеристики",null,103,{"$f":"HP2300","v":24.375},{"$f":"HO2300+HN2300+40/(1750/'Исходные данные'!F36)","v":108.71785714285714},{"$f":"1200/(1750/'Исходные данные'!F36)","v":514.28571428571422},{"$f":"310/(1750/'Исходные данные'!F36)","v":132.85714285714286},{"$f":"28/(1750/'Исходные данные'!F36)","v":12},null,"Ширина текста","Высота текта"]
[null,null,null,null,null,null,null,null,null,null,null,null,null,null,null,null,null,null,null,null,null,null,null,null,null,null,null,null,null,null,null,null,null,null,null,null,null,null,null,null,null,null,null,null,null,null,null,null,null,null,null,null,null,null,null,null,null,null,null,null,null,null,null,null,null,null,null,null,null,null,null,null,null,null,null,null,null,null,null,null,null,null,null,null,null,null,null,null,null,null,null,null,null,null,null,null,null,null,null,null,null,null,null,null,null,null,null,null,null,null,null,null,null,null,null,null,null,null,null,null,null,null,null,null,null,null,null,null,null,null,null,null,null,null,null,null,null,null,null,null,null,null,null,null,null,null,null,null,null,null,null,null,null,null,null,null,null,null,null,null,null,null,null,null,null,null,null,null,null,null,null,null,null,null,null,null,null,null,null,null,null,null,null,null,null,null,null,null,null,null,null,null,null,null,null,null,null,null,null,null,null,null,null,null,null,null,null,"Положение фотоаппарата Y",0,null,null,null,null,null,null,null,null,null,null,"Диаметр главного зеркала  ",{"$f":"'Исходные данные'!F6","v":150},null,null,null,{"$f":"HN2270","v":62},{"$f":"$HO$2300+$HP$2300*HS2302*1.5","v":68.137500000000003},1,{"$f":"1500*(HP2299/2330)","v":652.14592274678114},{"$f":"HR2301+15","v":27}]
[null,null,null,null,null,null,null,null,null,null,null,null,null,null,null,null,null,null,null,null,null,null,null,null,null,null,null,null,null,null,null,null,null,null,null,null,null,null,null,null,null,null,null,null,null,null,null,null,null,null,null,null,null,null,null,null,null,null,null,null,null,null,null,null,null,null,null,null,null,null,null,null,null,null,null,null,null,null,null,null,null,null,null,null,null,null,null,null,null,null,null,null,null,null,null,null,null,null,null,null,null,null,null,null,null,null,null,null,null,null,null,null,null,null,null,null,null,null,null,null,null,null,null,null,null,null,null,null,null,null,null,null,null,null,null,null,null,null,null,null,null,null,null,null,null,null,null,null,null,null,null,null,null,null,null,null,null,null,null,null,null,null,null,null,null,null,null,null,null,null,null,null,null,null,null,null,null,null,null,null,null,null,null,null,null,null,null,null,null,null,null,null,null,null,null,null,null,null,null,null,null,null,null,null,null,null,null,null,null,null,null,null,null,null,null,null,null,null,null,"Фокусное расстояние главного зеркала  ",{"$f":"'Исходные данные'!F36","v":750},null,null,null,{"$f":"HQ2302","v":62},{"$f":"HR2302+$HP$2300*HS2303*0.25","v":80.325000000000003},2]
[null,null,null,null,null,null,null,null,null,null,null,null,null,null,null,null,null,null,null,null,null,null,null,null,null,null,null,null,null,null,null,null,null,null,null,null,null,null,null,null,null,null,null,null,null,null,null,null,null,null,null,null,null,null,null,null,null,null,null,null,null,null,null,null,null,null,null,null,null,null,null,null,null,null,null,null,null,null,null,null,null,null,null,null,null,null,null,null,null,null,null,null,null,null,null,null,null,null,null,null,null,null,null,null,null,null,null,null,null,null,null,null,null,null,null,null,null,null,null,null,null,null,null,null,null,null,null,null,null,null,null,null,null,null,null,null,null,null,null,null,null,null,null,null,null,null,null,null,null,null,null,null,null,null,null,null,null,null,null,null,null,null,null,null,null,null,null,null,null,null,null,null,null,null,null,null,null,null,null,null,null,null,null,null,null,null,null,null,null,null,null,null,null,null,null,null,null,null,null,null,null,null,null,null,null,null,null,null,null,"Толшина стенки трубы",{"$f":"'Исходные данные'!F16","v":3},null,null,null,null,null,null,null,null,"Центральное экранирование  ",{"$f":"'Исходные данные'!F42","v":29.998311706987462},null,null,null,{"$f":"HQ2303","v":62},{"$f":"HR2303+HR2303-HR2302","v":92.512500000000003},3]
[null,null,null,null,null,null,null,null,null,null,null,null,null,null,null,null,null,null,null,null,null,null,null,null,null,null,null,null,null,null,null,null,null,null,null,null,null,null,null,null,null,null,null,null,null,null,null,null,null,null,null,null,null,null,null,null,null,null,null,null,null,null,null,null,null,null,null,null,null,null,null,null,null,null,null,null,null,null,null,null,null,null,null,null,null,null,null,null,null,null,null,null,null,null,null,null,null,null,null,null,null,null,null,null,null,null,null,null,null,null,null,null,null,null,null,null,null,null,null,null,null,null,null,null,null,null,null,null,null,null,null,null,null,null,null,null,null,null,null,null,null,null,null,null,null,null,null,null,null,null,null,null,null,null,null,null,null,null,null,null,null,null,null,null,null,null,null,null,null,null,null,null,null,null,null,null,null,null,null,null,null,null,null,null,null,null,null,null,null,null,null,null,null,null,null,null,null,null,null,null,null,null,null,null,null,null,null,"Диафрагмирование трубы",null,"высота диафрагмирования",{"$f":"'Исходные данные'!F30","v":0},"мм",null,null,null,null,null,null,null,"Разрешающая способность  ",{"$f":"140/'Исходные данные'!F6","v":0.93333333333333335},"\"",null,null,62,104.7,4]
[null,null,null,null,null,null,null,null,null,null,null,null,null,null,null,null,null,null,null,null,null,null,null,null,null,null,null,null,null,null,null,null,null,null,null,null,null,null,null,null,null,null,null,null,null,null,null,null,null,null,null,null,null,null,null,null,null,null,null,null,null,null,null,null,null,null,null,null,null,null,null,null,null,null,null,null,null,null,null,null,null,null,null,null,null,null,null,null,null,null,null,null,null,null,null,null,null,null,null,null,null,null,null,null,null,null,null,null,null,null,null,null,null,null,null,null,null,null,null,null,null,null,null,null,null,null,null,null,null,null,null,null,null,null,null,null,null,null,null,null,null,null,null,null,null,null,null,null,null,null,null,null,null,null,null,null,null,null,null,null,null,null,null,null,null,null,null,null,null,null,null,null,null,null,null,null,null,null,null,null,null,null,null,null,null,null,null,null,null,null,null,null,null,null,null,null,null,null,null,null,null,null,null,null,null,null,null,null,null,null,null,null,null,null,null,null,null,null,null,"Диаметр невиньетированного поля зрения  ",{"$f":"'Исходные данные'!AO42","v":1},{"$f":"'Исходные данные'!AO44","v":26},{"$f":"'Исходные данные'!AO46","v":34},{"$f":"TEXT(Чертёж!HM2306,\"00\")&\"º\"&TEXT(Чертёж!HN2306,\"00\")&\"'\"&TEXT(Чертёж!HO2306,\"00\")&\"\"\"\"","v":"01º26'34\""},{"$f":"HQ2305","v":62},{"$f":"HR2305+HR2305-HR2304","v":116.8875},5,null,null,{"$f":"ROUND('Исходные данные'!F10,2)","v":18.89}," мм"]
[null,null,null,null,null,null,null,null,null,null,null,null,null,null,null,null,null,null,null,null,null,null,null,null,null,null,null,null,null,null,null,null,null,null,null,null,null,null,null,null,null,null,null,null,null,null,null,null,null,null,null,null,null,null,null,null,null,null,null,null,null,null,null,null,null,null,null,null,null,null,null,null,null,null,null,null,null,null,null,null,null,null,null,null,null,null,null,null,null,null,null,null,null,null,null,null,null,null,null,null,null,null,null,null,null,null,null,null,null,null,null,null,null,null,null,null,null,null,null,null,null,null,null,null,null,null,null,null,null,null,null,null,null,null,null,null,null,null,null,null,null,null,null,null,null,null,null,null,null,null,null,null,null,null,null,null,null,null,null,null,null,null,null,null,null,null,null,null,null,null,null,null,null,null,null,null,null,null,null,null,null,null,null,null,null,null,null,null,null,null,null,null,null,null,null,null,null,null,null,null,null,null,null,null,"Передняя кромка трубы",{"$f":"HN2195+'Исходные данные'!F60","v":863},null,null,null,null,null,"Начало",null,"Конец",null,null,null,null,null,"Диаметр максимального поля зрения  ",{"$f":"'Исходные данные'!AS42","v":1},{"$f":"'Исходные данные'!AS44","v":13},{"$f":"'Исходные данные'!AS46","v":20},{"$f":"TEXT(Чертёж!HM2307,\"00\")&\"º\"&TEXT(Чертёж!HN2307,\"00\")&\"'\"&TEXT(Чертёж!HO2307,\"00\")&\"\"\"\"","v":"01º13'20\""},62,{"$f":"HR2306+HR2306-HR2305","v":129.07499999999999},6,null,null,{"$f":"ROUND('Исходные данные'!F18,2)","v":16}," мм"]
[null,null,null,null,null,null,null,null,null,null,null,null,null,null,null,null,null,null,null,null,null,null,null,null,null,null,null,null,null,null,null,null,null,null,null,null,null,null,null,null,null,null,null,null,null,null,null,null,null,null,null,null,null,null,null,null,null,null,null,null,null,null,null,null,null,null,null,null,null,null,null,null,null,null,null,null,null,null,null,null,null,null,null,null,null,null,null,null,null,null,null,null,null,null,null,null,null,null,null,null,null,null,null,null,null,null,null,null,null,null,null,null,null,null,null,null,null,null,null,null,null,null,null,null,null,null,null,null,null,null,null,null,null,null,null,null,null,null,null,null,null,null,null,null,null,null,null,null,null,null,null,null,null,null,null,null,null,null,null,null,null,null,null,null,null,null,null,null,null,null,null,null,null,null,null,null,null,null,null,null,null,null,null,null,null,null,null,null,null,null,null,null,null,null,null,null,null,null,null,null,null,null,null,null,null,{"$f":"'Исходные данные'!F32+'Исходные данные'!F30+('Исходные данные'!F34-'Исходные данные'!F32)+'Исходные данные'!F56","v":228},null,null,null,null,null,"x","y","x","y",null,null,null,null,"Минимальное (равнозрачковое) увеличение  ",{"$f":"HM2302/7","v":21.428571428571427},null,null,null,62,141.26249999999999,7]
[null,null,null,null,null,null,null,null,null,null,null,null,null,null,null,null,null,null,null,null,null,null,null,null,null,null,null,null,null,null,null,null,null,null,null,null,null,null,null,null,null,null,null,null,null,null,null,null,null,null,null,null,null,null,null,null,null,null,null,null,null,null,null,null,null,null,null,null,null,null,null,null,null,null,null,null,null,null,null,null,null,null,null,null,null,null,null,null,null,null,null,null,null,null,null,null,null,null,null,null,null,null,null,null,null,null,null,null,null,null,null,null,null,null,null,null,null,null,null,null,null,null,null,null,null,null,null,null,null,null,null,null,null,null,null,null,null,null,null,null,null,null,null,null,null,null,null,null,null,null,null,null,null,null,null,null,null,null,null,null,null,null,null,null,null,null,null,null,null,null,null,null,null,null,null,null,null,null,null,null,null,null,null,null,null,null,null,null,null,null,null,null,null,null,null,null,null,null,null,null,null,null,null,null,null,{"$f":"GX2308-'Исходные данные'!F30","v":228},null,"Область размещения диафрагм (начало, конец)",null,null,null,{"$f":"HN2195+HR2244-((((HP2218-'Исходные данные'!F18)/2+'Исходные данные'!F18)*('Исходные данные'!F32+'Исходные данные'!F56+('Исходные данные'!F34-'Исходные данные'!F32)+'Исходные данные'!F30)/('Исходные данные'!F56+'Исходные данные'!F16))-HR2252/2)","v":732.72723809523814},{"$f":"HO2195+'Исходные данные'!F32/2","v":461.875},{"$f":"HN2195+HR2244+((((HP2218-'Исходные данные'!F18)/2+'Исходные данные'!F18)*('Исходные данные'!F32+'Исходные данные'!F56+'Исходные данные'!F16+('Исходные данные'!F34-'Исходные данные'!F32))/('Исходные данные'!F56+'Исходные данные'!F16))-HR2252/2)","v":874.30266666666671},{"$f":"HE2309","v":461.875},null,null,null,null,"Снижение проницающей силы на краю поля зрения до ",{"$f":"Виньетирование!AJ199*100","v":99.99391777416578},null,null,null,62,153.44999999999999,8]
[null,null,null,null,null,null,null,null,null,null,null,null,null,null,null,null,null,null,null,null,null,null,null,null,null,null,null,null,null,null,null,null,null,null,null,null,null,null,null,null,null,null,null,null,null,null,null,null,null,null,null,null,null,null,null,null,null,null,null,null,null,null,null,null,null,null,null,null,null,null,null,null,null,null,null,null,null,null,null,null,null,null,null,null,null,null,null,null,null,null,null,null,null,null,null,null,null,null,null,null,null,null,null,null,null,null,null,null,null,null,null,null,null,null,null,null,null,null,null,null,null,null,null,null,null,null,null,null,null,null,null,null,null,null,null,null,null,null,null,null,null,null,null,null,null,null,null,null,null,null,null,null,null,null,null,null,null,null,null,null,null,null,null,null,null,null,null,null,null,null,null,null,null,null,null,null,null,null,null,null,null,null,null,null,null,null,null,null,null,null,null,null,null,null,null,null,null,null,null,null,null,null,null,null,null,{"$f":"HN2195+'Исходные данные'!F60-'Исходные данные'!F28-'Исходные данные'!F26+'Исходные данные'!F18/2","v":811},null,"Линия области размещения диафрагм 1",null,null,null,{"$f":"HP2228","v":811},{"$f":"HO2228","v":232.875},{"$f":"HD2309","v":732.72723809523814},{"$f":"HG2309+'Исходные данные'!F30","v":461.875},null,null,null," ","Проницающая сила в пределах невиньетированного поля зрения  ",{"$f":"Виньетирование!CH201","v":12.878071861657411},"m",null,null,{"$f":"HQ2309","v":62},{"$f":"HR2309+HR2309-HR2308","v":165.63749999999999}]
[null,null,null,null,null,null,null,null,null,null,null,null,null,null,null,null,null,null,null,null,null,null,null,null,null,null,null,null,null,null,null,null,null,null,null,null,null,null,null,null,null,null,null,null,null,null,null,null,null,null,null,null,null,null,null,null,null,null,null,null,null,null,null,null,null,null,null,null,null,null,null,null,null,null,null,null,null,null,null,null,null,null,null,null,null,null,null,null,null,null,null,null,null,null,null,null,null,null,null,null,null,null,null,null,null,null,null,null,null,null,null,null,null,null,null,null,null,null,null,null,null,null,null,null,null,null,null,null,null,null,null,null,null,null,null,null,null,null,null,null,null,null,null,null,null,null,null,null,null,null,null,null,null,null,null,null,null,null,null,null,null,null,null,null,null,null,null,null,null,null,null,null,null,null,null,null,null,null,null,null,null,null,null,null,null,null,null,null,null,null,null,null,null,null,null,null,null,"Есть в трубе кольца жёсткости?",{"$f":"IF('Исходные данные'!F34>'Исходные данные'!F32,1,0)","v":1},null,null,null,null,null,"Диафрагма","x","y","Линия области размещения диафрагм 2",null,null,null,{"$f":"HN2228","v":795},{"$f":"HE2310","v":232.875},{"$f":"HN2195+HR2244+(HN2195+HR2244-(HN2195+HR2244-((((HP2218-'Исходные данные'!F18)/2+'Исходные данные'!F18)*('Исходные данные'!F32+'Исходные данные'!F56+('Исходные данные'!F34-'Исходные данные'!F32))/('Исходные данные'!F56+'Исходные данные'!F16))-HR2252/2)))","v":873.27276190476186},{"$f":"HG2309","v":461.875},null,null,null," ","Проницающая сила на краю поля зрения  ",{"$f":"Виньетирование!AJ201","v":12.877999291987306},"m",null,null,{"$f":"HQ2310","v":62},{"$f":"HR2310+HR2310-HR2309","v":177.82499999999999}]
[null,null,null,null,null,null,null,null,null,null,null,null,null,null,null,null,null,null,null,null,null,null,null,null,null,null,null,null,null,null,null,null,null,null,null,null,null,null,null,null,null,null,null,null,null,null,null,null,null,null,null,null,null,null,null,null,null,null,null,null,null,null,null,null,null,null,null,null,null,null,null,null,null,null,null,null,null,null,null,null,null,null,null,null,null,null,null,null,null,null,null,null,null,null,null,null,null,null,null,null,null,null,null,null,null,null,null,null,null,null,null,null,null,null,null,null,null,null,null,null,null,null,null,null,null,null,null,null,null,null,null,null,null,null,null,null,null,null,null,null,null,null,null,null,null,null,null,null,null,null,null,null,null,null,null,null,null,null,null,null,null,null,null,null,null,null,null,null,null,null,null,null,null,null,null,null,null,null,null,null,null,null,null,null,null,"Длина полудуги вершины области диафрагм",null,null,{"$f":"'Исходные данные'!$F$32*PI()*'А-А'!$FT$338/360","v":67.78689096389482},null,null,null,null,null,null,null,null,null,null,null,null,null,1,null,"Вершина",{"$f":"Чертёж!HF2311","v":873.27276190476186},{"$f":"HG2311","v":461.875},1,null,null,{"$f":"IF(HF2312>=$HD$2309,1,0)","v":1},{"$f":"(HN2195+'Исходные данные'!F60)*HC2312","v":863},{"$f":"(HO2195-'Исходные данные'!F32/2)*HC2312","v":297.875},{"$f":"Чертёж!HN2195+'Исходные данные'!F60-(Чертёж!HN2195+'Исходные данные'!F60-HF2311)*('Исходные данные'!F32+'Исходные данные'!F30)/'Исходные данные'!F32","v":873.27276190476186},{"$f":"(HO2195+'Исходные данные'!F32/2+'Исходные данные'!F30)*HC2312","v":461.875}]
[null,null,null,null,null,null,null,null,null,null,null,null,null,null,null,null,null,null,null,null,null,null,null,null,null,null,null,null,null,null,null,null,null,null,null,null,null,null,null,null,null,null,null,null,null,null,null,null,null,null,null,null,null,null,null,null,null,null,null,null,null,null,null,null,null,null,null,null,null,null,null,null,null,null,null,null,null,null,null,null,null,null,null,null,null,null,null,null,null,null,null,null,null,null,null,null,null,null,null,null,null,null,null,null,null,null,null,null,null,null,null,null,null,null,null,null,null,null,null,null,null,null,null,null,null,null,null,null,null,null,null,null,null,null,null,null,null,null,null,null,null,null,null,null,null,null,null,null,null,null,null,null,null,null,null,null,null,null,null,null,null,null,null,null,null,null,null,null,null,null,null,null,null,null,null,null,null,null,null,null,null,null,null,null,null,"Длина полудуги основания области диафрагм",null,null,{"$f":"('Исходные данные'!$F$32+'Исходные данные'!$F$30*2)*PI()*'А-А'!$GC$338/360","v":67.78689096389482},null,null,null,null,null,null,null,null,null,null,null,null,null,null,null,"Основание",{"$f":"GX2312","v":873.27276190476186},{"$f":"HG2312","v":461.875},null,null,null,{"$f":"IF(HF2313>=$HD$2309,1,0)","v":1},{"$f":"HD2310","v":811},{"$f":"HE2310","v":232.875},{"$f":"HF2312","v":873.27276190476186},{"$f":"HG2312","v":461.875}]
[null,null,null,null,null,null,null,null,null,null,null,null,null,null,null,null,null,null,null,null,null,null,null,null,null,null,null,null,null,null,null,null,null,null,null,null,null,null,null,null,null,null,null,null,null,null,null,null,null,null,null,null,null,null,null,null,null,null,null,null,null,null,null,null,null,null,null,null,null,null,null,null,null,null,null,null,null,null,null,null,null,null,null,null,null,null,null,null,null,null,null,null,null,null,null,null,null,null,null,null,null,null,null,null,null,null,null,null,null,null,null,null,null,null,null,null,null,null,null,null,null,null,null,null,null,null,null,null,null,null,null,null,null,null,null,null,null,null,null,null,null,null,null,null,null,null,null,null,null,null,null,null,null,null,null,null,null,null,null,null,null,null,null,null,null,null,null,null,null,null,null,null,null,null,null,null,null,null,null,null,null,null,null,null,null,null,null,null,null,null,null,null,null,null,null,null,null,null,"x","y","a","b",2,null,"Вершина",{"$f":"GX$2307-(GX$2307-GX$2310-(HF2312-GX$2310)*GX$2309/GX$2308)","v":873.27276190476186},{"$f":"GY2312","v":461.875},2,null,null,1,{"$f":"HD2312","v":863},{"$f":"HE2312","v":297.875},{"$f":"GX2307-((GX2307-GX2310-(HF2312-GX2310)*GX2309/GX2308)*('Исходные данные'!F32+'Исходные данные'!F30)/'Исходные данные'!F32)","v":873.27276190476186},{"$f":"HG2313","v":461.875}]
[null,null,null,null,null,null,null,null,null,null,null,null,null,null,null,null,null,null,null,null,null,null,null,null,null,null,null,null,null,null,null,null,null,null,null,null,null,null,null,null,null,null,null,null,null,null,null,null,null,null,null,null,null,null,null,null,null,null,null,null,null,null,null,null,null,null,null,null,null,null,null,null,null,null,null,null,null,null,null,null,null,null,null,null,null,null,null,null,null,null,null,null,null,null,null,null,null,null,null,null,null,null,null,null,null,null,null,null,null,null,null,null,null,null,null,null,null,null,null,null,null,null,null,null,null,null,null,null,null,null,null,null,null,null,null,null,null,null,null,null,null,null,null,null,null,null,null,null,null,null,null,null,null,null,null,null,null,null,null,null,null,null,null,null,null,null,null,null,null,null,null,null,null,null,null,null,null,null,null,null,null,null,null,null,null,null,null,null,null,null,null,null,null,null,null,null,null,"Область диафрагмирования",{"$f":"HD2309","v":732.72723809523814},{"$f":"HE2309+('Исходные данные'!F34-'Исходные данные'!F32)/2","v":463.875},{"$f":"HF2311-HF2310","v":140.54552380952373},{"$f":"'Исходные данные'!F30-('Исходные данные'!F34-'Исходные данные'!F32)/2","v":-2},null,null,"Основание",{"$f":"IF(GX2314>GX$2310,GX2314,HF2314-(HF2314-HF2312)/5)","v":873.27276190476186},{"$f":"GY2313","v":461.875},null,null,null,1,{"$f":"GX2310","v":811},{"$f":"HE2313","v":232.875},{"$f":"HF2314","v":873.27276190476186},{"$f":"HG2314","v":461.875}]
[null,null,null,null,null,null,null,null,null,null,null,null,null,null,null,null,null,null,null,null,null,null,null,null,null,null,null,null,null,null,null,null,null,null,null,null,null,null,null,null,null,null,null,null,null,null,null,null,null,null,null,null,null,null,null,null,null,null,null,null,null,null,null,null,null,null,null,null,null,null,null,null,null,null,null,null,null,null,null,null,null,null,null,null,null,null,null,null,null,null,null,null,null,null,null,null,null,null,null,null,null,null,null,null,null,null,null,null,null,null,null,null,null,null,null,null,null,null,null,null,null,null,null,null,null,null,null,null,null,null,null,null,null,null,null,null,null,null,null,null,null,null,null,null,null,null,null,null,null,null,null,null,null,null,null,null,null,null,null,null,null,null,null,null,null,null,null,null,null,null,null,null,null,null,null,null,null,null,null,null,null,null,null,null,null,null,null,"№ Диафрагмы","Положение ",null,"R1","R2","X1","X2",null,null,null,null,{"$f":"GQ2315-'Исходные данные'!F16","v":729.72723809523814},{"$f":"GR2315","v":463.875},{"$f":"'Исходные данные'!F16","v":3},{"$f":"GT2315","v":-2},3,null,"Вершина",{"$f":"GX$2307-(GX$2307-GX$2310-(HF2314-GX$2310)*GX$2309/GX$2308)","v":873.27276190476186},{"$f":"GY2314","v":461.875},3,null,null,1,{"$f":"HD2314","v":863},297.875,{"$f":"GX2307-((GX2307-GX2310-(HF2314-GX2310)*GX2309/GX2308)*('Исходные данные'!F32+'Исходные данные'!F30)/'Исходные данные'!F32)","v":873.27276190476186},{"$f":"HG2315","v":461.875}]
[null,null,null,null,null,null,null,null,null,null,null,null,null,null,null,null,null,null,null,null,null,null,null,null,null,null,null,null,null,null,null,null,null,null,null,null,null,null,null,null,null,null,null,null,null,null,null,null,null,null,null,null,null,null,null,null,null,null,null,null,null,null,null,null,null,null,null,null,null,null,null,null,null,null,null,null,null,null,null,null,null,null,null,null,null,null,null,null,null,null,null,null,null,null,null,null,null,null,null,null,null,null,null,null,null,null,null,null,null,null,null,null,null,null,null,null,null,null,null,null,null,null,null,null,null,null,null,null,null,null,null,null,null,null,null,null,null,null,null,null,null,null,null,null,null,null,null,null,null,null,null,null,null,null,null,null,null,null,null,null,null,null,null,null,null,null,null,null,null,null,null,null,null,null,null,null,null,null,"Угол наклона диафрагм",null,null,"Угол вершины",null,null,"Угол основания",null,null,null,"Вершина","Основание",null,null,null,null,null,null,null,null,{"$f":"HF2311","v":873.27276190476186},{"$f":"GR2316","v":463.875},{"$f":"GS2316","v":3},{"$f":"GT2316","v":-2},null,null,"Основание",{"$f":"IF(GX2316>GX$2310,GX2316,HF2316-(HF2316-HF2314)/5)","v":873.27276190476186},461.875,null,null,null,1,811,232.875,{"$f":"HF2316","v":873.27276190476186},461.875]
[null,null,null,null,null,null,null,null,null,null,null,null,null,null,null,null,null,null,null,null,null,null,null,null,null,null,null,null,null,null,null,null,null,null,null,null,null,null,null,null,null,null,null,null,null,null,null,null,null,null,null,null,null,null,null,null,null,null,null,null,null,null,null,null,null,null,null,null,null,null,null,null,null,null,null,null,null,null,null,null,null,null,null,null,null,null,null,null,null,null,null,null,null,null,null,null,null,null,null,null,null,null,null,null,null,null,null,null,null,null,null,null,null,null,null,null,null,null,null,null,null,null,null,null,null,null,null,null,null,null,null,null,null,null,null,null,null,null,null,null,null,null,null,null,null,null,null,null,null,null,null,null,null,null,null,null,null,null,null,null,null,null,null,null,null,null,null,null,null,null,null,null,null,null,null,null,null,null,{"$f":"IF(GH2318-GG2318=0,90,DEGREES(ATAN('Исходные данные'!$F$30/(GH2318-GG2318))))","v":90},{"$f":"2*PI()*GI2318","v":515.22119518872603},{"$f":"$GG$2312/FX2318","v":0.13156852163091701},{"$f":"360*FY2318","v":47.364667787130124},{"$f":"2*PI()*GJ2318","v":515.22119518872603},{"$f":"$GG$2313/GA2318","v":0.13156852163091701},{"$f":"360*GB2318","v":47.364667787130124},0,0,1,{"$f":"$GX$2312-GX2312","v":0},{"$f":"$GX$2313-GX2313","v":0},{"$f":"'Исходные данные'!$F$32/2/SIN(RADIANS(FW2318))","v":82},{"$f":"GI2318+SQRT('Исходные данные'!$F$30^2+(Чертёж!GH2318-Чертёж!GG2318)^2)","v":82},{"$f":"GI2318*SIN(RADIANS(FZ2318))","v":60.325722486524462},{"$f":"GJ2318*SIN(RADIANS(GC2318))","v":60.325722486524462},{"$f":"GJ2318-GI2318","v":0},{"$f":"IF(GX2313<$HN$2320,0,1)","v":1},null,null,{"$f":"GQ2316","v":729.72723809523814},{"$f":"GR2317+'Исходные данные'!F30-+('Исходные данные'!F34-'Исходные данные'!F32)/2","v":461.875},{"$f":"GS2315+'Исходные данные'!F16*2","v":146.54552380952373},{"$f":"GS2317","v":3},4,null,"Вершина",{"$f":"GX$2307-(GX$2307-GX$2310-(HF2316-GX$2310)*GX$2309/GX$2308)","v":873.27276190476186},461.875,4,null,null,1,863,297.875,{"$f":"GX2307-((GX2307-GX2310-(HF2316-GX2310)*GX2309/GX2308)*('Исходные данные'!F32+'Исходные данные'!F30)/'Исходные данные'!F32)","v":873.27276190476186},461.875]
[null,null,null,null,null,null,null,null,null,null,null,null,null,null,null,null,null,null,null,null,null,null,null,null,null,null,null,null,null,null,null,null,null,null,null,null,null,null,null,null,null,null,null,null,null,null,null,null,null,null,null,null,null,null,null,null,null,null,null,null,null,null,null,null,null,null,null,null,null,null,null,null,null,null,null,null,null,null,null,null,null,null,null,null,null,null,null,null,null,null,null,null,null,null,null,null,null,null,null,null,null,null,null,null,null,null,null,null,null,null,null,null,null,null,null,null,null,null,null,null,null,null,null,null,null,null,null,null,null,null,null,null,null,null,null,null,null,null,null,null,null,null,null,null,null,null,null,null,null,null,null,null,null,null,null,null,null,null,null,null,null,null,null,null,null,null,null,null,null,null,null,null,null,null,null,null,null,null,{"$f":"IF(GH2319-GG2319=0,90,DEGREES(ATAN('Исходные данные'!$F$30/(GH2319-GG2319))))","v":90},{"$f":"2*PI()*GI2319","v":515.22119518872603},{"$f":"$GG$2312/FX2319","v":0.13156852163091701},{"$f":"360*FY2319","v":47.364667787130124},{"$f":"2*PI()*GJ2319","v":515.22119518872603},{"$f":"$GG$2313/GA2319","v":0.13156852163091701},{"$f":"360*GB2319","v":47.364667787130124},{"$f":"GH2319-GH2318","v":0},{"$f":"GG2319-GG2318","v":0},2,{"$f":"$GX$2312-GX2314","v":0},{"$f":"$GX$2313-GX2315","v":0},{"$f":"'Исходные данные'!$F$32/2/SIN(RADIANS(FW2319))","v":82},{"$f":"GI2319+SQRT('Исходные данные'!$F$30^2+(Чертёж!GH2319-Чертёж!GG2319)^2)","v":82},60.325722486524462,{"$f":"GJ2319*SIN(RADIANS(GC2319))","v":60.325722486524462},{"$f":"GJ2319-GI2319","v":0},{"$f":"IF(GX2315<$HN$2320,0,1)","v":1},null,"Входное отверстие трубы",{"$f":"HN2195+'Исходные данные'!F60-'Исходные данные'!F16","v":860},{"$f":"HO2217+'Исходные данные'!F16","v":295.875},{"$f":"'Исходные данные'!F16","v":3},{"$f":"'Исходные данные'!F34","v":168},null,null,"Основание",{"$f":"IF(GX2318>GX$2310,GX2318,HF2318-(HF2318-HF2316)/5)","v":873.27276190476186},461.875,null,null,null,1,811,232.875,{"$f":"HF2318","v":873.27276190476186},461.875]
[null,null,null,null,null,null,null,null,null,null,null,null,null,null,null,null,null,null,null,null,null,null,null,null,null,null,null,null,null,null,null,null,null,null,null,null,null,null,null,null,null,null,null,null,null,null,null,null,null,null,null,null,null,null,null,null,null,null,null,null,null,null,null,null,null,null,null,null,null,null,null,null,null,null,null,null,null,null,null,null,null,null,null,null,null,null,null,null,null,null,null,null,null,null,null,null,null,null,null,null,null,null,null,null,null,null,null,null,null,null,null,null,null,null,null,null,null,null,null,null,null,null,null,null,null,null,null,null,null,null,null,null,null,null,null,null,null,null,null,null,null,null,null,null,null,null,null,null,null,null,null,null,null,null,null,null,null,null,null,null,null,null,null,null,null,null,null,null,null,null,null,null,null,null,null,null,null,null,{"$f":"IF(GH2320-GG2320=0,90,DEGREES(ATAN('Исходные данные'!$F$30/(GH2320-GG2320))))","v":90},515.22119518872603,0.13156852163091701,47.364667787130124,515.22119518872603,0.13156852163091701,47.364667787130124,{"$f":"GH2320-GH2319","v":0},{"$f":"GG2320-GG2319","v":0},3,{"$f":"$GX$2312-GX2316","v":0},{"$f":"$GX$2313-GX2317","v":0},{"$f":"'Исходные данные'!$F$32/2/SIN(RADIANS(FW2320))","v":82},{"$f":"GI2320+SQRT('Исходные данные'!$F$30^2+(Чертёж!GH2320-Чертёж!GG2320)^2)","v":82},60.325722486524462,60.325722486524462,0,{"$f":"IF(GX2317<$HN$2320,0,1)","v":1},null,null,{"$f":"GQ2319","v":860},{"$f":"GR2319+('Исходные данные'!F34-'Исходные данные'!F32)/2","v":297.875},{"$f":"GS2319","v":3},{"$f":"'Исходные данные'!F32","v":164},5,null,"Вершина",{"$f":"GX$2307-(GX$2307-GX$2310-(HF2318-GX$2310)*GX$2309/GX$2308)","v":873.27276190476186},461.875,5,null,null,1,863,297.875,{"$f":"GX2307-((GX2307-GX2310-(HF2318-GX2310)*GX2309/GX2308)*('Исходные данные'!F32+'Исходные данные'!F30)/'Исходные данные'!F32)","v":873.27276190476186},461.875,null,null,null,"Глубина зоны диафрагмирования","Стрелка 19",null,{"$f":"HD2309","v":732.72723809523814},{"$f":"HO2239+30","v":574.875},{"$f":"HF2311","v":873.27276190476186},{"$f":"HO2320","v":574.875}]
[null,null,null,null,null,null,null,null,null,null,null,null,null,null,null,null,null,null,null,null,null,null,null,null,null,null,null,null,null,null,null,null,null,null,null,null,null,null,null,null,null,null,null,null,null,null,null,null,null,null,null,null,null,null,null,null,null,null,null,null,null,null,null,null,null,null,null,null,null,null,null,null,null,null,null,null,null,null,null,null,null,null,null,null,null,null,null,null,null,null,null,null,null,null,null,null,null,null,null,null,null,null,null,null,null,null,null,null,null,null,null,null,null,null,null,null,null,null,null,null,null,null,null,null,null,null,null,null,null,null,null,null,null,null,null,null,null,null,null,null,null,null,null,null,null,null,null,null,null,null,null,null,null,null,null,null,null,null,null,null,null,null,null,null,null,null,null,null,null,null,null,null,null,null,null,null,null,null,{"$f":"IF(GH2321-GG2321=0,90,DEGREES(ATAN('Исходные данные'!$F$30/(GH2321-GG2321))))","v":90},515.22119518872603,0.13156852163091701,47.364667787130124,515.22119518872603,0.13156852163091701,47.364667787130124,0,{"$f":"GG2321-GG2320","v":0},4,{"$f":"GX2312-GX2318","v":0},{"$f":"$GX$2313-GX2319","v":0},{"$f":"'Исходные данные'!$F$32/2/SIN(RADIANS(FW2321))","v":82},{"$f":"GI2321+SQRT('Исходные данные'!$F$30^2+(Чертёж!GH2321-Чертёж!GG2321)^2)","v":82},60.325722486524462,60.325722486524462,0,{"$f":"IF(GX2319<$HN$2320,0,1)","v":1},null,null,null,null,null,null,null,null,"Основание",{"$f":"IF(GX2320>GX$2310,GX2320,HF2320-(HF2320-HF2318)/5)","v":873.27276190476186},461.875,null,null,null,1,811,232.875,{"$f":"HF2320","v":873.27276190476186},461.875,null,null,null,null,"Размер 19",null,{"$f":"HN2320+(HP2320-HN2320)/2-HP2321/2","v":778},{"$f":"HO2240+30","v":554.875},50,20,{"$f":"HP2320-HN2320","v":140.54552380952373}]
[null,null,null,null,null,null,null,null,null,null,null,null,null,null,null,null,null,null,null,null,null,null,null,null,null,null,null,null,null,null,null,null,null,null,null,null,null,null,null,null,null,null,null,null,null,null,null,null,null,null,null,null,null,null,null,null,null,null,null,null,null,null,null,null,null,null,null,null,null,null,null,null,null,null,null,null,null,null,null,null,null,null,null,null,null,null,null,null,null,null,null,null,null,null,null,null,null,null,null,null,null,null,null,null,null,null,null,null,null,null,null,null,null,null,null,null,null,null,null,null,null,null,null,null,null,null,null,null,null,null,null,null,null,null,null,null,null,null,null,null,null,null,null,null,null,null,null,null,null,null,null,null,null,null,null,null,null,null,null,null,null,null,null,null,null,null,null,null,null,null,null,null,null,null,null,null,null,null,{"$f":"IF(GH2322-GG2322=0,90,DEGREES(ATAN('Исходные данные'!$F$30/(GH2322-GG2322))))","v":90},515.22119518872603,0.13156852163091701,47.364667787130124,515.22119518872603,0.13156852163091701,47.364667787130124,0,0,5,{"$f":"GX2312-GX2320","v":0},{"$f":"$GX$2313-GX2321","v":0},{"$f":"'Исходные данные'!$F$32/2/SIN(RADIANS(FW2322))","v":82},{"$f":"GI2322+SQRT('Исходные данные'!$F$30^2+(Чертёж!GH2322-Чертёж!GG2322)^2)","v":82},60.325722486524462,60.325722486524462,0,{"$f":"IF(GX2321<$HN$2320,0,1)","v":1},null,null,null,null,null,null,6,null,"Вершина",{"$f":"GX$2307-(GX$2307-GX$2310-(HF2320-GX$2310)*GX$2309/GX$2308)","v":873.27276190476186},461.875,6,null,null,1,863,297.875,{"$f":"GX2307-((GX2307-GX2310-(HF2320-GX2310)*GX2309/GX2308)*('Исходные данные'!F32+'Исходные данные'!F30)/'Исходные данные'!F32)","v":873.27276190476186},461.875,null,null,null,"Расстояние от края трубы до начала зоны диафрагмирования","Стрелка 20",null,{"$f":"HP2320","v":873.27276190476186},{"$f":"HO2320","v":574.875},{"$f":"HP2237","v":863},{"$f":"HO2322","v":574.875}]
[null,null,null,null,null,null,null,null,null,null,null,null,null,null,null,null,null,null,null,null,null,null,null,null,null,null,null,null,null,null,null,null,null,null,null,null,null,null,null,null,null,null,null,null,null,null,null,null,null,null,null,null,null,null,null,null,null,null,null,null,null,null,null,null,null,null,null,null,null,null,null,null,null,null,null,null,null,null,null,null,null,null,null,null,null,null,null,null,null,null,null,null,null,null,null,null,null,null,null,null,null,null,null,null,null,null,null,null,null,null,null,null,null,null,null,null,null,null,null,null,null,null,null,null,null,null,null,null,null,null,null,null,null,null,null,null,null,null,null,null,null,null,null,null,null,null,null,null,null,null,null,null,null,null,null,null,null,null,null,null,null,null,null,null,null,null,null,null,null,null,null,null,null,null,null,null,null,null,{"$f":"IF(GH2323-GG2323=0,90,DEGREES(ATAN('Исходные данные'!$F$30/(GH2323-GG2323))))","v":90},515.22119518872603,0.13156852163091701,47.364667787130124,515.22119518872603,0.13156852163091701,47.364667787130124,0,0,6,{"$f":"GX2312-GX2322","v":0},{"$f":"$GX$2313-GX2323","v":0},{"$f":"'Исходные данные'!$F$32/2/SIN(RADIANS(FW2323))","v":82},{"$f":"GI2323+SQRT('Исходные данные'!$F$30^2+(Чертёж!GH2323-Чертёж!GG2323)^2)","v":82},60.325722486524462,60.325722486524462,0,{"$f":"IF(GX2323<$HN$2320,0,1)","v":1},null,null,null,null,null,null,null,null,"Основание",{"$f":"IF(GX2322>GX$2310,GX2322,HF2322-(HF2322-HF2320)/5)","v":873.27276190476186},461.875,null,null,null,1,811,232.875,{"$f":"HF2322","v":873.27276190476186},461.875,null,null,null,null,"Размер 20",null,{"$f":"HN2322+(HP2322-HN2322)/2-HP2323/2","v":843.13638095238093},{"$f":"HO2321","v":554.875},50,20,{"$f":"HP2322-HN2322","v":-10.272761904761865}]
[null,null,null,null,null,null,null,null,null,null,null,null,null,null,null,null,null,null,null,null,null,null,null,null,null,null,null,null,null,null,null,null,null,null,null,null,null,null,null,null,null,null,null,null,null,null,null,null,null,null,null,null,null,null,null,null,null,null,null,null,null,null,null,null,null,null,null,null,null,null,null,null,null,null,null,null,null,null,null,null,null,null,null,null,null,null,null,null,null,null,null,null,null,null,null,null,null,null,null,null,null,null,null,null,null,null,null,null,null,null,null,null,null,null,null,null,null,null,null,null,null,null,null,null,null,null,null,null,null,null,null,null,null,null,null,null,null,null,null,null,null,null,null,null,null,null,null,null,null,null,null,null,null,null,null,null,null,null,null,null,null,null,null,null,null,null,null,null,null,null,null,null,null,null,null,null,null,null,{"$f":"IF(GH2324-GG2324=0,90,DEGREES(ATAN('Исходные данные'!$F$30/(GH2324-GG2324))))","v":90},515.22119518872603,0.13156852163091701,47.364667787130124,515.22119518872603,0.13156852163091701,47.364667787130124,0,0,7,{"$f":"GX2312-GX2324","v":0},{"$f":"$GX$2313-GX2325","v":0},{"$f":"'Исходные данные'!$F$32/2/SIN(RADIANS(FW2324))","v":82},{"$f":"GI2324+SQRT('Исходные данные'!$F$30^2+(Чертёж!GH2324-Чертёж!GG2324)^2)","v":82},60.325722486524462,60.325722486524462,0,{"$f":"IF(GX2325<$HN$2320,0,1)","v":1},null,null,null,null,null,null,7,null,"Вершина",{"$f":"GX$2307-(GX$2307-GX$2310-(HF2322-GX$2310)*GX$2309/GX$2308)","v":873.27276190476186},461.875,7,null,null,1,{"$f":"HD2322","v":863},297.875,{"$f":"GX2307-((GX2307-GX2310-(HF2322-GX2310)*GX2309/GX2308)*('Исходные данные'!F32+'Исходные данные'!F30)/'Исходные данные'!F32)","v":873.27276190476186},461.875,null,null,null,null,"Выносная линия29",null,{"$f":"HN2274","v":863},{"$f":"HQ2274","v":544.875},{"$f":"HN2324","v":863},{"$f":"HQ2274+30","v":574.875}]
[null,null,null,null,null,null,null,null,null,null,null,null,null,null,null,null,null,null,null,null,null,null,null,null,null,null,null,null,null,null,null,null,null,null,null,null,null,null,null,null,null,null,null,null,null,null,null,null,null,null,null,null,null,null,null,null,null,null,null,null,null,null,null,null,null,null,null,null,null,null,null,null,null,null,null,null,null,null,null,null,null,null,null,null,null,null,null,null,null,null,null,null,null,null,null,null,null,null,null,null,null,null,null,null,null,null,null,null,null,null,null,null,null,null,null,null,null,null,null,null,null,null,null,null,null,null,null,null,null,null,null,null,null,null,null,null,null,null,null,null,null,null,null,null,null,null,null,null,null,null,null,null,null,null,null,null,null,null,null,null,null,null,null,null,null,null,null,null,null,null,null,null,null,null,null,null,null,null,{"$f":"IF(GH2325-GG2325=0,90,DEGREES(ATAN('Исходные данные'!$F$30/(GH2325-GG2325))))","v":90},515.22119518872603,0.13156852163091701,47.364667787130124,515.22119518872603,0.13156852163091701,47.364667787130124,0,0,8,{"$f":"GX2312-GX2326","v":0},{"$f":"$GX$2313-GX2327","v":0},{"$f":"'Исходные данные'!$F$32/2/SIN(RADIANS(FW2325))","v":82},{"$f":"GI2325+SQRT('Исходные данные'!$F$30^2+(Чертёж!GH2325-Чертёж!GG2325)^2)","v":82},60.325722486524462,60.325722486524462,0,{"$f":"IF(GX2327<$HN$2320,0,1)","v":1},null,null,null,null,null,null,null,null,"Основание",{"$f":"IF(GX2324>GX$2310,GX2324,HF2324-(HF2324-HF2322)/5)","v":873.27276190476186},461.875,null,null,null,1,{"$f":"HD2323","v":811},232.875,{"$f":"HF2324","v":873.27276190476186},461.875,null,null,null,null,"Выносная линия30",null,{"$f":"HN2320","v":732.72723809523814},{"$f":"HQ2275-50","v":464.875},{"$f":"HN2325","v":732.72723809523814},{"$f":"HQ2275+60","v":574.875}]
[null,null,null,null,null,null,null,null,null,null,null,null,null,null,null,null,null,null,null,null,null,null,null,null,null,null,null,null,null,null,null,null,null,null,null,null,null,null,null,null,null,null,null,null,null,null,null,null,null,null,null,null,null,null,null,null,null,null,null,null,null,null,null,null,null,null,null,null,null,null,null,null,null,null,null,null,null,null,null,null,null,null,null,null,null,null,null,null,null,null,null,null,null,null,null,null,null,null,null,null,null,null,null,null,null,null,null,null,null,null,null,null,null,null,null,null,null,null,null,null,null,null,null,null,null,null,null,null,null,null,null,null,null,null,null,null,null,null,null,null,null,null,null,null,null,null,null,null,null,null,null,null,null,null,null,null,null,null,null,null,null,null,null,null,null,null,null,null,null,null,null,null,null,null,null,null,null,null,{"$f":"IF(GH2326-GG2326=0,90,DEGREES(ATAN('Исходные данные'!$F$30/(GH2326-GG2326))))","v":90},515.22119518872603,0.13156852163091701,47.364667787130124,515.22119518872603,0.13156852163091701,47.364667787130124,0,0,9,{"$f":"$GX$2312-GX2328","v":0},{"$f":"$GX$2313-GX2329","v":0},{"$f":"'Исходные данные'!$F$32/2/SIN(RADIANS(FW2326))","v":82},{"$f":"GI2326+SQRT('Исходные данные'!$F$30^2+(Чертёж!GH2326-Чертёж!GG2326)^2)","v":82},{"$f":"GI2326*SIN(RADIANS(FZ2326))","v":60.325722486524462},60.325722486524462,0,{"$f":"IF(GX2329<$HN$2320,0,1)","v":1},null,null,null,null,null,null,8,null,"Вершина",{"$f":"GX$2307-(GX$2307-GX$2310-(HF2324-GX$2310)*GX$2309/GX$2308)","v":873.27276190476186},461.875,8,null,null,1,{"$f":"HD2324","v":863},297.875,{"$f":"GX2307-((GX2307-GX2310-(HF2324-GX2310)*GX2309/GX2308)*('Исходные данные'!F32+'Исходные данные'!F30)/'Исходные данные'!F32)","v":873.27276190476186},461.875,null,null,null,null,"Выносная линия31",null,{"$f":"HP2320","v":873.27276190476186},{"$f":"HQ2276-50","v":464.875},{"$f":"HN2326","v":873.27276190476186},{"$f":"HQ2276+60","v":574.875}]
[null,null,null,null,null,null,null,null,null,null,null,null,null,null,null,null,null,null,null,null,null,null,null,null,null,null,null,null,null,null,null,null,null,null,null,null,null,null,null,null,null,null,null,null,null,null,null,null,null,null,null,null,null,null,null,null,null,null,null,null,null,null,null,null,null,null,null,null,null,null,null,null,null,null,null,null,null,null,null,null,null,null,null,null,null,null,null,null,null,null,null,null,null,null,null,null,null,null,null,null,null,null,null,null,null,null,null,null,null,null,null,null,null,null,null,null,null,null,null,null,null,null,null,null,null,null,null,null,null,null,null,null,null,null,null,null,null,null,null,null,null,null,null,null,null,null,null,null,null,null,null,null,null,null,null,null,null,null,null,null,null,null,null,null,null,null,null,null,null,null,null,null,null,null,null,null,null,null,{"$f":"IF(GH2327-GG2327=0,90,DEGREES(ATAN('Исходные данные'!$F$30/(GH2327-GG2327))))","v":90},515.22119518872603,0.13156852163091701,47.364667787130124,515.22119518872603,0.13156852163091701,47.364667787130124,0,0,10,{"$f":"$GX$2312-GX2330","v":0},{"$f":"$GX$2313-GX2331","v":0},{"$f":"'Исходные данные'!$F$32/2/SIN(RADIANS(FW2327))","v":82},{"$f":"GI2327+SQRT('Исходные данные'!$F$30^2+(Чертёж!GH2327-Чертёж!GG2327)^2)","v":82},60.325722486524462,60.325722486524462,0,{"$f":"IF(GX2331<$HN$2320,0,1)","v":1},null,null,null,null,null,null,null,null,"Основание",{"$f":"IF(GX2326>GX$2310,GX2326,HF2326-(HF2326-HF2324)/5)","v":873.27276190476186},461.875,null,null,null,1,{"$f":"HD2325","v":811},232.875,{"$f":"HF2326","v":873.27276190476186},461.875,null,null,null,null,"Выносная линия32",null,{"$f":"HP2239","v":863},{"$f":"HO2263","v":297.875},{"$f":"HN2263","v":953},{"$f":"HO2327","v":297.875}]
[null,null,null,null,null,null,null,null,null,null,null,null,null,null,null,null,null,null,null,null,null,null,null,null,null,null,null,null,null,null,null,null,null,null,null,null,null,null,null,null,null,null,null,null,null,null,null,null,null,null,null,null,null,null,null,null,null,null,null,null,null,null,null,null,null,null,null,null,null,null,null,null,null,null,null,null,null,null,null,null,null,null,null,null,null,null,null,null,null,null,null,null,null,null,null,null,null,null,null,null,null,null,null,null,null,null,null,null,null,null,null,null,null,null,null,null,null,null,null,null,null,null,null,null,null,null,null,null,null,null,null,null,null,null,null,null,null,null,null,null,null,null,null,null,null,null,null,null,null,null,null,null,null,null,null,null,null,null,null,null,null,null,null,null,null,null,null,null,null,null,null,null,null,null,null,null,null,null,{"$f":"IF(GH2328-GG2328=0,90,DEGREES(ATAN('Исходные данные'!$F$30/(GH2328-GG2328))))","v":90},515.22119518872603,0.13156852163091701,47.364667787130124,515.22119518872603,0.13156852163091701,47.364667787130124,0,0,11,{"$f":"$GX$2312-GX2332","v":0},{"$f":"$GX$2313-GX2333","v":0},{"$f":"'Исходные данные'!$F$32/2/SIN(RADIANS(FW2328))","v":82},{"$f":"GI2328+SQRT('Исходные данные'!$F$30^2+(Чертёж!GH2328-Чертёж!GG2328)^2)","v":82},60.325722486524462,60.325722486524462,0,{"$f":"IF(GX2333<$HN$2320,0,1)","v":1},null,null,null,null,null,null,9,null,"Вершина",{"$f":"GX$2307-(GX$2307-GX$2310-(HF2326-GX$2310)*GX$2309/GX$2308)","v":873.27276190476186},461.875,9,null,null,1,{"$f":"HD2326","v":863},297.875,{"$f":"GX2307-((GX2307-GX2310-(HF2326-GX2310)*GX2309/GX2308)*('Исходные данные'!F32+'Исходные данные'!F30)/'Исходные данные'!F32)","v":873.27276190476186},461.875,null,null,null,null,"Выносная линия33",null,{"$f":"HN2327","v":863},{"$f":"HQ2263","v":461.875},{"$f":"HP2327","v":953},{"$f":"HO2328","v":461.875}]
[null,null,null,null,null,null,null,null,null,null,null,null,null,null,null,null,null,null,null,null,null,null,null,null,null,null,null,null,null,null,null,null,null,null,null,null,null,null,null,null,null,null,null,null,null,null,null,null,null,null,null,null,null,null,null,null,null,null,null,null,null,null,null,null,null,null,null,null,null,null,null,null,null,null,null,null,null,null,null,null,null,null,null,null,null,null,null,null,null,null,null,null,null,null,null,null,null,null,null,null,null,null,null,null,null,null,null,null,null,null,null,null,null,null,null,null,null,null,null,null,null,null,null,null,null,null,null,null,null,null,null,null,null,null,null,null,null,null,null,null,null,null,null,null,null,null,null,null,null,null,null,null,null,null,null,null,null,null,null,null,null,null,null,null,null,null,null,null,null,null,null,null,null,null,null,null,null,null,{"$f":"IF(GH2329-GG2329=0,90,DEGREES(ATAN('Исходные данные'!$F$30/(GH2329-GG2329))))","v":90},515.22119518872603,0.13156852163091701,47.364667787130124,515.22119518872603,0.13156852163091701,47.364667787130124,0,0,12,{"$f":"$GX$2312-GX2334","v":0},{"$f":"$GX$2313-GX2335","v":0},{"$f":"'Исходные данные'!$F$32/2/SIN(RADIANS(FW2329))","v":82},{"$f":"GI2329+SQRT('Исходные данные'!$F$30^2+(Чертёж!GH2329-Чертёж!GG2329)^2)","v":82},60.325722486524462,60.325722486524462,0,{"$f":"IF(GX2335<$HN$2320,0,1)","v":1},null,null,null,null,null,null,null,null,"Основание",{"$f":"IF(GX2328>GX$2310,GX2328,HF2328-(HF2328-HF2326)/5)","v":873.27276190476186},461.875,null,null,null,1,811,232.875,{"$f":"HF2328","v":873.27276190476186},461.875,null,null,null,"Видимая в диагональное зеркало часть трубы ","Линия 1",null,{"$f":"HP2203","v":823.52726578630416},{"$f":"HQ2203","v":359.34773421369579},{"$f":"HN2228","v":795},{"$f":"HO2228","v":232.875}]
[null,null,null,null,null,null,null,null,null,null,null,null,null,null,null,null,null,null,null,null,null,null,null,null,null,null,null,null,null,null,null,null,null,null,null,null,null,null,null,null,null,null,null,null,null,null,null,null,null,null,null,null,null,null,null,null,null,null,null,null,null,null,null,null,null,null,null,null,null,null,null,null,null,null,null,null,null,null,null,null,null,null,null,null,null,null,null,null,null,null,null,null,null,null,null,null,null,null,null,null,null,null,null,null,null,null,null,null,null,null,null,null,null,null,null,null,null,null,null,null,null,null,null,null,null,null,null,null,null,null,null,null,null,null,null,null,null,null,null,null,null,null,null,null,null,null,null,null,null,null,null,null,null,null,null,null,null,null,null,null,null,null,null,null,null,null,null,null,null,null,null,null,null,null,null,null,null,null,{"$f":"IF(GH2330-GG2330=0,90,DEGREES(ATAN('Исходные данные'!$F$30/(GH2330-GG2330))))","v":90},515.22119518872603,0.13156852163091701,47.364667787130124,515.22119518872603,0.13156852163091701,47.364667787130124,0,0,13,{"$f":"$GX$2312-GX2336","v":0},{"$f":"$GX$2313-GX2337","v":0},{"$f":"'Исходные данные'!$F$32/2/SIN(RADIANS(FW2330))","v":82},{"$f":"GI2330+SQRT('Исходные данные'!$F$30^2+(Чертёж!GH2330-Чертёж!GG2330)^2)","v":82},60.325722486524462,60.325722486524462,0,{"$f":"IF(GX2337<$HN$2320,0,1)","v":1},null,null,null,null,null,null,10,null,"Вершина",{"$f":"GX$2307-(GX$2307-GX$2310-(HF2328-GX$2310)*GX$2309/GX$2308)","v":873.27276190476186},461.875,10,null,null,1,863,297.875,{"$f":"GX2307-((GX2307-GX2310-(HF2328-GX2310)*GX2309/GX2308)*('Исходные данные'!F32+'Исходные данные'!F30)/'Исходные данные'!F32)","v":873.27276190476186},461.875,null,null,null,null,null,null,{"$f":"(('Исходные данные'!F34/2+'Исходные данные'!F18/2))/('Исходные данные'!$AN$12+'Исходные данные'!F18/2)*(HN2195+'Исходные данные'!F36-HP2204)","v":370.25829195734411},{"$f":"HO2195-'Исходные данные'!F34/2","v":295.875},{"$f":"HN2329","v":823.52726578630416},{"$f":"HO2329","v":359.34773421369579}]
[null,null,null,null,null,null,null,null,null,null,null,null,null,null,null,null,null,null,null,null,null,null,null,null,null,null,null,null,null,null,null,null,null,null,null,null,null,null,null,null,null,null,null,null,null,null,null,null,null,null,null,null,null,null,null,null,null,null,null,null,null,null,null,null,null,null,null,null,null,null,null,null,null,null,null,null,null,null,null,null,null,null,null,null,null,null,null,null,null,null,null,null,null,null,null,null,null,null,null,null,null,null,null,null,null,null,null,null,null,null,null,null,null,null,null,null,null,null,null,null,null,null,null,null,null,null,null,null,null,null,null,null,null,null,null,null,null,null,null,null,null,null,null,null,null,null,null,null,null,null,null,null,null,null,null,null,null,null,null,null,null,null,null,null,null,null,null,null,null,null,null,null,null,null,null,null,null,null,{"$f":"IF(GH2331-GG2331=0,90,DEGREES(ATAN('Исходные данные'!$F$30/(GH2331-GG2331))))","v":90},515.22119518872603,0.13156852163091701,47.364667787130124,515.22119518872603,0.13156852163091701,47.364667787130124,0,0,14,{"$f":"$GX$2312-GX2338","v":0},{"$f":"$GX$2313-GX2339","v":0},{"$f":"'Исходные данные'!$F$32/2/SIN(RADIANS(FW2331))","v":82},{"$f":"GI2331+SQRT('Исходные данные'!$F$30^2+(Чертёж!GH2331-Чертёж!GG2331)^2)","v":82},60.325722486524462,60.325722486524462,0,{"$f":"IF(GX2339<$HN$2320,0,1)","v":1},null,null,null,null,null,null,null,null,"Основание",{"$f":"IF(GX2330>GX$2310,GX2330,HF2330-(HF2330-HF2328)/5)","v":873.27276190476186},461.875,null,null,null,1,811,232.875,{"$f":"HF2330","v":873.27276190476186},461.875,null,null,null,null,"Линия 2",null,{"$f":"HP2204","v":778.52979822582301},{"$f":"HQ2204","v":404.34520177417699},{"$f":"HP2228","v":811},{"$f":"HQ2329","v":232.875}]
[null,null,null,null,null,null,null,null,null,null,null,null,null,null,null,null,null,null,null,null,null,null,null,null,null,null,null,null,null,null,null,null,null,null,null,null,null,null,null,null,null,null,null,null,null,null,null,null,null,null,null,null,null,null,null,null,null,null,null,null,null,null,null,null,null,null,null,null,null,null,null,null,null,null,null,null,null,null,null,null,null,null,null,null,null,null,null,null,null,null,null,null,null,null,null,null,null,null,null,null,null,null,null,null,null,null,null,null,null,null,null,null,null,null,null,null,null,null,null,null,null,null,null,null,null,null,null,null,null,null,null,null,null,null,null,null,null,null,null,null,null,null,null,null,null,null,null,null,null,null,null,null,null,null,null,null,null,null,null,null,null,null,null,null,null,null,null,null,null,null,null,null,null,null,null,null,null,null,{"$f":"IF(GH2332-GG2332=0,90,DEGREES(ATAN('Исходные данные'!$F$30/(GH2332-GG2332))))","v":90},515.22119518872603,0.13156852163091701,47.364667787130124,515.22119518872603,0.13156852163091701,47.364667787130124,0,0,15,{"$f":"$GX$2312-GX2340","v":0},{"$f":"$GX$2313-GX2341","v":0},{"$f":"'Исходные данные'!$F$32/2/SIN(RADIANS(FW2332))","v":82},{"$f":"GI2332+SQRT('Исходные данные'!$F$30^2+(Чертёж!GH2332-Чертёж!GG2332)^2)","v":82},60.325722486524462,60.325722486524462,0,{"$f":"IF(GX2341<$HN$2320,0,1)","v":1},null,null,null,null,null,null,11,null,"Вершина",{"$f":"GX$2307-(GX$2307-GX$2310-(HF2330-GX$2310)*GX$2309/GX$2308)","v":873.27276190476186},461.875,11,null,null,1,863,297.875,{"$f":"GX2307-((GX2307-GX2310-(HF2330-GX2310)*GX2309/GX2308)*('Исходные данные'!F32+'Исходные данные'!F30)/'Исходные данные'!F32)","v":873.27276190476186},461.875,null,null,null,null,null,null,{"$f":"(('Исходные данные'!F34/2+'Исходные данные'!F18/2))/('Исходные данные'!$AN$10+'Исходные данные'!F18/2)*(HN2195+'Исходные данные'!F36-HP2203)","v":314.21850207458601},{"$f":"HO2195+'Исходные данные'!F34/2","v":463.875},{"$f":"HN2331","v":778.52979822582301},{"$f":"HO2331","v":404.34520177417699}]
[null,null,null,null,null,null,null,null,null,null,null,null,null,null,null,null,null,null,null,null,null,null,null,null,null,null,null,null,null,null,null,null,null,null,null,null,null,null,null,null,null,null,null,null,null,null,null,null,null,null,null,null,null,null,null,null,null,null,null,null,null,null,null,null,null,null,null,null,null,null,null,null,null,null,null,null,null,null,null,null,null,null,null,null,null,null,null,null,null,null,null,null,null,null,null,null,null,null,null,null,null,null,null,null,null,null,null,null,null,null,null,null,null,null,null,null,null,null,null,null,null,null,null,null,null,null,null,null,null,null,null,null,null,null,null,null,null,null,null,null,null,null,null,null,null,null,null,null,null,null,null,null,null,null,null,null,null,null,null,null,null,null,null,null,null,null,null,null,null,null,null,null,null,null,null,null,null,null,{"$f":"IF(GH2333-GG2333=0,90,DEGREES(ATAN('Исходные данные'!$F$30/(GH2333-GG2333))))","v":90},515.22119518872603,0.13156852163091701,47.364667787130124,515.22119518872603,0.13156852163091701,47.364667787130124,0,0,16,{"$f":"$GX$2312-GX2342","v":0},{"$f":"$GX$2313-GX2343","v":0},{"$f":"'Исходные данные'!$F$32/2/SIN(RADIANS(FW2333))","v":82},{"$f":"GI2333+SQRT('Исходные данные'!$F$30^2+(Чертёж!GH2333-Чертёж!GG2333)^2)","v":82},60.325722486524462,60.325722486524462,0,{"$f":"IF(GX2343<$HN$2320,0,1)","v":1},null,null,null,null,null,null,null,null,"Основание",{"$f":"IF(GX2332>GX$2310,GX2332,HF2332-(HF2332-HF2330)/5)","v":873.27276190476186},461.875,null,null,null,1,811,232.875,{"$f":"HF2332","v":873.27276190476186},461.875,null,null,null,null,"Стрелка 21",null,{"$f":"HN2195-'Исходные данные'!F14","v":150},{"$f":"HO2239+30","v":574.875},{"$f":"HN2332","v":314.21850207458601},{"$f":"HO2333","v":574.875}]
[null,null,null,null,null,null,null,null,null,null,null,null,null,null,null,null,null,null,null,null,null,null,null,null,null,null,null,null,null,null,null,null,null,null,null,null,null,null,null,null,null,null,null,null,null,null,null,null,null,null,null,null,null,null,null,null,null,null,null,null,null,null,null,null,null,null,null,null,null,null,null,null,null,null,null,null,null,null,null,null,null,null,null,null,null,null,null,null,null,null,null,null,null,null,null,null,null,null,null,null,null,null,null,null,null,null,null,null,null,null,null,null,null,null,null,null,null,null,null,null,null,null,null,null,null,null,null,null,null,null,null,null,null,null,null,null,null,null,null,null,null,null,null,null,null,null,null,null,null,null,null,null,null,null,null,null,null,null,null,null,null,null,null,null,null,null,null,null,null,null,null,null,null,null,null,null,null,null,{"$f":"IF(GH2334-GG2334=0,90,DEGREES(ATAN('Исходные данные'!$F$30/(GH2334-GG2334))))","v":90},515.22119518872603,0.13156852163091701,47.364667787130124,515.22119518872603,0.13156852163091701,47.364667787130124,0,0,17,{"$f":"$GX$2312-GX2344","v":0},{"$f":"$GX$2313-GX2345","v":0},{"$f":"'Исходные данные'!$F$32/2/SIN(RADIANS(FW2334))","v":82},{"$f":"GI2334+SQRT('Исходные данные'!$F$30^2+(Чертёж!GH2334-Чертёж!GG2334)^2)","v":82},60.325722486524462,60.325722486524462,0,{"$f":"IF(GX2345<$HN$2320,0,1)","v":1},null,null,null,null,null,null,12,null,"Вершина",{"$f":"GX$2307-(GX$2307-GX$2310-(HF2332-GX$2310)*GX$2309/GX$2308)","v":873.27276190476186},461.875,12,null,null,1,863,297.875,{"$f":"GX2307-((GX2307-GX2310-(HF2332-GX2310)*GX2309/GX2308)*('Исходные данные'!F32+'Исходные данные'!F30)/'Исходные данные'!F32)","v":873.27276190476186},461.875,null,null,null,null,"Размер 21",null,{"$f":"HN2333+HR2334/2-HP2334/2","v":207.10925103729301},{"$f":"HO2333-20","v":554.875},50,20,{"$f":"HP2333-HN2333","v":164.21850207458601}]
[null,null,null,null,null,null,null,null,null,null,null,null,null,null,null,null,null,null,null,null,null,null,null,null,null,null,null,null,null,null,null,null,null,null,null,null,null,null,null,null,null,null,null,null,null,null,null,null,null,null,null,null,null,null,null,null,null,null,null,null,null,null,null,null,null,null,null,null,null,null,null,null,null,null,null,null,null,null,null,null,null,null,null,null,null,null,null,null,null,null,null,null,null,null,null,null,null,null,null,null,null,null,null,null,null,null,null,null,null,null,null,null,null,null,null,null,null,null,null,null,null,null,null,null,null,null,null,null,null,null,null,null,null,null,null,null,null,null,null,null,null,null,null,null,null,null,null,null,null,null,null,null,null,null,null,null,null,null,null,null,null,null,null,null,null,null,null,null,null,null,null,null,null,null,null,null,null,null,{"$f":"IF(GH2335-GG2335=0,90,DEGREES(ATAN('Исходные данные'!$F$30/(GH2335-GG2335))))","v":90},515.22119518872603,0.13156852163091701,47.364667787130124,515.22119518872603,0.13156852163091701,47.364667787130124,0,0,18,{"$f":"$GX$2312-GX2346","v":0},{"$f":"$GX$2313-GX2347","v":0},{"$f":"'Исходные данные'!$F$32/2/SIN(RADIANS(FW2335))","v":82},{"$f":"GI2335+SQRT('Исходные данные'!$F$30^2+(Чертёж!GH2335-Чертёж!GG2335)^2)","v":82},60.325722486524462,60.325722486524462,0,{"$f":"IF(GX2347<$HN$2320,0,1)","v":1},null,null,null,null,null,null,null,null,"Основание",{"$f":"IF(GX2334>GX$2310,GX2334,HF2334-(HF2334-HF2332)/5)","v":873.27276190476186},461.875,null,null,null,1,811,232.875,{"$f":"HF2334","v":873.27276190476186},461.875,null,null,null,null,"Стрелка 22",null,{"$f":"HN2333","v":150},{"$f":"HO2217-50","v":242.875},{"$f":"HN2330","v":370.25829195734411},{"$f":"HO2335","v":242.875}]
[null,null,null,null,null,null,null,null,null,null,null,null,null,null,null,null,null,null,null,null,null,null,null,null,null,null,null,null,null,null,null,null,null,null,null,null,null,null,null,null,null,null,null,null,null,null,null,null,null,null,null,null,null,null,null,null,null,null,null,null,null,null,null,null,null,null,null,null,null,null,null,null,null,null,null,null,null,null,null,null,null,null,null,null,null,null,null,null,null,null,null,null,null,null,null,null,null,null,null,null,null,null,null,null,null,null,null,null,null,null,null,null,null,null,null,null,null,null,null,null,null,null,null,null,null,null,null,null,null,null,null,null,null,null,null,null,null,null,null,null,null,null,null,null,null,null,null,null,null,null,null,null,null,null,null,null,null,null,null,null,null,null,null,null,null,null,null,null,null,null,null,null,null,null,null,null,null,null,{"$f":"IF(GH2336-GG2336=0,90,DEGREES(ATAN('Исходные данные'!$F$30/(GH2336-GG2336))))","v":90},515.22119518872603,0.13156852163091701,47.364667787130124,515.22119518872603,0.13156852163091701,47.364667787130124,0,0,19,{"$f":"$GX$2312-GX2348","v":0},{"$f":"$GX$2313-GX2349","v":0},{"$f":"'Исходные данные'!$F$32/2/SIN(RADIANS(FW2336))","v":82},{"$f":"GI2336+SQRT('Исходные данные'!$F$30^2+(Чертёж!GH2336-Чертёж!GG2336)^2)","v":82},60.325722486524462,60.325722486524462,0,{"$f":"IF(GX2349<$HN$2320,0,1)","v":1},null,null,null,null,null,null,13,null,"Вершина",{"$f":"GX$2307-(GX$2307-GX$2310-(HF2334-GX$2310)*GX$2309/GX$2308)","v":873.27276190476186},461.875,13,null,null,1,863,297.875,{"$f":"GX2307-((GX2307-GX2310-(HF2334-GX2310)*GX2309/GX2308)*('Исходные данные'!F32+'Исходные данные'!F30)/'Исходные данные'!F32)","v":873.27276190476186},461.875,null,null,null,null,"Размер 22",null,{"$f":"HN2335+HR2336/2-HP2336/2","v":235.12914597867206},{"$f":"HO2335-20","v":222.875},50,20,{"$f":"HP2335-HN2335","v":220.25829195734411}]
[null,null,null,null,null,null,null,null,null,null,null,null,null,null,null,null,null,null,null,null,null,null,null,null,null,null,null,null,null,null,null,null,null,null,null,null,null,null,null,null,null,null,null,null,null,null,null,null,null,null,null,null,null,null,null,null,null,null,null,null,null,null,null,null,null,null,null,null,null,null,null,null,null,null,null,null,null,null,null,null,null,null,null,null,null,null,null,null,null,null,null,null,null,null,null,null,null,null,null,null,null,null,null,null,null,null,null,null,null,null,null,null,null,null,null,null,null,null,null,null,null,null,null,null,null,null,null,null,null,null,null,null,null,null,null,null,null,null,null,null,null,null,null,null,null,null,null,null,null,null,null,null,null,null,null,null,null,null,null,null,null,null,null,null,null,null,null,null,null,null,null,null,null,null,null,null,null,null,{"$f":"IF(GH2337-GG2337=0,90,DEGREES(ATAN('Исходные данные'!$F$30/(GH2337-GG2337))))","v":90},515.22119518872603,0.13156852163091701,47.364667787130124,515.22119518872603,0.13156852163091701,47.364667787130124,0,0,20,{"$f":"$GX$2312-GX2350","v":0},{"$f":"$GX$2313-GX2351","v":0},{"$f":"'Исходные данные'!$F$32/2/SIN(RADIANS(FW2337))","v":82},{"$f":"GI2337+SQRT('Исходные данные'!$F$30^2+(Чертёж!GH2337-Чертёж!GG2337)^2)","v":82},60.325722486524462,60.325722486524462,0,{"$f":"IF(GX2351<$HN$2320,0,1)","v":1},null,null,null,null,null,null,null,null,"Основание",{"$f":"IF(GX2336>GX$2310,GX2336,HF2336-(HF2336-HF2334)/5)","v":873.27276190476186},461.875,null,null,null,1,811,232.875,{"$f":"HF2336","v":873.27276190476186},461.875,null,null,null,null,"Выносная линия34",null,{"$f":"HN2335","v":150},{"$f":"HO2335","v":242.875},{"$f":"HN2337","v":150},{"$f":"HO2333","v":574.875}]
[null,null,null,null,null,null,null,null,null,null,null,null,null,null,null,null,null,null,null,null,null,null,null,null,null,null,null,null,null,null,null,null,null,null,null,null,null,null,null,null,null,null,null,null,null,null,null,null,null,null,null,null,null,null,null,null,null,null,null,null,null,null,null,null,null,null,null,null,null,null,null,null,null,null,null,null,null,null,null,null,null,null,null,null,null,null,null,null,null,null,null,null,null,null,null,null,null,null,null,null,null,null,null,null,null,null,null,null,null,null,null,null,null,null,null,null,null,null,null,null,null,null,null,null,null,null,null,null,null,null,null,null,null,null,null,null,null,null,null,null,null,null,null,null,null,null,null,null,null,null,null,null,null,null,null,null,null,null,null,null,null,null,null,null,null,null,null,null,null,null,null,null,null,null,null,null,null,null,{"$f":"IF(GH2338-GG2338=0,90,DEGREES(ATAN('Исходные данные'!$F$30/(GH2338-GG2338))))","v":90},515.22119518872603,0.13156852163091701,47.364667787130124,515.22119518872603,0.13156852163091701,47.364667787130124,0,0,21,{"$f":"$GX$2312-GX2352","v":0},{"$f":"$GX$2313-GX2353","v":0},{"$f":"'Исходные данные'!$F$32/2/SIN(RADIANS(FW2338))","v":82},{"$f":"GI2338+SQRT('Исходные данные'!$F$30^2+(Чертёж!GH2338-Чертёж!GG2338)^2)","v":82},60.325722486524462,60.325722486524462,0,{"$f":"IF(GX2353<$HN$2320,0,1)","v":1},null,null,null,null,null,null,14,null,"Вершина",{"$f":"GX$2307-(GX$2307-GX$2310-(HF2336-GX$2310)*GX$2309/GX$2308)","v":873.27276190476186},461.875,14,null,null,1,863,297.875,{"$f":"GX2307-((GX2307-GX2310-(HF2336-GX2310)*GX2309/GX2308)*('Исходные данные'!F32+'Исходные данные'!F30)/'Исходные данные'!F32)","v":873.27276190476186},461.875,null,null,null,null,"Выносная линия35",null,{"$f":"HP2335","v":370.25829195734411},{"$f":"HO2330","v":295.875},{"$f":"HN2338","v":370.25829195734411},{"$f":"HQ2335","v":242.875}]
[null,null,null,null,null,null,null,null,null,null,null,null,null,null,null,null,null,null,null,null,null,null,null,null,null,null,null,null,null,null,null,null,null,null,null,null,null,null,null,null,null,null,null,null,null,null,null,null,null,null,null,null,null,null,null,null,null,null,null,null,null,null,null,null,null,null,null,null,null,null,null,null,null,null,null,null,null,null,null,null,null,null,null,null,null,null,null,null,null,null,null,null,null,null,null,null,null,null,null,null,null,null,null,null,null,null,null,null,null,null,null,null,null,null,null,null,null,null,null,null,null,null,null,null,null,null,null,null,null,null,null,null,null,null,null,null,null,null,null,null,null,null,null,null,null,null,null,null,null,null,null,null,null,null,null,null,null,null,null,null,null,null,null,null,null,null,null,null,null,null,null,null,null,null,null,null,null,null,{"$f":"IF(GH2339-GG2339=0,90,DEGREES(ATAN('Исходные данные'!$F$30/(GH2339-GG2339))))","v":90},515.22119518872603,0.13156852163091701,47.364667787130124,515.22119518872603,0.13156852163091701,47.364667787130124,0,0,22,{"$f":"$GX$2312-GX2354","v":0},{"$f":"$GX$2313-GX2355","v":0},{"$f":"'Исходные данные'!$F$32/2/SIN(RADIANS(FW2339))","v":82},{"$f":"GI2339+SQRT('Исходные данные'!$F$30^2+(Чертёж!GH2339-Чертёж!GG2339)^2)","v":82},60.325722486524462,60.325722486524462,0,{"$f":"IF(GX2355<$HN$2320,0,1)","v":1},null,null,null,null,null,null,null,null,"Основание",{"$f":"IF(GX2338>GX$2310,GX2338,HF2338-(HF2338-HF2336)/5)","v":873.27276190476186},461.875,null,null,null,1,811,232.875,{"$f":"HF2338","v":873.27276190476186},461.875,null,null,null,null,"Выносная линия36",null,{"$f":"HP2333","v":314.21850207458601},{"$f":"HO2332","v":463.875},{"$f":"HN2339","v":314.21850207458601},{"$f":"HQ2333","v":574.875}]
[null,null,null,null,null,null,null,null,null,null,null,null,null,null,null,null,null,null,null,null,null,null,null,null,null,null,null,null,null,null,null,null,null,null,null,null,null,null,null,null,null,null,null,null,null,null,null,null,null,null,null,null,null,null,null,null,null,null,null,null,null,null,null,null,null,null,null,null,null,null,null,null,null,null,null,null,null,null,null,null,null,null,null,null,null,null,null,null,null,null,null,null,null,null,null,null,null,null,null,null,null,null,null,null,null,null,null,null,null,null,null,null,null,null,null,null,null,null,null,null,null,null,null,null,null,null,null,null,null,null,null,null,null,null,null,null,null,null,null,null,null,null,null,null,null,null,null,null,null,null,null,null,null,null,null,null,null,null,null,null,null,null,null,null,null,null,null,null,null,null,null,null,null,null,null,null,null,null,{"$f":"IF(GH2340-GG2340=0,90,DEGREES(ATAN('Исходные данные'!$F$30/(GH2340-GG2340))))","v":90},515.22119518872603,0.13156852163091701,47.364667787130124,515.22119518872603,0.13156852163091701,47.364667787130124,0,0,23,{"$f":"$GX$2312-GX2356","v":0},{"$f":"$GX$2313-GX2357","v":0},{"$f":"'Исходные данные'!$F$32/2/SIN(RADIANS(FW2340))","v":82},{"$f":"GI2340+SQRT('Исходные данные'!$F$30^2+(Чертёж!GH2340-Чертёж!GG2340)^2)","v":82},60.325722486524462,60.325722486524462,0,{"$f":"IF(GX2357<$HN$2320,0,1)","v":1},null,null,null,null,null,null,15,null,"Вершина",{"$f":"GX$2307-(GX$2307-GX$2310-(HF2338-GX$2310)*GX$2309/GX$2308)","v":873.27276190476186},461.875,15,null,null,1,863,297.875,{"$f":"GX2307-((GX2307-GX2310-(HF2338-GX2310)*GX2309/GX2308)*('Исходные данные'!F32+'Исходные данные'!F30)/'Исходные данные'!F32)","v":873.27276190476186},461.875,null,null,null,"Размеры ширины области диафрагмирования ","Стрелка 23",null,{"$f":"HN2195+'Исходные данные'!F60+60","v":923},{"$f":"HO2195+'Исходные данные'!F32/2","v":461.875},{"$f":"HN2340","v":923},{"$f":"HO2340+'Исходные данные'!F30","v":461.875}]
[null,null,null,null,null,null,null,null,null,null,null,null,null,null,null,null,null,null,null,null,null,null,null,null,null,null,null,null,null,null,null,null,null,null,null,null,null,null,null,null,null,null,null,null,null,null,null,null,null,null,null,null,null,null,null,null,null,null,null,null,null,null,null,null,null,null,null,null,null,null,null,null,null,null,null,null,null,null,null,null,null,null,null,null,null,null,null,null,null,null,null,null,null,null,null,null,null,null,null,null,null,null,null,null,null,null,null,null,null,null,null,null,null,null,null,null,null,null,null,null,null,null,null,null,null,null,null,null,null,null,null,null,null,null,null,null,null,null,null,null,null,null,null,null,null,null,null,null,null,null,null,null,null,null,null,null,null,null,null,null,null,null,null,null,null,null,null,null,null,null,null,null,null,null,null,null,null,null,{"$f":"IF(GH2341-GG2341=0,90,DEGREES(ATAN('Исходные данные'!$F$30/(GH2341-GG2341))))","v":90},515.22119518872603,0.13156852163091701,47.364667787130124,515.22119518872603,0.13156852163091701,47.364667787130124,0,0,24,{"$f":"$GX$2312-GX2358","v":0},{"$f":"$GX$2313-GX2359","v":0},{"$f":"'Исходные данные'!$F$32/2/SIN(RADIANS(FW2341))","v":82},{"$f":"GI2341+SQRT('Исходные данные'!$F$30^2+(Чертёж!GH2341-Чертёж!GG2341)^2)","v":82},60.325722486524462,60.325722486524462,0,{"$f":"IF(GX2359<$HN$2320,0,1)","v":1},null,null,null,null,null,null,null,null,"Основание",{"$f":"IF(GX2340>GX$2310,GX2340,HF2340-(HF2340-HF2338)/5)","v":873.27276190476186},461.875,null,null,null,1,811,232.875,{"$f":"HF2340","v":873.27276190476186},461.875,null,null,null,null,"Размер 23",null,{"$f":"HN2256","v":895},{"$f":"HO2340+(HQ2340-HO2342)/2-HP2341/2","v":450.875},20,50,{"$f":"HQ2342-HO2342","v":-2}]
[null,null,null,null,null,null,null,null,null,null,null,null,null,null,null,null,null,null,null,null,null,null,null,null,null,null,null,null,null,null,null,null,null,null,null,null,null,null,null,null,null,null,null,null,null,null,null,null,null,null,null,null,null,null,null,null,null,null,null,null,null,null,null,null,null,null,null,null,null,null,null,null,null,null,null,null,null,null,null,null,null,null,null,null,null,null,null,null,null,null,null,null,null,null,null,null,null,null,null,null,null,null,null,null,null,null,null,null,null,null,null,null,null,null,null,null,null,null,null,null,null,null,null,null,null,null,null,null,null,null,null,null,null,null,null,null,null,null,null,null,null,null,null,null,null,null,null,null,null,null,null,null,null,null,null,null,null,null,null,null,null,null,null,null,null,null,null,null,null,null,null,null,null,null,null,null,null,null,{"$f":"IF(GH2342-GG2342=0,90,DEGREES(ATAN('Исходные данные'!$F$30/(GH2342-GG2342))))","v":90},515.22119518872603,0.13156852163091701,47.364667787130124,515.22119518872603,0.13156852163091701,47.364667787130124,0,0,25,{"$f":"$GX$2312-GX2360","v":0},{"$f":"$GX$2313-GX2361","v":0},{"$f":"'Исходные данные'!$F$32/2/SIN(RADIANS(FW2342))","v":82},{"$f":"GI2342+SQRT('Исходные данные'!$F$30^2+(Чертёж!GH2342-Чертёж!GG2342)^2)","v":82},60.325722486524462,60.325722486524462,0,{"$f":"IF(GX2361<$HN$2320,0,1)","v":1},null,null,null,null,null,null,16,null,"Вершина",{"$f":"GX$2307-(GX$2307-GX$2310-(HF2340-GX$2310)*GX$2309/GX$2308)","v":873.27276190476186},461.875,16,null,null,1,863,297.875,{"$f":"GX2307-((GX2307-GX2310-(HF2340-GX2310)*GX2309/GX2308)*('Исходные данные'!F32+'Исходные данные'!F30)/'Исходные данные'!F32)","v":873.27276190476186},461.875,null,null,null,null,"Стрелка 24",null,{"$f":"HN2340-30","v":893},{"$f":"HO2216","v":463.875},{"$f":"HN2342","v":893},{"$f":"HQ2340","v":461.875}]
[null,null,null,null,null,null,null,null,null,null,null,null,null,null,null,null,null,null,null,null,null,null,null,null,null,null,null,null,null,null,null,null,null,null,null,null,null,null,null,null,null,null,null,null,null,null,null,null,null,null,null,null,null,null,null,null,null,null,null,null,null,null,null,null,null,null,null,null,null,null,null,null,null,null,null,null,null,null,null,null,null,null,null,null,null,null,null,null,null,null,null,null,null,null,null,null,null,null,null,null,null,null,null,null,null,null,null,null,null,null,null,null,null,null,null,null,null,null,null,null,null,null,null,null,null,null,null,null,null,null,null,null,null,null,null,null,null,null,null,null,null,null,null,null,null,null,null,null,null,null,null,null,null,null,null,null,null,null,null,null,null,null,null,null,null,null,null,null,null,null,null,null,null,null,null,null,null,null,{"$f":"IF(GH2343-GG2343=0,90,DEGREES(ATAN('Исходные данные'!$F$30/(GH2343-GG2343))))","v":90},515.22119518872603,0.13156852163091701,47.364667787130124,515.22119518872603,0.13156852163091701,47.364667787130124,0,0,26,{"$f":"$GX$2312-GX2362","v":0},{"$f":"$GX$2313-GX2363","v":0},{"$f":"'Исходные данные'!$F$32/2/SIN(RADIANS(FW2343))","v":82},{"$f":"GI2343+SQRT('Исходные данные'!$F$30^2+(Чертёж!GH2343-Чертёж!GG2343)^2)","v":82},60.325722486524462,60.325722486524462,0,{"$f":"IF(GX2363<$HN$2320,0,1)","v":1},null,null,null,null,null,null,null,null,"Основание",{"$f":"IF(GX2342>GX$2310,GX2342,HF2342-(HF2342-HF2340)/5)","v":873.27276190476186},461.875,null,null,null,1,811,232.875,{"$f":"HF2342","v":873.27276190476186},461.875,null,null,null,null,"Размер 24",null,{"$f":"HN2260","v":925},{"$f":"HO2342+(HQ2342-HO2340)/2-HQ2343/2","v":438.875},{"$f":"HP2341","v":20},{"$f":"HQ2341","v":50},{"$f":"HQ2340-HO2340","v":0}]
[null,null,null,null,null,null,null,null,null,null,null,null,null,null,null,null,null,null,null,null,null,null,null,null,null,null,null,null,null,null,null,null,null,null,null,null,null,null,null,null,null,null,null,null,null,null,null,null,null,null,null,null,null,null,null,null,null,null,null,null,null,null,null,null,null,null,null,null,null,null,null,null,null,null,null,null,null,null,null,null,null,null,null,null,null,null,null,null,null,null,null,null,null,null,null,null,null,null,null,null,null,null,null,null,null,null,null,null,null,null,null,null,null,null,null,null,null,null,null,null,null,null,null,null,null,null,null,null,null,null,null,null,null,null,null,null,null,null,null,null,null,null,null,null,null,null,null,null,null,null,null,null,null,null,null,null,null,null,null,null,null,null,null,null,null,null,null,null,null,null,null,null,null,null,null,null,null,null,{"$f":"IF(GH2344-GG2344=0,90,DEGREES(ATAN('Исходные данные'!$F$30/(GH2344-GG2344))))","v":90},515.22119518872603,0.13156852163091701,47.364667787130124,515.22119518872603,0.13156852163091701,47.364667787130124,0,0,27,{"$f":"$GX$2312-GX2364","v":0},{"$f":"$GX$2313-GX2365","v":0},{"$f":"'Исходные данные'!$F$32/2/SIN(RADIANS(FW2344))","v":82},{"$f":"GI2344+SQRT('Исходные данные'!$F$30^2+(Чертёж!GH2344-Чертёж!GG2344)^2)","v":82},60.325722486524462,60.325722486524462,0,{"$f":"IF(GX2365<$HN$2320,0,1)","v":1},null,null,null,null,null,null,17,null,"Вершина",{"$f":"GX$2307-(GX$2307-GX$2310-(HF2342-GX$2310)*GX$2309/GX$2308)","v":873.27276190476186},461.875,17,null,null,1,863,297.875,{"$f":"GX2307-((GX2307-GX2310-(HF2342-GX2310)*GX2309/GX2308)*('Исходные данные'!F32+'Исходные данные'!F30)/'Исходные данные'!F32)","v":873.27276190476186},461.875,null,null,null,null,"Выносная линия37",null,{"$f":"HN2195+'Исходные данные'!F60","v":863},{"$f":"HQ2342","v":461.875},{"$f":"HN2344+60","v":923},{"$f":"HO2344","v":461.875}]
[null,null,null,null,null,null,null,null,null,null,null,null,null,null,null,null,null,null,null,null,null,null,null,null,null,null,null,null,null,null,null,null,null,null,null,null,null,null,null,null,null,null,null,null,null,null,null,null,null,null,null,null,null,null,null,null,null,null,null,null,null,null,null,null,null,null,null,null,null,null,null,null,null,null,null,null,null,null,null,null,null,null,null,null,null,null,null,null,null,null,null,null,null,null,null,null,null,null,null,null,null,null,null,null,null,null,null,null,null,null,null,null,null,null,null,null,null,null,null,null,null,null,null,null,null,null,null,null,null,null,null,null,null,null,null,null,null,null,null,null,null,null,null,null,null,null,null,null,null,null,null,null,null,null,null,null,null,null,null,null,null,null,null,null,null,null,null,null,null,null,null,null,null,null,null,null,null,null,{"$f":"IF(GH2345-GG2345=0,90,DEGREES(ATAN('Исходные данные'!$F$30/(GH2345-GG2345))))","v":90},515.22119518872603,0.13156852163091701,47.364667787130124,515.22119518872603,0.13156852163091701,47.364667787130124,0,0,28,{"$f":"$GX$2312-GX2366","v":0},{"$f":"$GX$2313-GX2367","v":0},{"$f":"'Исходные данные'!$F$32/2/SIN(RADIANS(FW2345))","v":82},{"$f":"GI2345+SQRT('Исходные данные'!$F$30^2+(Чертёж!GH2345-Чертёж!GG2345)^2)","v":82},60.325722486524462,60.325722486524462,0,{"$f":"IF(GX2367<$HN$2320,0,1)","v":1},null,null,null,null,null,null,null,null,"Основание",{"$f":"IF(GX2344>GX$2310,GX2344,HF2344-(HF2344-HF2342)/5)","v":873.27276190476186},461.875,null,null,null,1,811,232.875,{"$f":"HF2344","v":873.27276190476186},461.875,null,null,null,null,"Выносная линия38",null,{"$f":"HN2344","v":863},{"$f":"HO2342","v":463.875},{"$f":"HN2345+30","v":893},{"$f":"HO2345","v":463.875}]
[null,null,null,null,null,null,null,null,null,null,null,null,null,null,null,null,null,null,null,null,null,null,null,null,null,null,null,null,null,null,null,null,null,null,null,null,null,null,null,null,null,null,null,null,null,null,null,null,null,null,null,null,null,null,null,null,null,null,null,null,null,null,null,null,null,null,null,null,null,null,null,null,null,null,null,null,null,null,null,null,null,null,null,null,null,null,null,null,null,null,null,null,null,null,null,null,null,null,null,null,null,null,null,null,null,null,null,null,null,null,null,null,null,null,null,null,null,null,null,null,null,null,null,null,null,null,null,null,null,null,null,null,null,null,null,null,null,null,null,null,null,null,null,null,null,null,null,null,null,null,null,null,null,null,null,null,null,null,null,null,null,null,null,null,null,null,null,null,null,null,null,null,null,null,null,null,null,null,{"$f":"IF(GH2346-GG2346=0,90,DEGREES(ATAN('Исходные данные'!$F$30/(GH2346-GG2346))))","v":90},515.22119518872603,0.13156852163091701,47.364667787130124,515.22119518872603,0.13156852163091701,47.364667787130124,0,0,29,{"$f":"$GX$2312-GX2368","v":0},{"$f":"$GX$2313-GX2369","v":0},{"$f":"'Исходные данные'!$F$32/2/SIN(RADIANS(FW2346))","v":82},{"$f":"GI2346+SQRT('Исходные данные'!$F$30^2+(Чертёж!GH2346-Чертёж!GG2346)^2)","v":82},60.325722486524462,60.325722486524462,0,{"$f":"IF(GX2369<$HN$2320,0,1)","v":1},null,null,null,null,null,null,18,null,"Вершина",{"$f":"GX$2307-(GX$2307-GX$2310-(HF2344-GX$2310)*GX$2309/GX$2308)","v":873.27276190476186},461.875,18,null,null,1,863,297.875,{"$f":"GX2307-((GX2307-GX2310-(HF2344-GX2310)*GX2309/GX2308)*('Исходные данные'!F32+'Исходные данные'!F30)/'Исходные данные'!F32)","v":873.27276190476186},461.875]
[null,null,null,null,null,null,null,null,null,null,null,null,null,null,null,null,null,null,null,null,null,null,null,null,null,null,null,null,null,null,null,null,null,null,null,null,null,null,null,null,null,null,null,null,null,null,null,null,null,null,null,null,null,null,null,null,null,null,null,null,null,null,null,null,null,null,null,null,null,null,null,null,null,null,null,null,null,null,null,null,null,null,null,null,null,null,null,null,null,null,null,null,null,null,null,null,null,null,null,null,null,null,null,null,null,null,null,null,null,null,null,null,null,null,null,null,null,null,null,null,null,null,null,null,null,null,null,null,null,null,null,null,null,null,null,null,null,null,null,null,null,null,null,null,null,null,null,null,null,null,null,null,null,null,null,null,null,null,null,null,null,null,null,null,null,null,null,null,null,null,null,null,null,null,null,null,null,null,{"$f":"IF(GH2347-GG2347=0,90,DEGREES(ATAN('Исходные данные'!$F$30/(GH2347-GG2347))))","v":90},515.22119518872603,0.13156852163091701,47.364667787130124,515.22119518872603,0.13156852163091701,47.364667787130124,0,0,30,{"$f":"$GX$2312-GX2370","v":0},{"$f":"$GX$2313-GX2371","v":0},{"$f":"'Исходные данные'!$F$32/2/SIN(RADIANS(FW2347))","v":82},{"$f":"GI2347+SQRT('Исходные данные'!$F$30^2+(Чертёж!GH2347-Чертёж!GG2347)^2)","v":82},60.325722486524462,60.325722486524462,0,{"$f":"IF(GX2371<$HN$2320,0,1)","v":1},null,null,null,null,null,null,null,null,"Основание",{"$f":"IF(GX2346>GX$2310,GX2346,HF2346-(HF2346-HF2344)/5)","v":873.27276190476186},461.875,null,null,null,1,811,232.875,{"$f":"HF2346","v":873.27276190476186},461.875]
[null,null,null,null,null,null,null,null,null,null,null,null,null,null,null,null,null,null,null,null,null,null,null,null,null,null,null,null,null,null,null,null,null,null,null,null,null,null,null,null,null,null,null,null,null,null,null,null,null,null,null,null,null,null,null,null,null,null,null,null,null,null,null,null,null,null,null,null,null,null,null,null,null,null,null,null,null,null,null,null,null,null,null,null,null,null,null,null,null,null,null,null,null,null,null,null,null,null,null,null,null,null,null,null,null,null,null,null,null,null,null,null,null,null,null,null,null,null,null,null,null,null,null,null,null,null,null,null,null,null,null,null,null,null,null,null,null,null,null,null,null,null,null,null,null,null,null,null,null,null,null,null,null,null,null,null,null,null,null,null,null,null,null,null,null,null,null,null,null,null,null,null,null,null,null,null,null,null,{"$f":"IF(GH2348-GG2348=0,90,DEGREES(ATAN('Исходные данные'!$F$30/(GH2348-GG2348))))","v":90},515.22119518872603,0.13156852163091701,47.364667787130124,515.22119518872603,0.13156852163091701,47.364667787130124,0,0,31,{"$f":"$GX$2312-GX2372","v":0},{"$f":"$GX$2313-GX2373","v":0},{"$f":"'Исходные данные'!$F$32/2/SIN(RADIANS(FW2348))","v":82},{"$f":"GI2348+SQRT('Исходные данные'!$F$30^2+(Чертёж!GH2348-Чертёж!GG2348)^2)","v":82},60.325722486524462,60.325722486524462,0,{"$f":"IF(GX2373<$HN$2320,0,1)","v":1},null,null,null,null,null,null,19,null,"Вершина",{"$f":"GX$2307-(GX$2307-GX$2310-(HF2346-GX$2310)*GX$2309/GX$2308)","v":873.27276190476186},461.875,19,null,null,1,863,297.875,{"$f":"GX2307-((GX2307-GX2310-(HF2346-GX2310)*GX2309/GX2308)*('Исходные данные'!F32+'Исходные данные'!F30)/'Исходные данные'!F32)","v":873.27276190476186},461.875]
[null,null,null,null,null,null,null,null,null,null,null,null,null,null,null,null,null,null,null,null,null,null,null,null,null,null,null,null,null,null,null,null,null,null,null,null,null,null,null,null,null,null,null,null,null,null,null,null,null,null,null,null,null,null,null,null,null,null,null,null,null,null,null,null,null,null,null,null,null,null,null,null,null,null,null,null,null,null,null,null,null,null,null,null,null,null,null,null,null,null,null,null,null,null,null,null,null,null,null,null,null,null,null,null,null,null,null,null,null,null,null,null,null,null,null,null,null,null,null,null,null,null,null,null,null,null,null,null,null,null,null,null,null,null,null,null,null,null,null,null,null,null,null,null,null,null,null,null,null,null,null,null,null,null,null,null,null,null,null,null,null,null,null,null,null,null,null,null,null,null,null,null,null,null,null,null,null,null,{"$f":"IF(GH2349-GG2349=0,90,DEGREES(ATAN('Исходные данные'!$F$30/(GH2349-GG2349))))","v":90},515.22119518872603,0.13156852163091701,47.364667787130124,515.22119518872603,0.13156852163091701,47.364667787130124,0,0,32,{"$f":"$GX$2312-GX2374","v":0},{"$f":"$GX$2313-GX2375","v":0},{"$f":"'Исходные данные'!$F$32/2/SIN(RADIANS(FW2349))","v":82},{"$f":"GI2349+SQRT('Исходные данные'!$F$30^2+(Чертёж!GH2349-Чертёж!GG2349)^2)","v":82},60.325722486524462,60.325722486524462,0,{"$f":"IF(GX2375<$HN$2320,0,1)","v":1},null,null,null,null,null,null,null,null,"Основание",{"$f":"IF(GX2348>GX$2310,GX2348,HF2348-(HF2348-HF2346)/5)","v":873.27276190476186},461.875,null,null,null,1,811,232.875,{"$f":"HF2348","v":873.27276190476186},461.875]
[null,null,null,null,null,null,null,null,null,null,null,null,null,null,null,null,null,null,null,null,null,null,null,null,null,null,null,null,null,null,null,null,null,null,null,null,null,null,null,null,null,null,null,null,null,null,null,null,null,null,null,null,null,null,null,null,null,null,null,null,null,null,null,null,null,null,null,null,null,null,null,null,null,null,null,null,null,null,null,null,null,null,null,null,null,null,null,null,null,null,null,null,null,null,null,null,null,null,null,null,null,null,null,null,null,null,null,null,null,null,null,null,null,null,null,null,null,null,null,null,null,null,null,null,null,null,null,null,null,null,null,null,null,null,null,null,null,null,null,null,null,null,null,null,null,null,null,null,null,null,null,null,null,null,null,null,null,null,null,null,null,null,null,null,null,null,null,null,null,null,null,null,null,null,null,null,null,null,{"$f":"IF(GH2350-GG2350=0,90,DEGREES(ATAN('Исходные данные'!$F$30/(GH2350-GG2350))))","v":90},515.22119518872603,0.13156852163091701,47.364667787130124,515.22119518872603,0.13156852163091701,47.364667787130124,0,0,33,{"$f":"$GX$2312-GX2376","v":0},{"$f":"$GX$2313-GX2377","v":0},{"$f":"'Исходные данные'!$F$32/2/SIN(RADIANS(FW2350))","v":82},{"$f":"GI2350+SQRT('Исходные данные'!$F$30^2+(Чертёж!GH2350-Чертёж!GG2350)^2)","v":82},60.325722486524462,60.325722486524462,0,{"$f":"IF(GX2377<$HN$2320,0,1)","v":1},null,null,null,null,null,null,20,null,"Вершина",{"$f":"GX$2307-(GX$2307-GX$2310-(HF2348-GX$2310)*GX$2309/GX$2308)","v":873.27276190476186},461.875,20,null,null,1,863,297.875,{"$f":"GX2307-((GX2307-GX2310-(HF2348-GX2310)*GX2309/GX2308)*('Исходные данные'!F32+'Исходные данные'!F30)/'Исходные данные'!F32)","v":873.27276190476186},461.875]
[null,null,null,null,null,null,null,null,null,null,null,null,null,null,null,null,null,null,null,null,null,null,null,null,null,null,null,null,null,null,null,null,null,null,null,null,null,null,null,null,null,null,null,null,null,null,null,null,null,null,null,null,null,null,null,null,null,null,null,null,null,null,null,null,null,null,null,null,null,null,null,null,null,null,null,null,null,null,null,null,null,null,null,null,null,null,null,null,null,null,null,null,null,null,null,null,null,null,null,null,null,null,null,null,null,null,null,null,null,null,null,null,null,null,null,null,null,null,null,null,null,null,null,null,null,null,null,null,null,null,null,null,null,null,null,null,null,null,null,null,null,null,null,null,null,null,null,null,null,null,null,null,null,null,null,null,null,null,null,null,null,null,null,null,null,null,null,null,null,null,null,null,null,null,null,null,null,null,{"$f":"IF(GH2351-GG2351=0,90,DEGREES(ATAN('Исходные данные'!$F$30/(GH2351-GG2351))))","v":90},515.22119518872603,0.13156852163091701,47.364667787130124,515.22119518872603,0.13156852163091701,47.364667787130124,0,0,34,{"$f":"$GX$2312-GX2378","v":0},{"$f":"$GX$2313-GX2379","v":0},{"$f":"'Исходные данные'!$F$32/2/SIN(RADIANS(FW2351))","v":82},{"$f":"GI2351+SQRT('Исходные данные'!$F$30^2+(Чертёж!GH2351-Чертёж!GG2351)^2)","v":82},60.325722486524462,60.325722486524462,0,{"$f":"IF(GX2379<$HN$2320,0,1)","v":1},null,null,null,null,null,null,null,null,"Основание",{"$f":"IF(GX2350>GX$2310,GX2350,HF2350-(HF2350-HF2348)/5)","v":873.27276190476186},461.875,null,null,null,1,811,232.875,{"$f":"HF2350","v":873.27276190476186},461.875]
[null,null,null,null,null,null,null,null,null,null,null,null,null,null,null,null,null,null,null,null,null,null,null,null,null,null,null,null,null,null,null,null,null,null,null,null,null,null,null,null,null,null,null,null,null,null,null,null,null,null,null,null,null,null,null,null,null,null,null,null,null,null,null,null,null,null,null,null,null,null,null,null,null,null,null,null,null,null,null,null,null,null,null,null,null,null,null,null,null,null,null,null,null,null,null,null,null,null,null,null,null,null,null,null,null,null,null,null,null,null,null,null,null,null,null,null,null,null,null,null,null,null,null,null,null,null,null,null,null,null,null,null,null,null,null,null,null,null,null,null,null,null,null,null,null,null,null,null,null,null,null,null,null,null,null,null,null,null,null,null,null,null,null,null,null,null,null,null,null,null,null,null,null,null,null,null,null,null,{"$f":"IF(GH2352-GG2352=0,90,DEGREES(ATAN('Исходные данные'!$F$30/(GH2352-GG2352))))","v":90},515.22119518872603,0.13156852163091701,47.364667787130124,515.22119518872603,0.13156852163091701,47.364667787130124,0,0,35,{"$f":"$GX$2312-GX2380","v":0},{"$f":"$GX$2313-GX2381","v":0},{"$f":"'Исходные данные'!$F$32/2/SIN(RADIANS(FW2352))","v":82},{"$f":"GI2352+SQRT('Исходные данные'!$F$30^2+(Чертёж!GH2352-Чертёж!GG2352)^2)","v":82},60.325722486524462,60.325722486524462,0,{"$f":"IF(GX2381<$HN$2320,0,1)","v":1},null,null,null,null,null,null,21,null,"Вершина",{"$f":"GX$2307-(GX$2307-GX$2310-(HF2350-GX$2310)*GX$2309/GX$2308)","v":873.27276190476186},461.875,21,null,null,1,863,297.875,{"$f":"GX2307-((GX2307-GX2310-(HF2350-GX2310)*GX2309/GX2308)*('Исходные данные'!F32+'Исходные данные'!F30)/'Исходные данные'!F32)","v":873.27276190476186},461.875]
[null,null,null,null,null,null,null,null,null,null,null,null,null,null,null,null,null,null,null,null,null,null,null,null,null,null,null,null,null,null,null,null,null,null,null,null,null,null,null,null,null,null,null,null,null,null,null,null,null,null,null,null,null,null,null,null,null,null,null,null,null,null,null,null,null,null,null,null,null,null,null,null,null,null,null,null,null,null,null,null,null,null,null,null,null,null,null,null,null,null,null,null,null,null,null,null,null,null,null,null,null,null,null,null,null,null,null,null,null,null,null,null,null,null,null,null,null,null,null,null,null,null,null,null,null,null,null,null,null,null,null,null,null,null,null,null,null,null,null,null,null,null,null,null,null,null,null,null,null,null,null,null,null,null,null,null,null,null,null,null,null,null,null,null,null,null,null,null,null,null,null,null,null,null,null,null,null,null,{"$f":"IF(GH2353-GG2353=0,90,DEGREES(ATAN('Исходные данные'!$F$30/(GH2353-GG2353))))","v":90},515.22119518872603,0.13156852163091701,47.364667787130124,515.22119518872603,0.13156852163091701,47.364667787130124,0,0,36,{"$f":"$GX$2312-GX2382","v":0},{"$f":"$GX$2313-GX2383","v":0},{"$f":"'Исходные данные'!$F$32/2/SIN(RADIANS(FW2353))","v":82},{"$f":"GI2353+SQRT('Исходные данные'!$F$30^2+(Чертёж!GH2353-Чертёж!GG2353)^2)","v":82},60.325722486524462,60.325722486524462,0,{"$f":"IF(GX2383<$HN$2320,0,1)","v":1},null,null,null,null,null,null,null,null,"Основание",{"$f":"IF(GX2352>GX$2310,GX2352,HF2352-(HF2352-HF2350)/5)","v":873.27276190476186},461.875,null,null,null,1,811,232.875,{"$f":"HF2352","v":873.27276190476186},461.875]
[null,null,null,null,null,null,null,null,null,null,null,null,null,null,null,null,null,null,null,null,null,null,null,null,null,null,null,null,null,null,null,null,null,null,null,null,null,null,null,null,null,null,null,null,null,null,null,null,null,null,null,null,null,null,null,null,null,null,null,null,null,null,null,null,null,null,null,null,null,null,null,null,null,null,null,null,null,null,null,null,null,null,null,null,null,null,null,null,null,null,null,null,null,null,null,null,null,null,null,null,null,null,null,null,null,null,null,null,null,null,null,null,null,null,null,null,null,null,null,null,null,null,null,null,null,null,null,null,null,null,null,null,null,null,null,null,null,null,null,null,null,null,null,null,null,null,null,null,null,null,null,null,null,null,null,null,null,null,null,null,null,null,null,null,null,null,null,null,null,null,null,null,null,null,null,null,null,null,{"$f":"IF(GH2354-GG2354=0,90,DEGREES(ATAN('Исходные данные'!$F$30/(GH2354-GG2354))))","v":90},515.22119518872603,0.13156852163091701,47.364667787130124,515.22119518872603,0.13156852163091701,47.364667787130124,0,0,37,{"$f":"$GX$2312-GX2384","v":0},{"$f":"$GX$2313-GX2385","v":0},{"$f":"'Исходные данные'!$F$32/2/SIN(RADIANS(FW2354))","v":82},{"$f":"GI2354+SQRT('Исходные данные'!$F$30^2+(Чертёж!GH2354-Чертёж!GG2354)^2)","v":82},60.325722486524462,60.325722486524462,0,{"$f":"IF(GX2385<$HN$2320,0,1)","v":1},null,null,null,null,null,null,22,null,"Вершина",{"$f":"GX$2307-(GX$2307-GX$2310-(HF2352-GX$2310)*GX$2309/GX$2308)","v":873.27276190476186},461.875,22,null,null,1,863,297.875,{"$f":"GX2307-((GX2307-GX2310-(HF2352-GX2310)*GX2309/GX2308)*('Исходные данные'!F32+'Исходные данные'!F30)/'Исходные данные'!F32)","v":873.27276190476186},461.875]
[null,null,null,null,null,null,null,null,null,null,null,null,null,null,null,null,null,null,null,null,null,null,null,null,null,null,null,null,null,null,null,null,null,null,null,null,null,null,null,null,null,null,null,null,null,null,null,null,null,null,null,null,null,null,null,null,null,null,null,null,null,null,null,null,null,null,null,null,null,null,null,null,null,null,null,null,null,null,null,null,null,null,null,null,null,null,null,null,null,null,null,null,null,null,null,null,null,null,null,null,null,null,null,null,null,null,null,null,null,null,null,null,null,null,null,null,null,null,null,null,null,null,null,null,null,null,null,null,null,null,null,null,null,null,null,null,null,null,null,null,null,null,null,null,null,null,null,null,null,null,null,null,null,null,null,null,null,null,null,null,null,null,null,null,null,null,null,null,null,null,null,null,null,null,null,null,null,null,{"$f":"IF(GH2355-GG2355=0,90,DEGREES(ATAN('Исходные данные'!$F$30/(GH2355-GG2355))))","v":90},515.22119518872603,0.13156852163091701,47.364667787130124,515.22119518872603,0.13156852163091701,47.364667787130124,0,0,38,{"$f":"$GX$2312-GX2386","v":0},{"$f":"$GX$2313-GX2387","v":0},{"$f":"'Исходные данные'!$F$32/2/SIN(RADIANS(FW2355))","v":82},{"$f":"GI2355+SQRT('Исходные данные'!$F$30^2+(Чертёж!GH2355-Чертёж!GG2355)^2)","v":82},60.325722486524462,60.325722486524462,0,{"$f":"IF(GX2387<$HN$2320,0,1)","v":1},null,null,null,null,null,null,null,null,"Основание",{"$f":"IF(GX2354>GX$2310,GX2354,HF2354-(HF2354-HF2352)/5)","v":873.27276190476186},461.875,null,null,null,1,811,232.875,{"$f":"HF2354","v":873.27276190476186},461.875]
[null,null,null,null,null,null,null,null,null,null,null,null,null,null,null,null,null,null,null,null,null,null,null,null,null,null,null,null,null,null,null,null,null,null,null,null,null,null,null,null,null,null,null,null,null,null,null,null,null,null,null,null,null,null,null,null,null,null,null,null,null,null,null,null,null,null,null,null,null,null,null,null,null,null,null,null,null,null,null,null,null,null,null,null,null,null,null,null,null,null,null,null,null,null,null,null,null,null,null,null,null,null,null,null,null,null,null,null,null,null,null,null,null,null,null,null,null,null,null,null,null,null,null,null,null,null,null,null,null,null,null,null,null,null,null,null,null,null,null,null,null,null,null,null,null,null,null,null,null,null,null,null,null,null,null,null,null,null,null,null,null,null,null,null,null,null,null,null,null,null,null,null,null,null,null,null,null,null,{"$f":"IF(GH2356-GG2356=0,90,DEGREES(ATAN('Исходные данные'!$F$30/(GH2356-GG2356))))","v":90},515.22119518872603,0.13156852163091701,47.364667787130124,515.22119518872603,0.13156852163091701,47.364667787130124,0,0,39,{"$f":"$GX$2312-GX2388","v":0},{"$f":"$GX$2313-GX2389","v":0},{"$f":"'Исходные данные'!$F$32/2/SIN(RADIANS(FW2356))","v":82},{"$f":"GI2356+SQRT('Исходные данные'!$F$30^2+(Чертёж!GH2356-Чертёж!GG2356)^2)","v":82},60.325722486524462,60.325722486524462,0,{"$f":"IF(GX2389<$HN$2320,0,1)","v":1},null,null,null,null,null,null,23,null,"Вершина",{"$f":"GX$2307-(GX$2307-GX$2310-(HF2354-GX$2310)*GX$2309/GX$2308)","v":873.27276190476186},461.875,23,null,null,1,863,297.875,{"$f":"GX2307-((GX2307-GX2310-(HF2354-GX2310)*GX2309/GX2308)*('Исходные данные'!F32+'Исходные данные'!F30)/'Исходные данные'!F32)","v":873.27276190476186},461.875]
[null,null,null,null,null,null,null,null,null,null,null,null,null,null,null,null,null,null,null,null,null,null,null,null,null,null,null,null,null,null,null,null,null,null,null,null,null,null,null,null,null,null,null,null,null,null,null,null,null,null,null,null,null,null,null,null,null,null,null,null,null,null,null,null,null,null,null,null,null,null,null,null,null,null,null,null,null,null,null,null,null,null,null,null,null,null,null,null,null,null,null,null,null,null,null,null,null,null,null,null,null,null,null,null,null,null,null,null,null,null,null,null,null,null,null,null,null,null,null,null,null,null,null,null,null,null,null,null,null,null,null,null,null,null,null,null,null,null,null,null,null,null,null,null,null,null,null,null,null,null,null,null,null,null,null,null,null,null,null,null,null,null,null,null,null,null,null,null,null,null,null,null,null,null,null,null,null,null,{"$f":"IF(GH2357-GG2357=0,90,DEGREES(ATAN('Исходные данные'!$F$30/(GH2357-GG2357))))","v":90},515.22119518872603,0.13156852163091701,47.364667787130124,515.22119518872603,0.13156852163091701,47.364667787130124,0,0,40,{"$f":"$GX$2312-GX2390","v":0},{"$f":"$GX$2313-GX2391","v":0},{"$f":"'Исходные данные'!$F$32/2/SIN(RADIANS(FW2357))","v":82},{"$f":"GI2357+SQRT('Исходные данные'!$F$30^2+(Чертёж!GH2357-Чертёж!GG2357)^2)","v":82},60.325722486524462,60.325722486524462,0,{"$f":"IF(GX2391<$HN$2320,0,1)","v":1},null,null,null,null,null,null,null,null,"Основание",{"$f":"IF(GX2356>GX$2310,GX2356,HF2356-(HF2356-HF2354)/5)","v":873.27276190476186},461.875,null,null,null,1,811,232.875,{"$f":"HF2356","v":873.27276190476186},461.875]
[null,null,null,null,null,null,null,null,null,null,null,null,null,null,null,null,null,null,null,null,null,null,null,null,null,null,null,null,null,null,null,null,null,null,null,null,null,null,null,null,null,null,null,null,null,null,null,null,null,null,null,null,null,null,null,null,null,null,null,null,null,null,null,null,null,null,null,null,null,null,null,null,null,null,null,null,null,null,null,null,null,null,null,null,null,null,null,null,null,null,null,null,null,null,null,null,null,null,null,null,null,null,null,null,null,null,null,null,null,null,null,null,null,null,null,null,null,null,null,null,null,null,null,null,null,null,null,null,null,null,null,null,null,null,null,null,null,null,null,null,null,null,null,null,null,null,null,null,null,null,null,null,null,null,null,null,null,null,null,null,null,null,null,null,null,null,null,null,null,null,null,null,null,null,null,null,null,null,{"$f":"IF(GH2358-GG2358=0,90,DEGREES(ATAN('Исходные данные'!$F$30/(GH2358-GG2358))))","v":90},515.22119518872603,0.13156852163091701,47.364667787130124,515.22119518872603,0.13156852163091701,47.364667787130124,0,0,41,{"$f":"$GX$2312-GX2392","v":0},{"$f":"$GX$2313-GX2393","v":0},{"$f":"'Исходные данные'!$F$32/2/SIN(RADIANS(FW2358))","v":82},{"$f":"GI2358+SQRT('Исходные данные'!$F$30^2+(Чертёж!GH2358-Чертёж!GG2358)^2)","v":82},60.325722486524462,60.325722486524462,0,{"$f":"IF(GX2393<$HN$2320,0,1)","v":1},null,null,null,null,null,null,24,null,"Вершина",{"$f":"GX$2307-(GX$2307-GX$2310-(HF2356-GX$2310)*GX$2309/GX$2308)","v":873.27276190476186},461.875,24,null,null,1,863,297.875,{"$f":"GX2307-((GX2307-GX2310-(HF2356-GX2310)*GX2309/GX2308)*('Исходные данные'!F32+'Исходные данные'!F30)/'Исходные данные'!F32)","v":873.27276190476186},461.875]
[null,null,null,null,null,null,null,null,null,null,null,null,null,null,null,null,null,null,null,null,null,null,null,null,null,null,null,null,null,null,null,null,null,null,null,null,null,null,null,null,null,null,null,null,null,null,null,null,null,null,null,null,null,null,null,null,null,null,null,null,null,null,null,null,null,null,null,null,null,null,null,null,null,null,null,null,null,null,null,null,null,null,null,null,null,null,null,null,null,null,null,null,null,null,null,null,null,null,null,null,null,null,null,null,null,null,null,null,null,null,null,null,null,null,null,null,null,null,null,null,null,null,null,null,null,null,null,null,null,null,null,null,null,null,null,null,null,null,null,null,null,null,null,null,null,null,null,null,null,null,null,null,null,null,null,null,null,null,null,null,null,null,null,null,null,null,null,null,null,null,null,null,null,null,null,null,null,null,{"$f":"IF(GH2359-GG2359=0,90,DEGREES(ATAN('Исходные данные'!$F$30/(GH2359-GG2359))))","v":90},515.22119518872603,0.13156852163091701,47.364667787130124,515.22119518872603,0.13156852163091701,47.364667787130124,0,0,42,{"$f":"$GX$2312-GX2394","v":0},{"$f":"$GX$2313-GX2395","v":0},{"$f":"'Исходные данные'!$F$32/2/SIN(RADIANS(FW2359))","v":82},{"$f":"GI2359+SQRT('Исходные данные'!$F$30^2+(Чертёж!GH2359-Чертёж!GG2359)^2)","v":82},60.325722486524462,60.325722486524462,0,{"$f":"IF(GX2395<$HN$2320,0,1)","v":1},null,null,null,null,null,null,null,null,"Основание",{"$f":"IF(GX2358>GX$2310,GX2358,HF2358-(HF2358-HF2356)/5)","v":873.27276190476186},461.875,null,null,null,1,811,232.875,{"$f":"HF2358","v":873.27276190476186},461.875]
[null,null,null,null,null,null,null,null,null,null,null,null,null,null,null,null,null,null,null,null,null,null,null,null,null,null,null,null,null,null,null,null,null,null,null,null,null,null,null,null,null,null,null,null,null,null,null,null,null,null,null,null,null,null,null,null,null,null,null,null,null,null,null,null,null,null,null,null,null,null,null,null,null,null,null,null,null,null,null,null,null,null,null,null,null,null,null,null,null,null,null,null,null,null,null,null,null,null,null,null,null,null,null,null,null,null,null,null,null,null,null,null,null,null,null,null,null,null,null,null,null,null,null,null,null,null,null,null,null,null,null,null,null,null,null,null,null,null,null,null,null,null,null,null,null,null,null,null,null,null,null,null,null,null,null,null,null,null,null,null,null,null,null,null,null,null,null,null,null,null,null,null,null,null,null,null,null,null,{"$f":"IF(GH2360-GG2360=0,90,DEGREES(ATAN('Исходные данные'!$F$30/(GH2360-GG2360))))","v":90},515.22119518872603,0.13156852163091701,47.364667787130124,515.22119518872603,0.13156852163091701,47.364667787130124,0,0,43,{"$f":"$GX$2312-GX2396","v":0},{"$f":"$GX$2313-GX2397","v":0},{"$f":"'Исходные данные'!$F$32/2/SIN(RADIANS(FW2360))","v":82},{"$f":"GI2360+SQRT('Исходные данные'!$F$30^2+(Чертёж!GH2360-Чертёж!GG2360)^2)","v":82},60.325722486524462,60.325722486524462,0,{"$f":"IF(GX2397<$HN$2320,0,1)","v":1},null,null,null,null,null,null,25,null,"Вершина",{"$f":"GX$2307-(GX$2307-GX$2310-(HF2358-GX$2310)*GX$2309/GX$2308)","v":873.27276190476186},461.875,25,null,null,1,863,297.875,{"$f":"GX2307-((GX2307-GX2310-(HF2358-GX2310)*GX2309/GX2308)*('Исходные данные'!F32+'Исходные данные'!F30)/'Исходные данные'!F32)","v":873.27276190476186},461.875,null,null,null,null,"Вид А-А"]
[null,null,null,null,null,null,null,null,null,null,null,null,null,null,null,null,null,null,null,null,null,null,null,null,null,null,null,null,null,null,null,null,null,null,null,null,null,null,null,null,null,null,null,null,null,null,null,null,null,null,null,null,null,null,null,null,null,null,null,null,null,null,null,null,null,null,null,null,null,null,null,null,null,null,null,null,null,null,null,null,null,null,null,null,null,null,null,null,null,null,null,null,null,null,null,null,null,null,null,null,null,null,null,null,null,null,null,null,null,null,null,null,null,null,null,null,null,null,null,null,null,null,null,null,null,null,null,null,null,null,null,null,null,null,null,null,null,null,null,null,null,null,null,null,null,null,null,null,null,null,null,null,null,null,null,null,null,null,null,null,null,null,null,null,null,null,null,null,null,null,null,null,null,null,null,null,null,null,{"$f":"IF(GH2361-GG2361=0,90,DEGREES(ATAN('Исходные данные'!$F$30/(GH2361-GG2361))))","v":90},515.22119518872603,0.13156852163091701,47.364667787130124,515.22119518872603,0.13156852163091701,47.364667787130124,0,0,44,{"$f":"$GX$2312-GX2398","v":0},{"$f":"$GX$2313-GX2399","v":0},{"$f":"'Исходные данные'!$F$32/2/SIN(RADIANS(FW2361))","v":82},{"$f":"GI2361+SQRT('Исходные данные'!$F$30^2+(Чертёж!GH2361-Чертёж!GG2361)^2)","v":82},60.325722486524462,60.325722486524462,0,{"$f":"IF(GX2399<$HN$2320,0,1)","v":1},null,null,null,null,null,null,null,null,"Основание",{"$f":"IF(GX2360>GX$2310,GX2360,HF2360-(HF2360-HF2358)/5)","v":873.27276190476186},461.875,null,null,null,1,811,232.875,{"$f":"HF2360","v":873.27276190476186},461.875,null,null,null,null,null,null,"X","Y","Ширина","Высота"]
[null,null,null,null,null,null,null,null,null,null,null,null,null,null,null,null,null,null,null,null,null,null,null,null,null,null,null,null,null,null,null,null,null,null,null,null,null,null,null,null,null,null,null,null,null,null,null,null,null,null,null,null,null,null,null,null,null,null,null,null,null,null,null,null,null,null,null,null,null,null,null,null,null,null,null,null,null,null,null,null,null,null,null,null,null,null,null,null,null,null,null,null,null,null,null,null,null,null,null,null,null,null,null,null,null,null,null,null,null,null,null,null,null,null,null,null,null,null,null,null,null,null,null,null,null,null,null,null,null,null,null,null,null,null,null,null,null,null,null,null,null,null,null,null,null,null,null,null,null,null,null,null,null,null,null,null,null,null,null,null,null,null,null,null,null,null,null,null,null,null,null,null,null,null,null,null,null,null,{"$f":"IF(GH2362-GG2362=0,90,DEGREES(ATAN('Исходные данные'!$F$30/(GH2362-GG2362))))","v":90},515.22119518872603,0.13156852163091701,47.364667787130124,515.22119518872603,0.13156852163091701,47.364667787130124,0,0,45,{"$f":"$GX$2312-GX2400","v":0},{"$f":"$GX$2313-GX2401","v":0},{"$f":"'Исходные данные'!$F$32/2/SIN(RADIANS(FW2362))","v":82},{"$f":"GI2362+SQRT('Исходные данные'!$F$30^2+(Чертёж!GH2362-Чертёж!GG2362)^2)","v":82},60.325722486524462,60.325722486524462,0,{"$f":"IF(GX2405<$HN$2320,0,1)","v":1},null,null,null,null,null,null,26,null,"Вершина",{"$f":"GX$2307-(GX$2307-GX$2310-(HF2360-GX$2310)*GX$2309/GX$2308)","v":873.27276190476186},461.875,26,null,null,1,863,297.875,{"$f":"GX2307-((GX2307-GX2310-(HF2360-GX2310)*GX2309/GX2308)*('Исходные данные'!F32+'Исходные данные'!F30)/'Исходные данные'!F32)","v":873.27276190476186},461.875,null,null,null,null,"Вид А-А (линия нижняя)",null,{"$f":"HN2342","v":893},{"$f":"HO2240","v":524.875},4,30]
[null,null,null,null,null,null,null,null,null,null,null,null,null,null,null,null,null,null,null,null,null,null,null,null,null,null,null,null,null,null,null,null,null,null,null,null,null,null,null,null,null,null,null,null,null,null,null,null,null,null,null,null,null,null,null,null,null,null,null,null,null,null,null,null,null,null,null,null,null,null,null,null,null,null,null,null,null,null,null,null,null,null,null,null,null,null,null,null,null,null,null,null,null,null,null,null,null,null,null,null,null,null,null,null,null,null,null,null,null,null,null,null,null,null,null,null,null,null,null,null,null,null,null,null,null,null,null,null,null,null,null,null,null,null,null,null,null,null,null,null,null,null,null,null,null,null,null,null,null,null,null,null,null,null,null,null,null,null,null,null,null,null,null,null,null,null,null,null,null,null,null,null,null,null,null,null,null,null,{"$f":"IF(GH2363-GG2363=0,90,DEGREES(ATAN('Исходные данные'!$F$30/(GH2363-GG2363))))","v":90},515.22119518872603,0.13156852163091701,47.364667787130124,515.22119518872603,0.13156852163091701,47.364667787130124,0,0,46,{"$f":"$GX$2312-GX2402","v":0},{"$f":"$GX$2313-GX2403","v":0},{"$f":"'Исходные данные'!$F$32/2/SIN(RADIANS(FW2363))","v":82},{"$f":"GI2363+SQRT('Исходные данные'!$F$30^2+(Чертёж!GH2363-Чертёж!GG2363)^2)","v":82},60.325722486524462,60.325722486524462,0,{"$f":"IF(GX2407<$HN$2320,0,1)","v":1},null,null,null,null,null,null,null,null,"Основание",{"$f":"IF(GX2362>GX$2310,GX2362,HF2362-(HF2362-HF2360)/5)","v":873.27276190476186},461.875,null,null,null,1,811,232.875,{"$f":"HF2362","v":873.27276190476186},461.875,null,null,null,null,"Вид А-А (линия верхняя)",null,{"$f":"HN2362","v":893},{"$f":"HO2253","v":157.875},4,30]
[null,null,null,null,null,null,null,null,null,null,null,null,null,null,null,null,null,null,null,null,null,null,null,null,null,null,null,null,null,null,null,null,null,null,null,null,null,null,null,null,null,null,null,null,null,null,null,null,null,null,null,null,null,null,null,null,null,null,null,null,null,null,null,null,null,null,null,null,null,null,null,null,null,null,null,null,null,null,null,null,null,null,null,null,null,null,null,null,null,null,null,null,null,null,null,null,null,null,null,null,null,null,null,null,null,null,null,null,null,null,null,null,null,null,null,null,null,null,null,null,null,null,null,null,null,null,null,null,null,null,null,null,null,null,null,null,null,null,null,null,null,null,null,null,null,null,null,null,null,null,null,null,null,null,null,null,null,null,null,null,null,null,null,null,null,null,null,null,null,null,null,null,null,null,null,null,null,null,{"$f":"IF(GH2364-GG2364=0,90,DEGREES(ATAN('Исходные данные'!$F$30/(GH2364-GG2364))))","v":90},515.22119518872603,0.13156852163091701,47.364667787130124,515.22119518872603,0.13156852163091701,47.364667787130124,0,0,47,{"$f":"$GX$2312-GX2404","v":0},{"$f":"$GX$2313-GX2405","v":0},{"$f":"'Исходные данные'!$F$32/2/SIN(RADIANS(FW2364))","v":82},{"$f":"GI2364+SQRT('Исходные данные'!$F$30^2+(Чертёж!GH2364-Чертёж!GG2364)^2)","v":82},60.325722486524462,60.325722486524462,0,{"$f":"IF(GX2409<$HN$2320,0,1)","v":1},null,null,null,null,null,null,27,null,"Вершина",{"$f":"GX$2307-(GX$2307-GX$2310-(HF2362-GX$2310)*GX$2309/GX$2308)","v":873.27276190476186},461.875,27,null,null,1,863,297.875,{"$f":"GX2307-((GX2307-GX2310-(HF2362-GX2310)*GX2309/GX2308)*('Исходные данные'!F32+'Исходные данные'!F30)/'Исходные данные'!F32)","v":873.27276190476186},461.875,null,null,null,null,"Стрелка (нижняя)",null,{"$f":"HN2362+HP2362","v":897},{"$f":"HO2362+15","v":539.875},{"$f":"HN2364+30+HP2362","v":931},{"$f":"HO2364","v":539.875}]
[null,null,null,null,null,null,null,null,null,null,null,null,null,null,null,null,null,null,null,null,null,null,null,null,null,null,null,null,null,null,null,null,null,null,null,null,null,null,null,null,null,null,null,null,null,null,null,null,null,null,null,null,null,null,null,null,null,null,null,null,null,null,null,null,null,null,null,null,null,null,null,null,null,null,null,null,null,null,null,null,null,null,null,null,null,null,null,null,null,null,null,null,null,null,null,null,null,null,null,null,null,null,null,null,null,null,null,null,null,null,null,null,null,null,null,null,null,null,null,null,null,null,null,null,null,null,null,null,null,null,null,null,null,null,null,null,null,null,null,null,null,null,null,null,null,null,null,null,null,null,null,null,null,null,null,null,null,null,null,null,null,null,null,null,null,null,null,null,null,null,null,null,null,null,null,null,null,null,{"$f":"IF(GH2365-GG2365=0,90,DEGREES(ATAN('Исходные данные'!$F$30/(GH2365-GG2365))))","v":90},515.22119518872603,0.13156852163091701,47.364667787130124,515.22119518872603,0.13156852163091701,47.364667787130124,0,0,48,{"$f":"$GX$2312-GX2406","v":0},{"$f":"$GX$2313-GX2407","v":0},{"$f":"'Исходные данные'!$F$32/2/SIN(RADIANS(FW2365))","v":82},{"$f":"GI2365+SQRT('Исходные данные'!$F$30^2+(Чертёж!GH2365-Чертёж!GG2365)^2)","v":82},60.325722486524462,60.325722486524462,0,{"$f":"IF(GX2411<$HN$2320,0,1)","v":1},null,null,null,null,null,null,null,null,"Основание",{"$f":"IF(GX2364>GX$2310,GX2364,HF2364-(HF2364-HF2362)/5)","v":873.27276190476186},461.875,null,null,null,1,811,232.875,{"$f":"HF2364","v":873.27276190476186},461.875,null,null,null,null,"Стрелка (верхняя)",null,{"$f":"HN2363+HP2363","v":897},{"$f":"HO2363+15","v":172.875},{"$f":"HN2365+30+HP2363","v":931},{"$f":"HO2365","v":172.875}]
[null,null,null,null,null,null,null,null,null,null,null,null,null,null,null,null,null,null,null,null,null,null,null,null,null,null,null,null,null,null,null,null,null,null,null,null,null,null,null,null,null,null,null,null,null,null,null,null,null,null,null,null,null,null,null,null,null,null,null,null,null,null,null,null,null,null,null,null,null,null,null,null,null,null,null,null,null,null,null,null,null,null,null,null,null,null,null,null,null,null,null,null,null,null,null,null,null,null,null,null,null,null,null,null,null,null,null,null,null,null,null,null,null,null,null,null,null,null,null,null,null,null,null,null,null,null,null,null,null,null,null,null,null,null,null,null,null,null,null,null,null,null,null,null,null,null,null,null,null,null,null,null,null,null,null,null,null,null,null,null,null,null,null,null,null,null,null,null,null,null,null,null,null,null,null,null,null,null,{"$f":"IF(GH2366-GG2366=0,90,DEGREES(ATAN('Исходные данные'!$F$30/(GH2366-GG2366))))","v":90},515.22119518872603,0.13156852163091701,47.364667787130124,515.22119518872603,0.13156852163091701,47.364667787130124,0,0,49,{"$f":"$GX$2312-GX2408","v":0},{"$f":"$GX$2313-GX2409","v":0},{"$f":"'Исходные данные'!$F$32/2/SIN(RADIANS(FW2366))","v":82},{"$f":"GI2366+SQRT('Исходные данные'!$F$30^2+(Чертёж!GH2366-Чертёж!GG2366)^2)","v":82},60.325722486524462,60.325722486524462,0,{"$f":"IF(GX2413<$HN$2320,0,1)","v":1},null,null,null,null,null,null,28,null,"Вершина",{"$f":"GX$2307-(GX$2307-GX$2310-(HF2364-GX$2310)*GX$2309/GX$2308)","v":873.27276190476186},461.875,28,null,null,1,863,297.875,{"$f":"GX2307-((GX2307-GX2310-(HF2364-GX2310)*GX2309/GX2308)*('Исходные данные'!F32+'Исходные данные'!F30)/'Исходные данные'!F32)","v":873.27276190476186},461.875,null,null,null,null,"Буква А нижняя",null,{"$f":"HN2365","v":897},{"$f":"HQ2364-40","v":499.875},40,100,"А"]
[null,null,null,null,null,null,null,null,null,null,null,null,null,null,null,null,null,null,null,null,null,null,null,null,null,null,null,null,null,null,null,null,null,null,null,null,null,null,null,null,null,null,null,null,null,null,null,null,null,null,null,null,null,null,null,null,null,null,null,null,null,null,null,null,null,null,null,null,null,null,null,null,null,null,null,null,null,null,null,null,null,null,null,null,null,null,null,null,null,null,null,null,null,null,null,null,null,null,null,null,null,null,null,null,null,null,null,null,null,null,null,null,null,null,null,null,null,null,null,null,null,null,null,null,null,null,null,null,null,null,null,null,null,null,null,null,null,null,null,null,null,null,null,null,null,null,null,null,null,null,null,null,null,null,null,null,null,null,null,null,null,null,null,null,null,null,null,null,null,null,null,null,null,null,null,null,null,null,{"$f":"IF(GH2367-GG2367=0,90,DEGREES(ATAN('Исходные данные'!$F$30/(GH2367-GG2367))))","v":90},515.22119518872603,0.13156852163091701,47.364667787130124,515.22119518872603,0.13156852163091701,47.364667787130124,0,0,50,{"$f":"$GX$2312-GX2410","v":0},{"$f":"$GX$2313-GX2411","v":0},{"$f":"'Исходные данные'!$F$32/2/SIN(RADIANS(FW2367))","v":82},{"$f":"GI2367+SQRT('Исходные данные'!$F$30^2+(Чертёж!GH2367-Чертёж!GG2367)^2)","v":82},60.325722486524462,60.325722486524462,0,{"$f":"IF(GX2415<$HN$2320,0,1)","v":1},null,null,null,null,null,null,null,null,"Основание",{"$f":"IF(GX2366>GX$2310,GX2366,HF2366-(HF2366-HF2364)/5)","v":873.27276190476186},461.875,null,null,null,1,811,232.875,{"$f":"HF2366","v":873.27276190476186},461.875,null,null,null,null,"Буква А верхняя",null,{"$f":"HN2366","v":897},{"$f":"HQ2365-40","v":132.875},40,100,"А"]
[null,null,null,null,null,null,null,null,null,null,null,null,null,null,null,null,null,null,null,null,null,null,null,null,null,null,null,null,null,null,null,null,null,null,null,null,null,null,null,null,null,null,null,null,null,null,null,null,null,null,null,null,null,null,null,null,null,null,null,null,null,null,null,null,null,null,null,null,null,null,null,null,null,null,null,null,null,null,null,null,null,null,null,null,null,null,null,null,null,null,null,null,null,null,null,null,null,null,null,null,null,null,null,null,null,null,null,null,null,null,null,null,null,null,null,null,null,null,null,null,null,null,null,null,null,null,null,null,null,null,null,null,null,null,null,null,null,null,null,null,null,null,null,null,null,null,null,null,null,null,null,null,null,null,null,null,null,null,null,null,null,null,null,null,null,null,null,null,null,null,null,null,null,null,null,null,null,null,{"$f":"IF(GH2368-GG2368=0,90,DEGREES(ATAN('Исходные данные'!$F$30/(GH2368-GG2368))))","v":90},515.22119518872603,0.13156852163091701,47.364667787130124,515.22119518872603,0.13156852163091701,47.364667787130124,0,0,51,{"$f":"$GX$2312-GX2412","v":0},{"$f":"$GX$2313-GX2413","v":0},{"$f":"'Исходные данные'!$F$32/2/SIN(RADIANS(FW2368))","v":82},{"$f":"GI2368+SQRT('Исходные данные'!$F$30^2+(Чертёж!GH2368-Чертёж!GG2368)^2)","v":82},60.325722486524462,60.325722486524462,0,{"$f":"IF(GX2417<$HN$2320,0,1)","v":1},null,null,null,null,null,null,29,null,"Вершина",{"$f":"GX$2307-(GX$2307-GX$2310-(HF2366-GX$2310)*GX$2309/GX$2308)","v":873.27276190476186},461.875,29,null,null,1,863,297.875,{"$f":"GX2307-((GX2307-GX2310-(HF2366-GX2310)*GX2309/GX2308)*('Исходные данные'!F32+'Исходные данные'!F30)/'Исходные данные'!F32)","v":873.27276190476186},461.875]
[null,null,null,null,null,null,null,null,null,null,null,null,null,null,null,null,null,null,null,null,null,null,null,null,null,null,null,null,null,null,null,null,null,null,null,null,null,null,null,null,null,null,null,null,null,null,null,null,null,null,null,null,null,null,null,null,null,null,null,null,null,null,null,null,null,null,null,null,null,null,null,null,null,null,null,null,null,null,null,null,null,null,null,null,null,null,null,null,null,null,null,null,null,null,null,null,null,null,null,null,null,null,null,null,null,null,null,null,null,null,null,null,null,null,null,null,null,null,null,null,null,null,null,null,null,null,null,null,null,null,null,null,null,null,null,null,null,null,null,null,null,null,null,null,null,null,null,null,null,null,null,null,null,null,null,null,null,null,null,null,null,null,null,null,null,null,null,null,null,null,null,null,null,null,null,null,null,null,{"$f":"IF(GH2369-GG2369=0,90,DEGREES(ATAN('Исходные данные'!$F$30/(GH2369-GG2369))))","v":90},515.22119518872603,0.13156852163091701,47.364667787130124,515.22119518872603,0.13156852163091701,47.364667787130124,0,0,52,{"$f":"$GX$2312-GX2414","v":0},{"$f":"$GX$2313-GX2415","v":0},{"$f":"'Исходные данные'!$F$32/2/SIN(RADIANS(FW2369))","v":82},{"$f":"GI2369+SQRT('Исходные данные'!$F$30^2+(Чертёж!GH2369-Чертёж!GG2369)^2)","v":82},60.325722486524462,60.325722486524462,0,{"$f":"IF(GX2419<$HN$2320,0,1)","v":1},null,null,null,null,null,null,null,null,"Основание",{"$f":"IF(GX2368>GX$2310,GX2368,HF2368-(HF2368-HF2366)/5)","v":873.27276190476186},461.875,null,null,null,1,811,232.875,{"$f":"HF2368","v":873.27276190476186},461.875]
[null,null,null,null,null,null,null,null,null,null,null,null,null,null,null,null,null,null,null,null,null,null,null,null,null,null,null,null,null,null,null,null,null,null,null,null,null,null,null,null,null,null,null,null,null,null,null,null,null,null,null,null,null,null,null,null,null,null,null,null,null,null,null,null,null,null,null,null,null,null,null,null,null,null,null,null,null,null,null,null,null,null,null,null,null,null,null,null,null,null,null,null,null,null,null,null,null,null,null,null,null,null,null,null,null,null,null,null,null,null,null,null,null,null,null,null,null,null,null,null,null,null,null,null,null,null,null,null,null,null,null,null,null,null,null,null,null,null,null,null,null,null,null,null,null,null,null,null,null,null,null,null,null,null,null,null,null,null,null,null,null,null,null,null,null,null,null,null,null,null,null,null,null,null,null,null,null,null,{"$f":"IF(GH2370-GG2370=0,90,DEGREES(ATAN('Исходные данные'!$F$30/(GH2370-GG2370))))","v":90},515.22119518872603,0.13156852163091701,47.364667787130124,515.22119518872603,0.13156852163091701,47.364667787130124,0,0,53,{"$f":"$GX$2312-GX2416","v":0},{"$f":"$GX$2313-GX2417","v":0},{"$f":"'Исходные данные'!$F$32/2/SIN(RADIANS(FW2370))","v":82},{"$f":"GI2370+SQRT('Исходные данные'!$F$30^2+(Чертёж!GH2370-Чертёж!GG2370)^2)","v":82},60.325722486524462,60.325722486524462,0,{"$f":"IF(GX2421<$HN$2320,0,1)","v":1},null,null,null,null,null,null,30,null,"Вершина",{"$f":"GX$2307-(GX$2307-GX$2310-(HF2368-GX$2310)*GX$2309/GX$2308)","v":873.27276190476186},461.875,30,null,null,1,863,297.875,{"$f":"GX2307-((GX2307-GX2310-(HF2368-GX2310)*GX2309/GX2308)*('Исходные данные'!F32+'Исходные данные'!F30)/'Исходные данные'!F32)","v":873.27276190476186},461.875,null,null,null,null,"Координаты фокусеров и окуляров ","x","y"]
[null,null,null,null,null,null,null,null,null,null,null,null,null,null,null,null,null,null,null,null,null,null,null,null,null,null,null,null,null,null,null,null,null,null,null,null,null,null,null,null,null,null,null,null,null,null,null,null,null,null,null,null,null,null,null,null,null,null,null,null,null,null,null,null,null,null,null,null,null,null,null,null,null,null,null,null,null,null,null,null,null,null,null,null,null,null,null,null,null,null,null,null,null,null,null,null,null,null,null,null,null,null,null,null,null,null,null,null,null,null,null,null,null,null,null,null,null,null,null,null,null,null,null,null,null,null,null,null,null,null,null,null,null,null,null,null,null,null,null,null,null,null,null,null,null,null,null,null,null,null,null,null,null,null,null,null,null,null,null,null,null,null,null,null,null,null,null,null,null,null,null,null,null,null,null,null,null,null,{"$f":"IF(GH2371-GG2371=0,90,DEGREES(ATAN('Исходные данные'!$F$30/(GH2371-GG2371))))","v":90},515.22119518872603,0.13156852163091701,47.364667787130124,515.22119518872603,0.13156852163091701,47.364667787130124,0,0,54,{"$f":"$GX$2312-GX2418","v":0},{"$f":"$GX$2313-GX2419","v":0},{"$f":"'Исходные данные'!$F$32/2/SIN(RADIANS(FW2371))","v":82},{"$f":"GI2371+SQRT('Исходные данные'!$F$30^2+(Чертёж!GH2371-Чертёж!GG2371)^2)","v":82},60.325722486524462,60.325722486524462,0,{"$f":"IF(GX2423<$HN$2320,0,1)","v":1},null,null,null,null,null,null,null,null,"Основание",{"$f":"IF(GX2370>GX$2310,GX2370,HF2370-(HF2370-HF2368)/5)","v":873.27276190476186},461.875,null,null,null,1,811,232.875,{"$f":"HF2370","v":873.27276190476186},461.875,null,null,null,null,"Фокусер GSO ",{"$f":"HP2215-77.4307874016+1.2766141732-0.32+0.6818110236","v":727.20763779519984},{"$f":"HO2218-73.9772440945-13.4043307087+2.3077165354+0.1","v":207.90114173219999}]
[null,null,null,null,null,null,null,null,null,null,null,null,null,null,null,null,null,null,null,null,null,null,null,null,null,null,null,null,null,null,null,null,null,null,null,null,null,null,null,null,null,null,null,null,null,null,null,null,null,null,null,null,null,null,null,null,null,null,null,null,null,null,null,null,null,null,null,null,null,null,null,null,null,null,null,null,null,null,null,null,null,null,null,null,null,null,null,null,null,null,null,null,null,null,null,null,null,null,null,null,null,null,null,null,null,null,null,null,null,null,null,null,null,null,null,null,null,null,null,null,null,null,null,null,null,null,null,null,null,null,null,null,null,null,null,null,null,null,null,null,null,null,null,null,null,null,null,null,null,null,null,null,null,null,null,null,null,null,null,null,null,null,null,null,null,null,null,null,null,null,null,null,null,null,null,null,null,null,{"$f":"IF(GH2372-GG2372=0,90,DEGREES(ATAN('Исходные данные'!$F$30/(GH2372-GG2372))))","v":90},515.22119518872603,0.13156852163091701,47.364667787130124,515.22119518872603,0.13156852163091701,47.364667787130124,0,0,55,{"$f":"$GX$2312-GX2420","v":0},{"$f":"$GX$2313-GX2421","v":0},{"$f":"'Исходные данные'!$F$32/2/SIN(RADIANS(FW2372))","v":82},{"$f":"GI2372+SQRT('Исходные данные'!$F$30^2+(Чертёж!GH2372-Чертёж!GG2372)^2)","v":82},60.325722486524462,60.325722486524462,0,{"$f":"IF(GX2425<$HN$2320,0,1)","v":1},null,null,null,null,null,null,31,null,"Вершина",{"$f":"GX$2307-(GX$2307-GX$2310-(HF2370-GX$2310)*GX$2309/GX$2308)","v":873.27276190476186},461.875,31,null,null,1,863,297.875,{"$f":"GX2307-((GX2307-GX2310-(HF2370-GX2310)*GX2309/GX2308)*('Исходные данные'!F32+'Исходные данные'!F30)/'Исходные данные'!F32)","v":873.27276190476186},461.875,null,null,null,null,"Фокусер GSO низкопрофильный",{"$f":"HP2215-77.4307874016+1.2766141732-0.32","v":726.5258267715999},{"$f":"HO2218-73.9772440945-13.4043307087+2.3077165354+0.1+18.2-2.3863779528","v":223.71476377939999}]
[null,null,null,null,null,null,null,null,null,null,null,null,null,null,null,null,null,null,null,null,null,null,null,null,null,null,null,null,null,null,null,null,null,null,null,null,null,null,null,null,null,null,null,null,null,null,null,null,null,null,null,null,null,null,null,null,null,null,null,null,null,null,null,null,null,null,null,null,null,null,null,null,null,null,null,null,null,null,null,null,null,null,null,null,null,null,null,null,null,null,null,null,null,null,null,null,null,null,null,null,null,null,null,null,null,null,null,null,null,null,null,null,null,null,null,null,null,null,null,null,null,null,null,null,null,null,null,null,null,null,null,null,null,null,null,null,null,null,null,null,null,null,null,null,null,null,null,null,null,null,null,null,null,null,null,null,null,null,null,null,null,null,null,null,null,null,null,null,null,null,null,null,null,null,null,null,null,null,{"$f":"IF(GH2373-GG2373=0,90,DEGREES(ATAN('Исходные данные'!$F$30/(GH2373-GG2373))))","v":90},515.22119518872603,0.13156852163091701,47.364667787130124,515.22119518872603,0.13156852163091701,47.364667787130124,0,0,56,{"$f":"$GX$2312-GX2422","v":0},{"$f":"$GX$2313-GX2423","v":0},{"$f":"'Исходные данные'!$F$32/2/SIN(RADIANS(FW2373))","v":82},{"$f":"GI2373+SQRT('Исходные данные'!$F$30^2+(Чертёж!GH2373-Чертёж!GG2373)^2)","v":82},60.325722486524462,60.325722486524462,0,{"$f":"IF(GX2427<$HN$2320,0,1)","v":1},null,null,null,null,null,null,null,null,"Основание",{"$f":"IF(GX2372>GX$2310,GX2372,HF2372-(HF2372-HF2370)/5)","v":873.27276190476186},461.875,null,null,null,1,811,232.875,{"$f":"HF2372","v":873.27276190476186},461.875]
[null,null,null,null,null,null,null,null,null,null,null,null,null,null,null,null,null,null,null,null,null,null,null,null,null,null,null,null,null,null,null,null,null,null,null,null,null,null,null,null,null,null,null,null,null,null,null,null,null,null,null,null,null,null,null,null,null,null,null,null,null,null,null,null,null,null,null,null,null,null,null,null,null,null,null,null,null,null,null,null,null,null,null,null,null,null,null,null,null,null,null,null,null,null,null,null,null,null,null,null,null,null,null,null,null,null,null,null,null,null,null,null,null,null,null,null,null,null,null,null,null,null,null,null,null,null,null,null,null,null,null,null,null,null,null,null,null,null,null,null,null,null,null,null,null,null,null,null,null,null,null,null,null,null,null,null,null,null,null,null,null,null,null,null,null,null,null,null,null,null,null,null,null,null,null,null,null,null,{"$f":"IF(GH2374-GG2374=0,90,DEGREES(ATAN('Исходные данные'!$F$30/(GH2374-GG2374))))","v":90},515.22119518872603,0.13156852163091701,47.364667787130124,515.22119518872603,0.13156852163091701,47.364667787130124,0,0,57,{"$f":"$GX$2312-GX2424","v":0},{"$f":"$GX$2313-GX2425","v":0},{"$f":"'Исходные данные'!$F$32/2/SIN(RADIANS(FW2374))","v":82},{"$f":"GI2374+SQRT('Исходные данные'!$F$30^2+(Чертёж!GH2374-Чертёж!GG2374)^2)","v":82},60.325722486524462,60.325722486524462,0,{"$f":"IF(GX2429<$HN$2320,0,1)","v":1},null,null,null,null,null,null,32,null,"Вершина",{"$f":"GX$2307-(GX$2307-GX$2310-(HF2372-GX$2310)*GX$2309/GX$2308)","v":873.27276190476186},461.875,32,null,null,1,863,297.875,{"$f":"GX2307-((GX2307-GX2310-(HF2372-GX2310)*GX2309/GX2308)*('Исходные данные'!F32+'Исходные данные'!F30)/'Исходные данные'!F32)","v":873.27276190476186},461.875]
[null,null,null,null,null,null,null,null,null,null,null,null,null,null,null,null,null,null,null,null,null,null,null,null,null,null,null,null,null,null,null,null,null,null,null,null,null,null,null,null,null,null,null,null,null,null,null,null,null,null,null,null,null,null,null,null,null,null,null,null,null,null,null,null,null,null,null,null,null,null,null,null,null,null,null,null,null,null,null,null,null,null,null,null,null,null,null,null,null,null,null,null,null,null,null,null,null,null,null,null,null,null,null,null,null,null,null,null,null,null,null,null,null,null,null,null,null,null,null,null,null,null,null,null,null,null,null,null,null,null,null,null,null,null,null,null,null,null,null,null,null,null,null,null,null,null,null,null,null,null,null,null,null,null,null,null,null,null,null,null,null,null,null,null,null,null,null,null,null,null,null,null,null,null,null,null,null,null,{"$f":"IF(GH2375-GG2375=0,90,DEGREES(ATAN('Исходные данные'!$F$30/(GH2375-GG2375))))","v":90},515.22119518872603,0.13156852163091701,47.364667787130124,515.22119518872603,0.13156852163091701,47.364667787130124,0,0,58,{"$f":"$GX$2312-GX2426","v":0},{"$f":"$GX$2313-GX2427","v":0},{"$f":"'Исходные данные'!$F$32/2/SIN(RADIANS(FW2375))","v":82},{"$f":"GI2375+SQRT('Исходные данные'!$F$30^2+(Чертёж!GH2375-Чертёж!GG2375)^2)","v":82},60.325722486524462,60.325722486524462,0,{"$f":"IF(GX2431<$HN$2320,0,1)","v":1},null,null,null,null,null,null,null,null,"Основание",{"$f":"IF(GX2374>GX$2310,GX2374,HF2374-(HF2374-HF2372)/5)","v":873.27276190476186},461.875,null,null,null,1,811,232.875,{"$f":"HF2374","v":873.27276190476186},461.875]
[null,null,null,null,null,null,null,null,null,null,null,null,null,null,null,null,null,null,null,null,null,null,null,null,null,null,null,null,null,null,null,null,null,null,null,null,null,null,null,null,null,null,null,null,null,null,null,null,null,null,null,null,null,null,null,null,null,null,null,null,null,null,null,null,null,null,null,null,null,null,null,null,null,null,null,null,null,null,null,null,null,null,null,null,null,null,null,null,null,null,null,null,null,null,null,null,null,null,null,null,null,null,null,null,null,null,null,null,null,null,null,null,null,null,null,null,null,null,null,null,null,null,null,null,null,null,null,null,null,null,null,null,null,null,null,null,null,null,null,null,null,null,null,null,null,null,null,null,null,null,null,null,null,null,null,null,null,null,null,null,null,null,null,null,null,null,null,null,null,null,null,null,null,null,null,null,null,null,{"$f":"IF(GH2376-GG2376=0,90,DEGREES(ATAN('Исходные данные'!$F$30/(GH2376-GG2376))))","v":90},515.22119518872603,0.13156852163091701,47.364667787130124,515.22119518872603,0.13156852163091701,47.364667787130124,0,0,59,{"$f":"$GX$2312-GX2428","v":0},{"$f":"$GX$2313-GX2429","v":0},{"$f":"'Исходные данные'!$F$32/2/SIN(RADIANS(FW2376))","v":82},{"$f":"GI2376+SQRT('Исходные данные'!$F$30^2+(Чертёж!GH2376-Чертёж!GG2376)^2)","v":82},60.325722486524462,60.325722486524462,0,{"$f":"IF(GX2433<$HN$2320,0,1)","v":1},null,null,null,null,null,null,33,null,"Вершина",{"$f":"GX$2307-(GX$2307-GX$2310-(HF2374-GX$2310)*GX$2309/GX$2308)","v":873.27276190476186},461.875,33,null,null,1,863,297.875,{"$f":"GX2307-((GX2307-GX2310-(HF2374-GX2310)*GX2309/GX2308)*('Исходные данные'!F32+'Исходные данные'!F30)/'Исходные данные'!F32)","v":873.27276190476186},461.875]
[null,null,null,null,null,null,null,null,null,null,null,null,null,null,null,null,null,null,null,null,null,null,null,null,null,null,null,null,null,null,null,null,null,null,null,null,null,null,null,null,null,null,null,null,null,null,null,null,null,null,null,null,null,null,null,null,null,null,null,null,null,null,null,null,null,null,null,null,null,null,null,null,null,null,null,null,null,null,null,null,null,null,null,null,null,null,null,null,null,null,null,null,null,null,null,null,null,null,null,null,null,null,null,null,null,null,null,null,null,null,null,null,null,null,null,null,null,null,null,null,null,null,null,null,null,null,null,null,null,null,null,null,null,null,null,null,null,null,null,null,null,null,null,null,null,null,null,null,null,null,null,null,null,null,null,null,null,null,null,null,null,null,null,null,null,null,null,null,null,null,null,null,null,null,null,null,null,null,{"$f":"IF(GH2377-GG2377=0,90,DEGREES(ATAN('Исходные данные'!$F$30/(GH2377-GG2377))))","v":90},515.22119518872603,0.13156852163091701,47.364667787130124,515.22119518872603,0.13156852163091701,47.364667787130124,0,0,60,{"$f":"$GX$2312-GX2430","v":0},{"$f":"$GX$2313-GX2431","v":0},{"$f":"'Исходные данные'!$F$32/2/SIN(RADIANS(FW2377))","v":82},{"$f":"GI2377+SQRT('Исходные данные'!$F$30^2+(Чертёж!GH2377-Чертёж!GG2377)^2)","v":82},60.325722486524462,60.325722486524462,0,{"$f":"IF(GX2435<$HN$2320,0,1)","v":1},null,null,null,null,null,null,null,null,"Основание",{"$f":"IF(GX2376>GX$2310,GX2376,HF2376-(HF2376-HF2374)/5)","v":873.27276190476186},461.875,null,null,null,{"$f":"IF(HF2377>=$HD$2309,1,0)","v":1},811,232.875,{"$f":"HF2376","v":873.27276190476186},461.875]
[null,null,null,null,null,null,null,null,null,null,null,null,null,null,null,null,null,null,null,null,null,null,null,null,null,null,null,null,null,null,null,null,null,null,null,null,null,null,null,null,null,null,null,null,null,null,null,null,null,null,null,null,null,null,null,null,null,null,null,null,null,null,null,null,null,null,null,null,null,null,null,null,null,null,null,null,null,null,null,null,null,null,null,null,null,null,null,null,null,null,null,null,null,null,null,null,null,null,null,null,null,null,null,null,null,null,null,null,null,null,null,null,null,null,null,null,null,null,null,null,null,null,null,null,null,null,null,null,null,null,null,null,null,null,null,null,null,null,null,null,null,null,null,null,null,null,null,null,null,null,null,null,null,null,null,null,null,null,null,null,null,null,null,null,null,null,null,null,null,null,null,null,null,null,null,null,null,null,{"$f":"IF(GH2378-GG2378=0,90,DEGREES(ATAN('Исходные данные'!$F$30/(GH2378-GG2378))))","v":90},515.22119518872603,0.13156852163091701,47.364667787130124,515.22119518872603,0.13156852163091701,47.364667787130124,0,0,61,{"$f":"$GX$2312-GX2432","v":0},{"$f":"$GX$2313-GX2433","v":0},{"$f":"'Исходные данные'!$F$32/2/SIN(RADIANS(FW2378))","v":82},{"$f":"GI2378+SQRT('Исходные данные'!$F$30^2+(Чертёж!GH2378-Чертёж!GG2378)^2)","v":82},60.325722486524462,60.325722486524462,0,{"$f":"IF(GX2437<$HN$2320,0,1)","v":1},null,null,null,null,null,null,34,null,"Вершина",{"$f":"GX$2307-(GX$2307-GX$2310-(HF2376-GX$2310)*GX$2309/GX$2308)","v":873.27276190476186},461.875,34,null,null,1,863,297.875,{"$f":"GX2307-((GX2307-GX2310-(HF2376-GX2310)*GX2309/GX2308)*('Исходные данные'!F32+'Исходные данные'!F30)/'Исходные данные'!F32)","v":873.27276190476186},461.875]
[null,null,null,null,null,null,null,null,null,null,null,null,null,null,null,null,null,null,null,null,null,null,null,null,null,null,null,null,null,null,null,null,null,null,null,null,null,null,null,null,null,null,null,null,null,null,null,null,null,null,null,null,null,null,null,null,null,null,null,null,null,null,null,null,null,null,null,null,null,null,null,null,null,null,null,null,null,null,null,null,null,null,null,null,null,null,null,null,null,null,null,null,null,null,null,null,null,null,null,null,null,null,null,null,null,null,null,null,null,null,null,null,null,null,null,null,null,null,null,null,null,null,null,null,null,null,null,null,null,null,null,null,null,null,null,null,null,null,null,null,null,null,null,null,null,null,null,null,null,null,null,null,null,null,null,null,null,null,null,null,null,null,null,null,null,null,null,null,null,null,null,null,null,null,null,null,null,null,{"$f":"IF(GH2379-GG2379=0,90,DEGREES(ATAN('Исходные данные'!$F$30/(GH2379-GG2379))))","v":90},515.22119518872603,0.13156852163091701,47.364667787130124,515.22119518872603,0.13156852163091701,47.364667787130124,0,0,62,{"$f":"$GX$2312-GX2434","v":0},{"$f":"$GX$2313-GX2435","v":0},{"$f":"'Исходные данные'!$F$32/2/SIN(RADIANS(FW2379))","v":82},{"$f":"GI2379+SQRT('Исходные данные'!$F$30^2+(Чертёж!GH2379-Чертёж!GG2379)^2)","v":82},60.325722486524462,60.325722486524462,0,{"$f":"IF(GX2439<$HN$2320,0,1)","v":1},null,null,null,null,null,null,null,null,"Основание",{"$f":"IF(GX2378>GX$2310,GX2378,HF2378-(HF2378-HF2376)/5)","v":873.27276190476186},461.875,null,null,null,1,811,232.875,{"$f":"HF2378","v":873.27276190476186},461.875]
[null,null,null,null,null,null,null,null,null,null,null,null,null,null,null,null,null,null,null,null,null,null,null,null,null,null,null,null,null,null,null,null,null,null,null,null,null,null,null,null,null,null,null,null,null,null,null,null,null,null,null,null,null,null,null,null,null,null,null,null,null,null,null,null,null,null,null,null,null,null,null,null,null,null,null,null,null,null,null,null,null,null,null,null,null,null,null,null,null,null,null,null,null,null,null,null,null,null,null,null,null,null,null,null,null,null,null,null,null,null,null,null,null,null,null,null,null,null,null,null,null,null,null,null,null,null,null,null,null,null,null,null,null,null,null,null,null,null,null,null,null,null,null,null,null,null,null,null,null,null,null,null,null,null,null,null,null,null,null,null,null,null,null,null,null,null,null,null,null,null,null,null,null,null,null,null,null,null,{"$f":"IF(GH2380-GG2380=0,90,DEGREES(ATAN('Исходные данные'!$F$30/(GH2380-GG2380))))","v":90},515.22119518872603,0.13156852163091701,47.364667787130124,515.22119518872603,0.13156852163091701,47.364667787130124,0,0,63,{"$f":"$GX$2312-GX2436","v":0},{"$f":"$GX$2313-GX2437","v":0},{"$f":"'Исходные данные'!$F$32/2/SIN(RADIANS(FW2380))","v":82},{"$f":"GI2380+SQRT('Исходные данные'!$F$30^2+(Чертёж!GH2380-Чертёж!GG2380)^2)","v":82},60.325722486524462,60.325722486524462,0,{"$f":"IF(GX2441<$HN$2320,0,1)","v":1},null,null,null,null,null,null,35,null,"Вершина",{"$f":"GX$2307-(GX$2307-GX$2310-(HF2378-GX$2310)*GX$2309/GX$2308)","v":873.27276190476186},{"$f":"GY2378","v":461.875},35,null,null,1,863,297.875,{"$f":"GX2307-((GX2307-GX2310-(HF2378-GX2310)*GX2309/GX2308)*('Исходные данные'!F32+'Исходные данные'!F30)/'Исходные данные'!F32)","v":873.27276190476186},{"$f":"HG2379","v":461.875}]
[null,null,null,null,null,null,null,null,null,null,null,null,null,null,null,null,null,null,null,null,null,null,null,null,null,null,null,null,null,null,null,null,null,null,null,null,null,null,null,null,null,null,null,null,null,null,null,null,null,null,null,null,null,null,null,null,null,null,null,null,null,null,null,null,null,null,null,null,null,null,null,null,null,null,null,null,null,null,null,null,null,null,null,null,null,null,null,null,null,null,null,null,null,null,null,null,null,null,null,null,null,null,null,null,null,null,null,null,null,null,null,null,null,null,null,null,null,null,null,null,null,null,null,null,null,null,null,null,null,null,null,null,null,null,null,null,null,null,null,null,null,null,null,null,null,null,null,null,null,null,null,null,null,null,null,null,null,null,null,null,null,null,null,null,null,null,null,null,null,null,null,null,null,null,null,null,null,null,{"$f":"IF(GH2381-GG2381=0,90,DEGREES(ATAN('Исходные данные'!$F$30/(GH2381-GG2381))))","v":90},515.22119518872603,0.13156852163091701,47.364667787130124,515.22119518872603,0.13156852163091701,47.364667787130124,0,0,64,{"$f":"$GX$2312-GX2438","v":0},{"$f":"$GX$2313-GX2439","v":0},{"$f":"'Исходные данные'!$F$32/2/SIN(RADIANS(FW2381))","v":82},{"$f":"GI2381+SQRT('Исходные данные'!$F$30^2+(Чертёж!GH2381-Чертёж!GG2381)^2)","v":82},60.325722486524462,60.325722486524462,0,{"$f":"IF(GX2443<$HN$2320,0,1)","v":1},null,null,null,null,null,null,null,null,"Основание",{"$f":"IF(GX2380>GX$2310,GX2380,HF2380-(HF2380-HF2378)/5)","v":873.27276190476186},461.875,null,null,null,1,811,232.875,{"$f":"HF2380","v":873.27276190476186},461.875]
[null,null,null,null,null,null,null,null,null,null,null,null,null,null,null,null,null,null,null,null,null,null,null,null,null,null,null,null,null,null,null,null,null,null,null,null,null,null,null,null,null,null,null,null,null,null,null,null,null,null,null,null,null,null,null,null,null,null,null,null,null,null,null,null,null,null,null,null,null,null,null,null,null,null,null,null,null,null,null,null,null,null,null,null,null,null,null,null,null,null,null,null,null,null,null,null,null,null,null,null,null,null,null,null,null,null,null,null,null,null,null,null,null,null,null,null,null,null,null,null,null,null,null,null,null,null,null,null,null,null,null,null,null,null,null,null,null,null,null,null,null,null,null,null,null,null,null,null,null,null,null,null,null,null,null,null,null,null,null,null,null,null,null,null,null,null,null,null,null,null,null,null,null,null,null,null,null,null,{"$f":"IF(GH2382-GG2382=0,90,DEGREES(ATAN('Исходные данные'!$F$30/(GH2382-GG2382))))","v":90},515.22119518872603,0.13156852163091701,47.364667787130124,515.22119518872603,0.13156852163091701,47.364667787130124,0,0,65,{"$f":"$GX$2312-GX2440","v":0},{"$f":"$GX$2313-GX2441","v":0},{"$f":"'Исходные данные'!$F$32/2/SIN(RADIANS(FW2382))","v":82},{"$f":"GI2382+SQRT('Исходные данные'!$F$30^2+(Чертёж!GH2382-Чертёж!GG2382)^2)","v":82},60.325722486524462,60.325722486524462,0,{"$f":"IF(GX2445<$HN$2320,0,1)","v":1},null,null,null,null,null,null,36,null,"Вершина",{"$f":"GX$2307-(GX$2307-GX$2310-(HF2380-GX$2310)*GX$2309/GX$2308)","v":873.27276190476186},461.875,36,null,null,1,863,297.875,{"$f":"GX2307-((GX2307-GX2310-(HF2380-GX2310)*GX2309/GX2308)*('Исходные данные'!F32+'Исходные данные'!F30)/'Исходные данные'!F32)","v":873.27276190476186},461.875]
[null,null,null,null,null,null,null,null,null,null,null,null,null,null,null,null,null,null,null,null,null,null,null,null,null,null,null,null,null,null,null,null,null,null,null,null,null,null,null,null,null,null,null,null,null,null,null,null,null,null,null,null,null,null,null,null,null,null,null,null,null,null,null,null,null,null,null,null,null,null,null,null,null,null,null,null,null,null,null,null,null,null,null,null,null,null,null,null,null,null,null,null,null,null,null,null,null,null,null,null,null,null,null,null,null,null,null,null,null,null,null,null,null,null,null,null,null,null,null,null,null,null,null,null,null,null,null,null,null,null,null,null,null,null,null,null,null,null,null,null,null,null,null,null,null,null,null,null,null,null,null,null,null,null,null,null,null,null,null,null,null,null,null,null,null,null,null,null,null,null,null,null,null,null,null,null,null,null,{"$f":"IF(GH2383-GG2383=0,90,DEGREES(ATAN('Исходные данные'!$F$30/(GH2383-GG2383))))","v":90},{"$f":"2*PI()*GI2383","v":515.22119518872603},{"$f":"$GG$2312/FX2383","v":0.13156852163091701},{"$f":"360*FY2383","v":47.364667787130124},{"$f":"2*PI()*GJ2383","v":515.22119518872603},{"$f":"$GG$2313/GA2383","v":0.13156852163091701},{"$f":"360*GB2383","v":47.364667787130124},0,0,66,{"$f":"$GX$2312-GX2442","v":0},{"$f":"$GX$2313-GX2443","v":0},{"$f":"'Исходные данные'!$F$32/2/SIN(RADIANS(FW2383))","v":82},{"$f":"GI2383+SQRT('Исходные данные'!$F$30^2+(Чертёж!GH2383-Чертёж!GG2383)^2)","v":82},60.325722486524462,{"$f":"GJ2383*SIN(RADIANS(GC2383))","v":60.325722486524462},{"$f":"GJ2383-GI2383","v":0},{"$f":"IF(GX2447<$HN$2320,0,1)","v":1},null,null,null,null,null,null,null,null,"Основание",{"$f":"IF(GX2382>GX$2310,GX2382,HF2382-(HF2382-HF2380)/5)","v":873.27276190476186},461.875,null,null,null,1,811,232.875,{"$f":"HF2382","v":873.27276190476186},461.875]
[null,null,null,null,null,null,null,null,null,null,null,null,null,null,null,null,null,null,null,null,null,null,null,null,null,null,null,null,null,null,null,null,null,null,null,null,null,null,null,null,null,null,null,null,null,null,null,null,null,null,null,null,null,null,null,null,null,null,null,null,null,null,null,null,null,null,null,null,null,null,null,null,null,null,null,null,null,null,null,null,null,null,null,null,null,null,null,null,null,null,null,null,null,null,null,null,null,null,null,null,null,null,null,null,null,null,null,null,null,null,null,null,null,null,null,null,null,null,null,null,null,null,null,null,null,null,null,null,null,null,null,null,null,null,null,null,null,null,null,null,null,null,null,null,null,null,null,null,null,null,null,null,null,null,null,null,null,null,null,null,null,null,null,null,null,null,null,null,null,null,null,null,null,null,null,null,null,null,{"$f":"IF(GH2384-GG2384=0,90,DEGREES(ATAN('Исходные данные'!$F$30/(GH2384-GG2384))))","v":90},515.22119518872603,0.13156852163091701,47.364667787130124,515.22119518872603,0.13156852163091701,47.364667787130124,{"$f":"GH2384-GH2383","v":0},0,67,{"$f":"$GX$2312-GX2444","v":0},{"$f":"$GX$2313-GX2445","v":0},{"$f":"'Исходные данные'!$F$32/2/SIN(RADIANS(FW2384))","v":82},{"$f":"GI2384+SQRT('Исходные данные'!$F$30^2+(Чертёж!GH2384-Чертёж!GG2384)^2)","v":82},60.325722486524462,60.325722486524462,0,{"$f":"IF(GX2449<$HN$2320,0,1)","v":1},null,null,null,null,null,null,37,null,"Вершина",{"$f":"GX$2307-(GX$2307-GX$2310-(HF2382-GX$2310)*GX$2309/GX$2308)","v":873.27276190476186},461.875,37,null,null,1,863,297.875,{"$f":"GX2307-((GX2307-GX2310-(HF2382-GX2310)*GX2309/GX2308)*('Исходные данные'!F32+'Исходные данные'!F30)/'Исходные данные'!F32)","v":873.27276190476186},461.875]
[null,null,null,null,null,null,null,null,null,null,null,null,null,null,null,null,null,null,null,null,null,null,null,null,null,null,null,null,null,null,null,null,null,null,null,null,null,null,null,null,null,null,null,null,null,null,null,null,null,null,null,null,null,null,null,null,null,null,null,null,null,null,null,null,null,null,null,null,null,null,null,null,null,null,null,null,null,null,null,null,null,null,null,null,null,null,null,null,null,null,null,null,null,null,null,null,null,null,null,null,null,null,null,null,null,null,null,null,null,null,null,null,null,null,null,null,null,null,null,null,null,null,null,null,null,null,null,null,null,null,null,null,null,null,null,null,null,null,null,null,null,null,null,null,null,null,null,null,null,null,null,null,null,null,null,null,null,null,null,null,null,null,null,null,null,null,null,null,null,null,null,null,null,null,null,null,null,null,{"$f":"IF(GH2385-GG2385=0,90,DEGREES(ATAN('Исходные данные'!$F$30/(GH2385-GG2385))))","v":90},515.22119518872603,0.13156852163091701,47.364667787130124,515.22119518872603,0.13156852163091701,47.364667787130124,0,{"$f":"GG2385-GG2384","v":0},68,{"$f":"$GX$2312-GX2446","v":0},{"$f":"$GX$2313-GX2447","v":0},{"$f":"'Исходные данные'!$F$32/2/SIN(RADIANS(FW2385))","v":82},{"$f":"GI2385+SQRT('Исходные данные'!$F$30^2+(Чертёж!GH2385-Чертёж!GG2385)^2)","v":82},60.325722486524462,60.325722486524462,0,{"$f":"IF(GX2451<$HN$2320,0,1)","v":1},null,null,null,null,null,null,null,null,"Основание",{"$f":"IF(GX2384>GX$2310,GX2384,HF2384-(HF2384-HF2382)/5)","v":873.27276190476186},461.875,null,null,null,1,811,232.875,{"$f":"HF2384","v":873.27276190476186},461.875]
[null,null,null,null,null,null,null,null,null,null,null,null,null,null,null,null,null,null,null,null,null,null,null,null,null,null,null,null,null,null,null,null,null,null,null,null,null,null,null,null,null,null,null,null,null,null,null,null,null,null,null,null,null,null,null,null,null,null,null,null,null,null,null,null,null,null,null,null,null,null,null,null,null,null,null,null,null,null,null,null,null,null,null,null,null,null,null,null,null,null,null,null,null,null,null,null,null,null,null,null,null,null,null,null,null,null,null,null,null,null,null,null,null,null,null,null,null,null,null,null,null,null,null,null,null,null,null,null,null,null,null,null,null,null,null,null,null,null,null,null,null,null,null,null,null,null,null,null,null,null,null,null,null,null,null,null,null,null,null,null,null,null,null,null,null,null,null,null,null,null,null,null,null,null,null,null,null,null,{"$f":"IF(GH2386-GG2386=0,90,DEGREES(ATAN('Исходные данные'!$F$30/(GH2386-GG2386))))","v":90},515.22119518872603,0.13156852163091701,47.364667787130124,515.22119518872603,0.13156852163091701,47.364667787130124,0,0,69,{"$f":"$GX$2312-GX2448","v":0},{"$f":"$GX$2313-GX2449","v":0},{"$f":"'Исходные данные'!$F$32/2/SIN(RADIANS(FW2386))","v":82},{"$f":"GI2386+SQRT('Исходные данные'!$F$30^2+(Чертёж!GH2386-Чертёж!GG2386)^2)","v":82},60.325722486524462,60.325722486524462,0,{"$f":"IF(GX2453<$HN$2320,0,1)","v":1},null,null,null,null,null,null,38,null,"Вершина",{"$f":"GX$2307-(GX$2307-GX$2310-(HF2384-GX$2310)*GX$2309/GX$2308)","v":873.27276190476186},461.875,38,null,null,1,863,297.875,{"$f":"GX2307-((GX2307-GX2310-(HF2384-GX2310)*GX2309/GX2308)*('Исходные данные'!F32+'Исходные данные'!F30)/'Исходные данные'!F32)","v":873.27276190476186},461.875]
[null,null,null,null,null,null,null,null,null,null,null,null,null,null,null,null,null,null,null,null,null,null,null,null,null,null,null,null,null,null,null,null,null,null,null,null,null,null,null,null,null,null,null,null,null,null,null,null,null,null,null,null,null,null,null,null,null,null,null,null,null,null,null,null,null,null,null,null,null,null,null,null,null,null,null,null,null,null,null,null,null,null,null,null,null,null,null,null,null,null,null,null,null,null,null,null,null,null,null,null,null,null,null,null,null,null,null,null,null,null,null,null,null,null,null,null,null,null,null,null,null,null,null,null,null,null,null,null,null,null,null,null,null,null,null,null,null,null,null,null,null,null,null,null,null,null,null,null,null,null,null,null,null,null,null,null,null,null,null,null,null,null,null,null,null,null,null,null,null,null,null,null,null,null,null,null,null,null,{"$f":"IF(GH2387-GG2387=0,90,DEGREES(ATAN('Исходные данные'!$F$30/(GH2387-GG2387))))","v":90},515.22119518872603,0.13156852163091701,47.364667787130124,515.22119518872603,0.13156852163091701,47.364667787130124,0,0,70,{"$f":"$GX$2312-GX2450","v":0},{"$f":"$GX$2313-GX2451","v":0},{"$f":"'Исходные данные'!$F$32/2/SIN(RADIANS(FW2387))","v":82},{"$f":"GI2387+SQRT('Исходные данные'!$F$30^2+(Чертёж!GH2387-Чертёж!GG2387)^2)","v":82},60.325722486524462,60.325722486524462,0,{"$f":"IF(GX2455<$HN$2320,0,1)","v":1},null,null,null,null,null,null,null,null,"Основание",{"$f":"IF(GX2386>GX$2310,GX2386,HF2386-(HF2386-HF2384)/5)","v":873.27276190476186},461.875,null,null,null,1,811,232.875,{"$f":"HF2386","v":873.27276190476186},461.875]
[null,null,null,null,null,null,null,null,null,null,null,null,null,null,null,null,null,null,null,null,null,null,null,null,null,null,null,null,null,null,null,null,null,null,null,null,null,null,null,null,null,null,null,null,null,null,null,null,null,null,null,null,null,null,null,null,null,null,null,null,null,null,null,null,null,null,null,null,null,null,null,null,null,null,null,null,null,null,null,null,null,null,null,null,null,null,null,null,null,null,null,null,null,null,null,null,null,null,null,null,null,null,null,null,null,null,null,null,null,null,null,null,null,null,null,null,null,null,null,null,null,null,null,null,null,null,null,null,null,null,null,null,null,null,null,null,null,null,null,null,null,null,null,null,null,null,null,null,null,null,null,null,null,null,null,null,null,null,null,null,null,null,null,null,null,null,null,null,null,null,null,null,null,null,null,null,null,null,{"$f":"IF(GH2388-GG2388=0,90,DEGREES(ATAN('Исходные данные'!$F$30/(GH2388-GG2388))))","v":90},515.22119518872603,0.13156852163091701,47.364667787130124,515.22119518872603,0.13156852163091701,47.364667787130124,0,0,71,{"$f":"$GX$2312-GX2452","v":0},{"$f":"$GX$2313-GX2453","v":0},{"$f":"'Исходные данные'!$F$32/2/SIN(RADIANS(FW2388))","v":82},{"$f":"GI2388+SQRT('Исходные данные'!$F$30^2+(Чертёж!GH2388-Чертёж!GG2388)^2)","v":82},60.325722486524462,60.325722486524462,0,{"$f":"IF(GX2457<$HN$2320,0,1)","v":1},null,null,null,null,null,null,39,null,"Вершина",{"$f":"GX$2307-(GX$2307-GX$2310-(HF2386-GX$2310)*GX$2309/GX$2308)","v":873.27276190476186},461.875,39,null,null,1,863,297.875,{"$f":"GX2307-((GX2307-GX2310-(HF2386-GX2310)*GX2309/GX2308)*('Исходные данные'!F32+'Исходные данные'!F30)/'Исходные данные'!F32)","v":873.27276190476186},461.875]
[null,null,null,null,null,null,null,null,null,null,null,null,null,null,null,null,null,null,null,null,null,null,null,null,null,null,null,null,null,null,null,null,null,null,null,null,null,null,null,null,null,null,null,null,null,null,null,null,null,null,null,null,null,null,null,null,null,null,null,null,null,null,null,null,null,null,null,null,null,null,null,null,null,null,null,null,null,null,null,null,null,null,null,null,null,null,null,null,null,null,null,null,null,null,null,null,null,null,null,null,null,null,null,null,null,null,null,null,null,null,null,null,null,null,null,null,null,null,null,null,null,null,null,null,null,null,null,null,null,null,null,null,null,null,null,null,null,null,null,null,null,null,null,null,null,null,null,null,null,null,null,null,null,null,null,null,null,null,null,null,null,null,null,null,null,null,null,null,null,null,null,null,null,null,null,null,null,null,{"$f":"IF(GH2389-GG2389=0,90,DEGREES(ATAN('Исходные данные'!$F$30/(GH2389-GG2389))))","v":90},515.22119518872603,0.13156852163091701,47.364667787130124,515.22119518872603,0.13156852163091701,47.364667787130124,0,0,72,{"$f":"$GX$2312-GX2454","v":0},{"$f":"$GX$2313-GX2455","v":0},{"$f":"'Исходные данные'!$F$32/2/SIN(RADIANS(FW2389))","v":82},{"$f":"GI2389+SQRT('Исходные данные'!$F$30^2+(Чертёж!GH2389-Чертёж!GG2389)^2)","v":82},60.325722486524462,60.325722486524462,0,{"$f":"IF(GX2459<$HN$2320,0,1)","v":1},null,null,null,null,null,null,null,null,"Основание",{"$f":"IF(GX2388>GX$2310,GX2388,HF2388-(HF2388-HF2386)/5)","v":873.27276190476186},461.875,null,null,null,1,811,232.875,{"$f":"HF2388","v":873.27276190476186},461.875]
[null,null,null,null,null,null,null,null,null,null,null,null,null,null,null,null,null,null,null,null,null,null,null,null,null,null,null,null,null,null,null,null,null,null,null,null,null,null,null,null,null,null,null,null,null,null,null,null,null,null,null,null,null,null,null,null,null,null,null,null,null,null,null,null,null,null,null,null,null,null,null,null,null,null,null,null,null,null,null,null,null,null,null,null,null,null,null,null,null,null,null,null,null,null,null,null,null,null,null,null,null,null,null,null,null,null,null,null,null,null,null,null,null,null,null,null,null,null,null,null,null,null,null,null,null,null,null,null,null,null,null,null,null,null,null,null,null,null,null,null,null,null,null,null,null,null,null,null,null,null,null,null,null,null,null,null,null,null,null,null,null,null,null,null,null,null,null,null,null,null,null,null,null,null,null,null,null,null,{"$f":"IF(GH2390-GG2390=0,90,DEGREES(ATAN('Исходные данные'!$F$30/(GH2390-GG2390))))","v":90},515.22119518872603,0.13156852163091701,47.364667787130124,515.22119518872603,0.13156852163091701,47.364667787130124,0,0,73,{"$f":"$GX$2312-GX2456","v":0},{"$f":"$GX$2313-GX2457","v":0},{"$f":"'Исходные данные'!$F$32/2/SIN(RADIANS(FW2390))","v":82},{"$f":"GI2390+SQRT('Исходные данные'!$F$30^2+(Чертёж!GH2390-Чертёж!GG2390)^2)","v":82},{"$f":"GI2390*SIN(RADIANS(FZ2390))","v":60.325722486524462},60.325722486524462,0,{"$f":"IF(GX2461<$HN$2320,0,1)","v":1},null,null,null,null,null,null,40,null,"Вершина",{"$f":"GX$2307-(GX$2307-GX$2310-(HF2388-GX$2310)*GX$2309/GX$2308)","v":873.27276190476186},461.875,40,null,null,1,863,297.875,{"$f":"GX2307-((GX2307-GX2310-(HF2388-GX2310)*GX2309/GX2308)*('Исходные данные'!F32+'Исходные данные'!F30)/'Исходные данные'!F32)","v":873.27276190476186},461.875]
[null,null,null,null,null,null,null,null,null,null,null,null,null,null,null,null,null,null,null,null,null,null,null,null,null,null,null,null,null,null,null,null,null,null,null,null,null,null,null,null,null,null,null,null,null,null,null,null,null,null,null,null,null,null,null,null,null,null,null,null,null,null,null,null,null,null,null,null,null,null,null,null,null,null,null,null,null,null,null,null,null,null,null,null,null,null,null,null,null,null,null,null,null,null,null,null,null,null,null,null,null,null,null,null,null,null,null,null,null,null,null,null,null,null,null,null,null,null,null,null,null,null,null,null,null,null,null,null,null,null,null,null,null,null,null,null,null,null,null,null,null,null,null,null,null,null,null,null,null,null,null,null,null,null,null,null,null,null,null,null,null,null,null,null,null,null,null,null,null,null,null,null,null,null,null,null,null,null,{"$f":"IF(GH2391-GG2391=0,90,DEGREES(ATAN('Исходные данные'!$F$30/(GH2391-GG2391))))","v":90},515.22119518872603,0.13156852163091701,47.364667787130124,515.22119518872603,0.13156852163091701,47.364667787130124,0,0,74,{"$f":"$GX$2312-GX2458","v":0},{"$f":"$GX$2313-GX2459","v":0},{"$f":"'Исходные данные'!$F$32/2/SIN(RADIANS(FW2391))","v":82},{"$f":"GI2391+SQRT('Исходные данные'!$F$30^2+(Чертёж!GH2391-Чертёж!GG2391)^2)","v":82},60.325722486524462,60.325722486524462,0,{"$f":"IF(GX2463<$HN$2320,0,1)","v":1},null,null,null,null,null,null,null,null,"Основание",{"$f":"IF(GX2390>GX$2310,GX2390,HF2390-(HF2390-HF2388)/5)","v":873.27276190476186},461.875,null,null,null,1,811,232.875,{"$f":"HF2390","v":873.27276190476186},461.875]
[null,null,null,null,null,null,null,null,null,null,null,null,null,null,null,null,null,null,null,null,null,null,null,null,null,null,null,null,null,null,null,null,null,null,null,null,null,null,null,null,null,null,null,null,null,null,null,null,null,null,null,null,null,null,null,null,null,null,null,null,null,null,null,null,null,null,null,null,null,null,null,null,null,null,null,null,null,null,null,null,null,null,null,null,null,null,null,null,null,null,null,null,null,null,null,null,null,null,null,null,null,null,null,null,null,null,null,null,null,null,null,null,null,null,null,null,null,null,null,null,null,null,null,null,null,null,null,null,null,null,null,null,null,null,null,null,null,null,null,null,null,null,null,null,null,null,null,null,null,null,null,null,null,null,null,null,null,null,null,null,null,null,null,null,null,null,null,null,null,null,null,null,null,null,null,null,null,null,{"$f":"IF(GH2392-GG2392=0,90,DEGREES(ATAN('Исходные данные'!$F$30/(GH2392-GG2392))))","v":90},515.22119518872603,0.13156852163091701,47.364667787130124,515.22119518872603,0.13156852163091701,47.364667787130124,0,0,75,{"$f":"$GX$2312-GX2460","v":0},{"$f":"$GX$2313-GX2461","v":0},{"$f":"'Исходные данные'!$F$32/2/SIN(RADIANS(FW2392))","v":82},{"$f":"GI2392+SQRT('Исходные данные'!$F$30^2+(Чертёж!GH2392-Чертёж!GG2392)^2)","v":82},60.325722486524462,60.325722486524462,0,{"$f":"IF(GX2465<$HN$2320,0,1)","v":1},null,null,null,null,null,null,41,null,"Вершина",{"$f":"GX$2307-(GX$2307-GX$2310-(HF2390-GX$2310)*GX$2309/GX$2308)","v":873.27276190476186},461.875,41,null,null,1,{"$f":"HD2390","v":863},297.875,{"$f":"GX2307-((GX2307-GX2310-(HF2390-GX2310)*GX2309/GX2308)*('Исходные данные'!F32+'Исходные данные'!F30)/'Исходные данные'!F32)","v":873.27276190476186},461.875]
[null,null,null,null,null,null,null,null,null,null,null,null,null,null,null,null,null,null,null,null,null,null,null,null,null,null,null,null,null,null,null,null,null,null,null,null,null,null,null,null,null,null,null,null,null,null,null,null,null,null,null,null,null,null,null,null,null,null,null,null,null,null,null,null,null,null,null,null,null,null,null,null,null,null,null,null,null,null,null,null,null,null,null,null,null,null,null,null,null,null,null,null,null,null,null,null,null,null,null,null,null,null,null,null,null,null,null,null,null,null,null,null,null,null,null,null,null,null,null,null,null,null,null,null,null,null,null,null,null,null,null,null,null,null,null,null,null,null,null,null,null,null,null,null,null,null,null,null,null,null,null,null,null,null,null,null,null,null,null,null,null,null,null,null,null,null,null,null,null,null,null,null,null,null,null,null,null,null,{"$f":"IF(GH2393-GG2393=0,90,DEGREES(ATAN('Исходные данные'!$F$30/(GH2393-GG2393))))","v":90},515.22119518872603,0.13156852163091701,47.364667787130124,515.22119518872603,0.13156852163091701,47.364667787130124,0,0,76,{"$f":"$GX$2312-GX2462","v":0},{"$f":"$GX$2313-GX2463","v":0},{"$f":"'Исходные данные'!$F$32/2/SIN(RADIANS(FW2393))","v":82},{"$f":"GI2393+SQRT('Исходные данные'!$F$30^2+(Чертёж!GH2393-Чертёж!GG2393)^2)","v":82},60.325722486524462,60.325722486524462,0,{"$f":"IF(GX2467<$HN$2320,0,1)","v":1},null,null,null,null,null,null,null,null,"Основание",{"$f":"IF(GX2392>GX$2310,GX2392,HF2392-(HF2392-HF2390)/5)","v":873.27276190476186},461.875,null,null,null,1,811,232.875,{"$f":"HF2392","v":873.27276190476186},461.875]
[null,null,null,null,null,null,null,null,null,null,null,null,null,null,null,null,null,null,null,null,null,null,null,null,null,null,null,null,null,null,null,null,null,null,null,null,null,null,null,null,null,null,null,null,null,null,null,null,null,null,null,null,null,null,null,null,null,null,null,null,null,null,null,null,null,null,null,null,null,null,null,null,null,null,null,null,null,null,null,null,null,null,null,null,null,null,null,null,null,null,null,null,null,null,null,null,null,null,null,null,null,null,null,null,null,null,null,null,null,null,null,null,null,null,null,null,null,null,null,null,null,null,null,null,null,null,null,null,null,null,null,null,null,null,null,null,null,null,null,null,null,null,null,null,null,null,null,null,null,null,null,null,null,null,null,null,null,null,null,null,null,null,null,null,null,null,null,null,null,null,null,null,null,null,null,null,null,null,{"$f":"IF(GH2394-GG2394=0,90,DEGREES(ATAN('Исходные данные'!$F$30/(GH2394-GG2394))))","v":90},515.22119518872603,0.13156852163091701,47.364667787130124,515.22119518872603,0.13156852163091701,47.364667787130124,0,0,77,{"$f":"$GX$2312-GX2464","v":0},{"$f":"$GX$2313-GX2465","v":0},{"$f":"'Исходные данные'!$F$32/2/SIN(RADIANS(FW2394))","v":82},{"$f":"GI2394+SQRT('Исходные данные'!$F$30^2+(Чертёж!GH2394-Чертёж!GG2394)^2)","v":82},60.325722486524462,60.325722486524462,0,{"$f":"IF(GX2469<$HN$2320,0,1)","v":1},null,null,null,null,null,null,42,null,"Вершина",{"$f":"GX$2307-(GX$2307-GX$2310-(HF2392-GX$2310)*GX$2309/GX$2308)","v":873.27276190476186},461.875,42,null,null,{"$f":"IF(HF2394>=$HD$2309,1,0)","v":1},863,297.875,{"$f":"GX2307-((GX2307-GX2310-(HF2392-GX2310)*GX2309/GX2308)*('Исходные данные'!F32+'Исходные данные'!F30)/'Исходные данные'!F32)","v":873.27276190476186},{"$f":"HG2393","v":461.875}]
[null,null,null,null,null,null,null,null,null,null,null,null,null,null,null,null,null,null,null,null,null,null,null,null,null,null,null,null,null,null,null,null,null,null,null,null,null,null,null,null,null,null,null,null,null,null,null,null,null,null,null,null,null,null,null,null,null,null,null,null,null,null,null,null,null,null,null,null,null,null,null,null,null,null,null,null,null,null,null,null,null,null,null,null,null,null,null,null,null,null,null,null,null,null,null,null,null,null,null,null,null,null,null,null,null,null,null,null,null,null,null,null,null,null,null,null,null,null,null,null,null,null,null,null,null,null,null,null,null,null,null,null,null,null,null,null,null,null,null,null,null,null,null,null,null,null,null,null,null,null,null,null,null,null,null,null,null,null,null,null,null,null,null,null,null,null,null,null,null,null,null,null,null,null,null,null,null,null,{"$f":"IF(GH2395-GG2395=0,90,DEGREES(ATAN('Исходные данные'!$F$30/(GH2395-GG2395))))","v":90},515.22119518872603,0.13156852163091701,47.364667787130124,515.22119518872603,0.13156852163091701,47.364667787130124,0,0,78,{"$f":"$GX$2312-GX2466","v":0},{"$f":"$GX$2313-GX2467","v":0},{"$f":"'Исходные данные'!$F$32/2/SIN(RADIANS(FW2395))","v":82},{"$f":"GI2395+SQRT('Исходные данные'!$F$30^2+(Чертёж!GH2395-Чертёж!GG2395)^2)","v":82},60.325722486524462,60.325722486524462,0,{"$f":"IF(GX2471<$HN$2320,0,1)","v":1},null,null,null,null,null,null,null,null,"Основание",{"$f":"IF(GX2394>GX$2310,GX2394,HF2394-(HF2394-HF2392)/5)","v":873.27276190476186},461.875,null,null,null,1,811,232.875,{"$f":"HF2394","v":873.27276190476186},461.875]
[null,null,null,null,null,null,null,null,null,null,null,null,null,null,null,null,null,null,null,null,null,null,null,null,null,null,null,null,null,null,null,null,null,null,null,null,null,null,null,null,null,null,null,null,null,null,null,null,null,null,null,null,null,null,null,null,null,null,null,null,null,null,null,null,null,null,null,null,null,null,null,null,null,null,null,null,null,null,null,null,null,null,null,null,null,null,null,null,null,null,null,null,null,null,null,null,null,null,null,null,null,null,null,null,null,null,null,null,null,null,null,null,null,null,null,null,null,null,null,null,null,null,null,null,null,null,null,null,null,null,null,null,null,null,null,null,null,null,null,null,null,null,null,null,null,null,null,null,null,null,null,null,null,null,null,null,null,null,null,null,null,null,null,null,null,null,null,null,null,null,null,null,null,null,null,null,null,null,{"$f":"IF(GH2396-GG2396=0,90,DEGREES(ATAN('Исходные данные'!$F$30/(GH2396-GG2396))))","v":90},515.22119518872603,0.13156852163091701,47.364667787130124,515.22119518872603,0.13156852163091701,47.364667787130124,0,0,79,{"$f":"$GX$2312-GX2468","v":0},{"$f":"$GX$2313-GX2469","v":0},{"$f":"'Исходные данные'!$F$32/2/SIN(RADIANS(FW2396))","v":82},{"$f":"GI2396+SQRT('Исходные данные'!$F$30^2+(Чертёж!GH2396-Чертёж!GG2396)^2)","v":82},60.325722486524462,60.325722486524462,0,{"$f":"IF(GX2473<$HN$2320,0,1)","v":1},null,null,null,null,null,null,43,null,"Вершина",{"$f":"GX$2307-(GX$2307-GX$2310-(HF2394-GX$2310)*GX$2309/GX$2308)","v":873.27276190476186},461.875,43,null,null,1,863,297.875,{"$f":"GX2307-((GX2307-GX2310-(HF2394-GX2310)*GX2309/GX2308)*('Исходные данные'!F32+'Исходные данные'!F30)/'Исходные данные'!F32)","v":873.27276190476186},461.875]
[null,null,null,null,null,null,null,null,null,null,null,null,null,null,null,null,null,null,null,null,null,null,null,null,null,null,null,null,null,null,null,null,null,null,null,null,null,null,null,null,null,null,null,null,null,null,null,null,null,null,null,null,null,null,null,null,null,null,null,null,null,null,null,null,null,null,null,null,null,null,null,null,null,null,null,null,null,null,null,null,null,null,null,null,null,null,null,null,null,null,null,null,null,null,null,null,null,null,null,null,null,null,null,null,null,null,null,null,null,null,null,null,null,null,null,null,null,null,null,null,null,null,null,null,null,null,null,null,null,null,null,null,null,null,null,null,null,null,null,null,null,null,null,null,null,null,null,null,null,null,null,null,null,null,null,null,null,null,null,null,null,null,null,null,null,null,null,null,null,null,null,null,null,null,null,null,null,null,{"$f":"IF(GH2397-GG2397=0,90,DEGREES(ATAN('Исходные данные'!$F$30/(GH2397-GG2397))))","v":90},515.22119518872603,0.13156852163091701,47.364667787130124,515.22119518872603,0.13156852163091701,47.364667787130124,0,0,80,{"$f":"$GX$2312-GX2470","v":0},{"$f":"$GX$2313-GX2471","v":0},{"$f":"'Исходные данные'!$F$32/2/SIN(RADIANS(FW2397))","v":82},{"$f":"GI2397+SQRT('Исходные данные'!$F$30^2+(Чертёж!GH2397-Чертёж!GG2397)^2)","v":82},60.325722486524462,60.325722486524462,0,{"$f":"IF(GX2475<$HN$2320,0,1)","v":1},null,null,null,null,null,null,null,null,"Основание",{"$f":"IF(GX2396>GX$2310,GX2396,HF2396-(HF2396-HF2394)/5)","v":873.27276190476186},461.875,null,null,null,1,811,232.875,{"$f":"HF2396","v":873.27276190476186},461.875]
[null,null,null,null,null,null,null,null,null,null,null,null,null,null,null,null,null,null,null,null,null,null,null,null,null,null,null,null,null,null,null,null,null,null,null,null,null,null,null,null,null,null,null,null,null,null,null,null,null,null,null,null,null,null,null,null,null,null,null,null,null,null,null,null,null,null,null,null,null,null,null,null,null,null,null,null,null,null,null,null,null,null,null,null,null,null,null,null,null,null,null,null,null,null,null,null,null,null,null,null,null,null,null,null,null,null,null,null,null,null,null,null,null,null,null,null,null,null,null,null,null,null,null,null,null,null,null,null,null,null,null,null,null,null,null,null,null,null,null,null,null,null,null,null,null,null,null,null,null,null,null,null,null,null,null,null,null,null,null,null,null,null,null,null,null,null,null,null,null,null,null,null,null,null,null,null,null,null,{"$f":"IF(GH2398-GG2398=0,90,DEGREES(ATAN('Исходные данные'!$F$30/(GH2398-GG2398))))","v":90},515.22119518872603,0.13156852163091701,47.364667787130124,515.22119518872603,0.13156852163091701,47.364667787130124,0,0,81,{"$f":"$GX$2312-GX2472","v":0},{"$f":"$GX$2313-GX2473","v":0},{"$f":"'Исходные данные'!$F$32/2/SIN(RADIANS(FW2398))","v":82},{"$f":"GI2398+SQRT('Исходные данные'!$F$30^2+(Чертёж!GH2398-Чертёж!GG2398)^2)","v":82},60.325722486524462,60.325722486524462,0,{"$f":"IF(GX2477<$HN$2320,0,1)","v":1},null,null,null,null,null,null,44,null,"Вершина",{"$f":"GX$2307-(GX$2307-GX$2310-(HF2396-GX$2310)*GX$2309/GX$2308)","v":873.27276190476186},461.875,44,null,null,1,863,297.875,{"$f":"GX2307-((GX2307-GX2310-(HF2396-GX2310)*GX2309/GX2308)*('Исходные данные'!F32+'Исходные данные'!F30)/'Исходные данные'!F32)","v":873.27276190476186},461.875]
[null,null,null,null,null,null,null,null,null,null,null,null,null,null,null,null,null,null,null,null,null,null,null,null,null,null,null,null,null,null,null,null,null,null,null,null,null,null,null,null,null,null,null,null,null,null,null,null,null,null,null,null,null,null,null,null,null,null,null,null,null,null,null,null,null,null,null,null,null,null,null,null,null,null,null,null,null,null,null,null,null,null,null,null,null,null,null,null,null,null,null,null,null,null,null,null,null,null,null,null,null,null,null,null,null,null,null,null,null,null,null,null,null,null,null,null,null,null,null,null,null,null,null,null,null,null,null,null,null,null,null,null,null,null,null,null,null,null,null,null,null,null,null,null,null,null,null,null,null,null,null,null,null,null,null,null,null,null,null,null,null,null,null,null,null,null,null,null,null,null,null,null,null,null,null,null,null,null,{"$f":"IF(GH2399-GG2399=0,90,DEGREES(ATAN('Исходные данные'!$F$30/(GH2399-GG2399))))","v":90},515.22119518872603,0.13156852163091701,47.364667787130124,515.22119518872603,0.13156852163091701,47.364667787130124,0,0,82,{"$f":"$GX$2312-GX2474","v":0},{"$f":"$GX$2313-GX2475","v":0},{"$f":"'Исходные данные'!$F$32/2/SIN(RADIANS(FW2399))","v":82},{"$f":"GI2399+SQRT('Исходные данные'!$F$30^2+(Чертёж!GH2399-Чертёж!GG2399)^2)","v":82},60.325722486524462,60.325722486524462,0,{"$f":"IF(GX2479<$HN$2320,0,1)","v":1},null,null,null,null,null,null,null,null,"Основание",{"$f":"IF(GX2398>GX$2310,GX2398,HF2398-(HF2398-HF2396)/5)","v":873.27276190476186},461.875,null,null,null,1,811,232.875,{"$f":"HF2398","v":873.27276190476186},461.875]
[null,null,null,null,null,null,null,null,null,null,null,null,null,null,null,null,null,null,null,null,null,null,null,null,null,null,null,null,null,null,null,null,null,null,null,null,null,null,null,null,null,null,null,null,null,null,null,null,null,null,null,null,null,null,null,null,null,null,null,null,null,null,null,null,null,null,null,null,null,null,null,null,null,null,null,null,null,null,null,null,null,null,null,null,null,null,null,null,null,null,null,null,null,null,null,null,null,null,null,null,null,null,null,null,null,null,null,null,null,null,null,null,null,null,null,null,null,null,null,null,null,null,null,null,null,null,null,null,null,null,null,null,null,null,null,null,null,null,null,null,null,null,null,null,null,null,null,null,null,null,null,null,null,null,null,null,null,null,null,null,null,null,null,null,null,null,null,null,null,null,null,null,null,null,null,null,null,null,{"$f":"IF(GH2400-GG2400=0,90,DEGREES(ATAN('Исходные данные'!$F$30/(GH2400-GG2400))))","v":90},515.22119518872603,0.13156852163091701,47.364667787130124,515.22119518872603,0.13156852163091701,47.364667787130124,0,0,83,{"$f":"$GX$2312-GX2476","v":0},{"$f":"$GX$2313-GX2477","v":0},{"$f":"'Исходные данные'!$F$32/2/SIN(RADIANS(FW2400))","v":82},{"$f":"GI2400+SQRT('Исходные данные'!$F$30^2+(Чертёж!GH2400-Чертёж!GG2400)^2)","v":82},60.325722486524462,60.325722486524462,0,{"$f":"IF(GX2481<$HN$2320,0,1)","v":1},null,null,null,null,null,null,45,null,"Вершина",{"$f":"GX$2307-(GX$2307-GX$2310-(HF2398-GX$2310)*GX$2309/GX$2308)","v":873.27276190476186},461.875,45,null,null,1,863,297.875,{"$f":"GX2307-((GX2307-GX2310-(HF2398-GX2310)*GX2309/GX2308)*('Исходные данные'!F32+'Исходные данные'!F30)/'Исходные данные'!F32)","v":873.27276190476186},461.875]
[null,null,null,null,null,null,null,null,null,null,null,null,null,null,null,null,null,null,null,null,null,null,null,null,null,null,null,null,null,null,null,null,null,null,null,null,null,null,null,null,null,null,null,null,null,null,null,null,null,null,null,null,null,null,null,null,null,null,null,null,null,null,null,null,null,null,null,null,null,null,null,null,null,null,null,null,null,null,null,null,null,null,null,null,null,null,null,null,null,null,null,null,null,null,null,null,null,null,null,null,null,null,null,null,null,null,null,null,null,null,null,null,null,null,null,null,null,null,null,null,null,null,null,null,null,null,null,null,null,null,null,null,null,null,null,null,null,null,null,null,null,null,null,null,null,null,null,null,null,null,null,null,null,null,null,null,null,null,null,null,null,null,null,null,null,null,null,null,null,null,null,null,null,null,null,null,null,null,{"$f":"IF(GH2401-GG2401=0,90,DEGREES(ATAN('Исходные данные'!$F$30/(GH2401-GG2401))))","v":90},515.22119518872603,0.13156852163091701,47.364667787130124,515.22119518872603,0.13156852163091701,47.364667787130124,0,0,84,{"$f":"$GX$2312-GX2478","v":0},{"$f":"$GX$2313-GX2479","v":0},{"$f":"'Исходные данные'!$F$32/2/SIN(RADIANS(FW2401))","v":82},{"$f":"GI2401+SQRT('Исходные данные'!$F$30^2+(Чертёж!GH2401-Чертёж!GG2401)^2)","v":82},60.325722486524462,60.325722486524462,0,{"$f":"IF(GX2483<$HN$2320,0,1)","v":1},null,null,null,null,null,null,null,null,"Основание",{"$f":"IF(GX2400>GX$2310,GX2400,HF2400-(HF2400-HF2398)/5)","v":873.27276190476186},461.875,null,null,null,1,811,232.875,{"$f":"HF2400","v":873.27276190476186},461.875]
[null,null,null,null,null,null,null,null,null,null,null,null,null,null,null,null,null,null,null,null,null,null,null,null,null,null,null,null,null,null,null,null,null,null,null,null,null,null,null,null,null,null,null,null,null,null,null,null,null,null,null,null,null,null,null,null,null,null,null,null,null,null,null,null,null,null,null,null,null,null,null,null,null,null,null,null,null,null,null,null,null,null,null,null,null,null,null,null,null,null,null,null,null,null,null,null,null,null,null,null,null,null,null,null,null,null,null,null,null,null,null,null,null,null,null,null,null,null,null,null,null,null,null,null,null,null,null,null,null,null,null,null,null,null,null,null,null,null,null,null,null,null,null,null,null,null,null,null,null,null,null,null,null,null,null,null,null,null,null,null,null,null,null,null,null,null,null,null,null,null,null,null,null,null,null,null,null,null,{"$f":"IF(GH2402-GG2402=0,90,DEGREES(ATAN('Исходные данные'!$F$30/(GH2402-GG2402))))","v":90},515.22119518872603,0.13156852163091701,47.364667787130124,515.22119518872603,0.13156852163091701,47.364667787130124,0,0,85,{"$f":"$GX$2312-GX2480","v":0},{"$f":"$GX$2313-GX2481","v":0},{"$f":"'Исходные данные'!$F$32/2/SIN(RADIANS(FW2402))","v":82},{"$f":"GI2402+SQRT('Исходные данные'!$F$30^2+(Чертёж!GH2402-Чертёж!GG2402)^2)","v":82},60.325722486524462,60.325722486524462,0,{"$f":"IF(GX2485<$HN$2320,0,1)","v":1},null,null,null,null,null,null,46,null,"Вершина",{"$f":"GX$2307-(GX$2307-GX$2310-(HF2400-GX$2310)*GX$2309/GX$2308)","v":873.27276190476186},461.875,46,null,null,1,863,297.875,{"$f":"GX2307-((GX2307-GX2310-(HF2400-GX2310)*GX2309/GX2308)*('Исходные данные'!F32+'Исходные данные'!F30)/'Исходные данные'!F32)","v":873.27276190476186},461.875]
[null,null,null,null,null,null,null,null,null,null,null,null,null,null,null,null,null,null,null,null,null,null,null,null,null,null,null,null,null,null,null,null,null,null,null,null,null,null,null,null,null,null,null,null,null,null,null,null,null,null,null,null,null,null,null,null,null,null,null,null,null,null,null,null,null,null,null,null,null,null,null,null,null,null,null,null,null,null,null,null,null,null,null,null,null,null,null,null,null,null,null,null,null,null,null,null,null,null,null,null,null,null,null,null,null,null,null,null,null,null,null,null,null,null,null,null,null,null,null,null,null,null,null,null,null,null,null,null,null,null,null,null,null,null,null,null,null,null,null,null,null,null,null,null,null,null,null,null,null,null,null,null,null,null,null,null,null,null,null,null,null,null,null,null,null,null,null,null,null,null,null,null,null,null,null,null,null,null,{"$f":"IF(GH2403-GG2403=0,90,DEGREES(ATAN('Исходные данные'!$F$30/(GH2403-GG2403))))","v":90},515.22119518872603,0.13156852163091701,47.364667787130124,515.22119518872603,0.13156852163091701,47.364667787130124,0,0,86,{"$f":"$GX$2312-GX2482","v":0},{"$f":"$GX$2313-GX2483","v":0},{"$f":"'Исходные данные'!$F$32/2/SIN(RADIANS(FW2403))","v":82},{"$f":"GI2403+SQRT('Исходные данные'!$F$30^2+(Чертёж!GH2403-Чертёж!GG2403)^2)","v":82},60.325722486524462,60.325722486524462,0,{"$f":"IF(GX2487<$HN$2320,0,1)","v":1},null,null,null,null,null,null,null,null,"Основание",{"$f":"IF(GX2402>GX$2310,GX2402,HF2402-(HF2402-HF2400)/5)","v":873.27276190476186},461.875,null,null,null,1,811,232.875,{"$f":"HF2402","v":873.27276190476186},461.875]
[null,null,null,null,null,null,null,null,null,null,null,null,null,null,null,null,null,null,null,null,null,null,null,null,null,null,null,null,null,null,null,null,null,null,null,null,null,null,null,null,null,null,null,null,null,null,null,null,null,null,null,null,null,null,null,null,null,null,null,null,null,null,null,null,null,null,null,null,null,null,null,null,null,null,null,null,null,null,null,null,null,null,null,null,null,null,null,null,null,null,null,null,null,null,null,null,null,null,null,null,null,null,null,null,null,null,null,null,null,null,null,null,null,null,null,null,null,null,null,null,null,null,null,null,null,null,null,null,null,null,null,null,null,null,null,null,null,null,null,null,null,null,null,null,null,null,null,null,null,null,null,null,null,null,null,null,null,null,null,null,null,null,null,null,null,null,null,null,null,null,null,null,null,null,null,null,null,null,{"$f":"IF(GH2404-GG2404=0,90,DEGREES(ATAN('Исходные данные'!$F$30/(GH2404-GG2404))))","v":90},515.22119518872603,0.13156852163091701,47.364667787130124,515.22119518872603,0.13156852163091701,47.364667787130124,0,0,87,{"$f":"$GX$2312-GX2484","v":0},{"$f":"$GX$2313-GX2485","v":0},{"$f":"'Исходные данные'!$F$32/2/SIN(RADIANS(FW2404))","v":82},{"$f":"GI2404+SQRT('Исходные данные'!$F$30^2+(Чертёж!GH2404-Чертёж!GG2404)^2)","v":82},60.325722486524462,60.325722486524462,0,{"$f":"IF(GX2489<$HN$2320,0,1)","v":1},null,null,null,null,null,null,47,null,"Вершина",{"$f":"GX$2307-(GX$2307-GX$2310-(HF2402-GX$2310)*GX$2309/GX$2308)","v":873.27276190476186},461.875,47,null,null,1,863,297.875,{"$f":"GX2307-((GX2307-GX2310-(HF2402-GX2310)*GX2309/GX2308)*('Исходные данные'!F32+'Исходные данные'!F30)/'Исходные данные'!F32)","v":873.27276190476186},461.875]
[null,null,null,null,null,null,null,null,null,null,null,null,null,null,null,null,null,null,null,null,null,null,null,null,null,null,null,null,null,null,null,null,null,null,null,null,null,null,null,null,null,null,null,null,null,null,null,null,null,null,null,null,null,null,null,null,null,null,null,null,null,null,null,null,null,null,null,null,null,null,null,null,null,null,null,null,null,null,null,null,null,null,null,null,null,null,null,null,null,null,null,null,null,null,null,null,null,null,null,null,null,null,null,null,null,null,null,null,null,null,null,null,null,null,null,null,null,null,null,null,null,null,null,null,null,null,null,null,null,null,null,null,null,null,null,null,null,null,null,null,null,null,null,null,null,null,null,null,null,null,null,null,null,null,null,null,null,null,null,null,null,null,null,null,null,null,null,null,null,null,null,null,null,null,null,null,null,null,{"$f":"IF(GH2405-GG2405=0,90,DEGREES(ATAN('Исходные данные'!$F$30/(GH2405-GG2405))))","v":90},515.22119518872603,0.13156852163091701,47.364667787130124,515.22119518872603,0.13156852163091701,47.364667787130124,0,0,88,{"$f":"$GX$2312-GX2486","v":0},{"$f":"$GX$2313-GX2487","v":0},{"$f":"'Исходные данные'!$F$32/2/SIN(RADIANS(FW2405))","v":82},{"$f":"GI2405+SQRT('Исходные данные'!$F$30^2+(Чертёж!GH2405-Чертёж!GG2405)^2)","v":82},60.325722486524462,60.325722486524462,0,{"$f":"IF(GX2491<$HN$2320,0,1)","v":1},null,null,null,null,null,null,null,null,"Основание",{"$f":"IF(GX2404>GX$2310,GX2404,HF2404-(HF2404-HF2402)/5)","v":873.27276190476186},461.875,null,null,null,1,811,232.875,{"$f":"HF2404","v":873.27276190476186},461.875]
[null,null,null,null,null,null,null,null,null,null,null,null,null,null,null,null,null,null,null,null,null,null,null,null,null,null,null,null,null,null,null,null,null,null,null,null,null,null,null,null,null,null,null,null,null,null,null,null,null,null,null,null,null,null,null,null,null,null,null,null,null,null,null,null,null,null,null,null,null,null,null,null,null,null,null,null,null,null,null,null,null,null,null,null,null,null,null,null,null,null,null,null,null,null,null,null,null,null,null,null,null,null,null,null,null,null,null,null,null,null,null,null,null,null,null,null,null,null,null,null,null,null,null,null,null,null,null,null,null,null,null,null,null,null,null,null,null,null,null,null,null,null,null,null,null,null,null,null,null,null,null,null,null,null,null,null,null,null,null,null,null,null,null,null,null,null,null,null,null,null,null,null,null,null,null,null,null,null,{"$f":"IF(GH2406-GG2406=0,90,DEGREES(ATAN('Исходные данные'!$F$30/(GH2406-GG2406))))","v":90},515.22119518872603,0.13156852163091701,47.364667787130124,515.22119518872603,0.13156852163091701,47.364667787130124,0,0,89,{"$f":"$GX$2312-GX2488","v":0},{"$f":"$GX$2313-GX2489","v":0},{"$f":"'Исходные данные'!$F$32/2/SIN(RADIANS(FW2406))","v":82},{"$f":"GI2406+SQRT('Исходные данные'!$F$30^2+(Чертёж!GH2406-Чертёж!GG2406)^2)","v":82},60.325722486524462,60.325722486524462,0,{"$f":"IF(GX2493<$HN$2320,0,1)","v":1},null,null,null,null,null,null,48,null,"Вершина",{"$f":"GX$2307-(GX$2307-GX$2310-(HF2404-GX$2310)*GX$2309/GX$2308)","v":873.27276190476186},461.875,48,null,null,1,863,297.875,{"$f":"GX2307-((GX2307-GX2310-(HF2404-GX2310)*GX2309/GX2308)*('Исходные данные'!F32+'Исходные данные'!F30)/'Исходные данные'!F32)","v":873.27276190476186},461.875]
[null,null,null,null,null,null,null,null,null,null,null,null,null,null,null,null,null,null,null,null,null,null,null,null,null,null,null,null,null,null,null,null,null,null,null,null,null,null,null,null,null,null,null,null,null,null,null,null,null,null,null,null,null,null,null,null,null,null,null,null,null,null,null,null,null,null,null,null,null,null,null,null,null,null,null,null,null,null,null,null,null,null,null,null,null,null,null,null,null,null,null,null,null,null,null,null,null,null,null,null,null,null,null,null,null,null,null,null,null,null,null,null,null,null,null,null,null,null,null,null,null,null,null,null,null,null,null,null,null,null,null,null,null,null,null,null,null,null,null,null,null,null,null,null,null,null,null,null,null,null,null,null,null,null,null,null,null,null,null,null,null,null,null,null,null,null,null,null,null,null,null,null,null,null,null,null,null,null,{"$f":"IF(GH2407-GG2407=0,90,DEGREES(ATAN('Исходные данные'!$F$30/(GH2407-GG2407))))","v":90},515.22119518872603,0.13156852163091701,47.364667787130124,515.22119518872603,0.13156852163091701,47.364667787130124,0,0,90,{"$f":"$GX$2312-GX2490","v":0},{"$f":"$GX$2313-GX2491","v":0},{"$f":"'Исходные данные'!$F$32/2/SIN(RADIANS(FW2407))","v":82},{"$f":"GI2407+SQRT('Исходные данные'!$F$30^2+(Чертёж!GH2407-Чертёж!GG2407)^2)","v":82},60.325722486524462,60.325722486524462,0,{"$f":"IF(GX2495<$HN$2320,0,1)","v":1},null,null,null,null,null,null,null,null,"Основание",{"$f":"IF(GX2406>GX$2310,GX2406,HF2406-(HF2406-HF2404)/5)","v":873.27276190476186},461.875,null,null,null,1,811,232.875,{"$f":"HF2406","v":873.27276190476186},461.875]
[null,null,null,null,null,null,null,null,null,null,null,null,null,null,null,null,null,null,null,null,null,null,null,null,null,null,null,null,null,null,null,null,null,null,null,null,null,null,null,null,null,null,null,null,null,null,null,null,null,null,null,null,null,null,null,null,null,null,null,null,null,null,null,null,null,null,null,null,null,null,null,null,null,null,null,null,null,null,null,null,null,null,null,null,null,null,null,null,null,null,null,null,null,null,null,null,null,null,null,null,null,null,null,null,null,null,null,null,null,null,null,null,null,null,null,null,null,null,null,null,null,null,null,null,null,null,null,null,null,null,null,null,null,null,null,null,null,null,null,null,null,null,null,null,null,null,null,null,null,null,null,null,null,null,null,null,null,null,null,null,null,null,null,null,null,null,null,null,null,null,null,null,null,null,null,null,null,null,{"$f":"IF(GH2408-GG2408=0,90,DEGREES(ATAN('Исходные данные'!$F$30/(GH2408-GG2408))))","v":90},515.22119518872603,0.13156852163091701,47.364667787130124,515.22119518872603,0.13156852163091701,47.364667787130124,0,0,91,{"$f":"$GX$2312-GX2492","v":0},{"$f":"$GX$2313-GX2493","v":0},{"$f":"'Исходные данные'!$F$32/2/SIN(RADIANS(FW2408))","v":82},{"$f":"GI2408+SQRT('Исходные данные'!$F$30^2+(Чертёж!GH2408-Чертёж!GG2408)^2)","v":82},60.325722486524462,60.325722486524462,0,{"$f":"IF(GX2497<$HN$2320,0,1)","v":1},null,null,null,null,null,null,49,null,"Вершина",{"$f":"GX$2307-(GX$2307-GX$2310-(HF2406-GX$2310)*GX$2309/GX$2308)","v":873.27276190476186},461.875,49,null,null,1,863,297.875,{"$f":"GX2307-((GX2307-GX2310-(HF2406-GX2310)*GX2309/GX2308)*('Исходные данные'!F32+'Исходные данные'!F30)/'Исходные данные'!F32)","v":873.27276190476186},461.875]
[null,null,null,null,null,null,null,null,null,null,null,null,null,null,null,null,null,null,null,null,null,null,null,null,null,null,null,null,null,null,null,null,null,null,null,null,null,null,null,null,null,null,null,null,null,null,null,null,null,null,null,null,null,null,null,null,null,null,null,null,null,null,null,null,null,null,null,null,null,null,null,null,null,null,null,null,null,null,null,null,null,null,null,null,null,null,null,null,null,null,null,null,null,null,null,null,null,null,null,null,null,null,null,null,null,null,null,null,null,null,null,null,null,null,null,null,null,null,null,null,null,null,null,null,null,null,null,null,null,null,null,null,null,null,null,null,null,null,null,null,null,null,null,null,null,null,null,null,null,null,null,null,null,null,null,null,null,null,null,null,null,null,null,null,null,null,null,null,null,null,null,null,null,null,null,null,null,null,{"$f":"IF(GH2409-GG2409=0,90,DEGREES(ATAN('Исходные данные'!$F$30/(GH2409-GG2409))))","v":90},515.22119518872603,0.13156852163091701,47.364667787130124,515.22119518872603,0.13156852163091701,47.364667787130124,0,0,92,{"$f":"$GX$2312-GX2494","v":0},{"$f":"$GX$2313-GX2495","v":0},{"$f":"'Исходные данные'!$F$32/2/SIN(RADIANS(FW2409))","v":82},{"$f":"GI2409+SQRT('Исходные данные'!$F$30^2+(Чертёж!GH2409-Чертёж!GG2409)^2)","v":82},60.325722486524462,60.325722486524462,0,{"$f":"IF(GX2499<$HN$2320,0,1)","v":1},null,null,null,null,null,null,null,null,"Основание",{"$f":"IF(GX2408>GX$2310,GX2408,HF2408-(HF2408-HF2406)/5)","v":873.27276190476186},461.875,null,null,null,1,811,232.875,{"$f":"HF2408","v":873.27276190476186},461.875]
[null,null,null,null,null,null,null,null,null,null,null,null,null,null,null,null,null,null,null,null,null,null,null,null,null,null,null,null,null,null,null,null,null,null,null,null,null,null,null,null,null,null,null,null,null,null,null,null,null,null,null,null,null,null,null,null,null,null,null,null,null,null,null,null,null,null,null,null,null,null,null,null,null,null,null,null,null,null,null,null,null,null,null,null,null,null,null,null,null,null,null,null,null,null,null,null,null,null,null,null,null,null,null,null,null,null,null,null,null,null,null,null,null,null,null,null,null,null,null,null,null,null,null,null,null,null,null,null,null,null,null,null,null,null,null,null,null,null,null,null,null,null,null,null,null,null,null,null,null,null,null,null,null,null,null,null,null,null,null,null,null,null,null,null,null,null,null,null,null,null,null,null,null,null,null,null,null,null,{"$f":"IF(GH2410-GG2410=0,90,DEGREES(ATAN('Исходные данные'!$F$30/(GH2410-GG2410))))","v":90},515.22119518872603,0.13156852163091701,47.364667787130124,515.22119518872603,0.13156852163091701,47.364667787130124,0,0,93,{"$f":"$GX$2312-GX2496","v":0},{"$f":"$GX$2313-GX2497","v":0},{"$f":"'Исходные данные'!$F$32/2/SIN(RADIANS(FW2410))","v":82},{"$f":"GI2410+SQRT('Исходные данные'!$F$30^2+(Чертёж!GH2410-Чертёж!GG2410)^2)","v":82},60.325722486524462,60.325722486524462,0,{"$f":"IF(GX2501<$HN$2320,0,1)","v":1},null,null,null,null,null,null,50,null,"Вершина",{"$f":"GX$2307-(GX$2307-GX$2310-(HF2408-GX$2310)*GX$2309/GX$2308)","v":873.27276190476186},461.875,50,null,null,1,863,297.875,{"$f":"GX2307-((GX2307-GX2310-(HF2408-GX2310)*GX2309/GX2308)*('Исходные данные'!F32+'Исходные данные'!F30)/'Исходные данные'!F32)","v":873.27276190476186},461.875]
[null,null,null,null,null,null,null,null,null,null,null,null,null,null,null,null,null,null,null,null,null,null,null,null,null,null,null,null,null,null,null,null,null,null,null,null,null,null,null,null,null,null,null,null,null,null,null,null,null,null,null,null,null,null,null,null,null,null,null,null,null,null,null,null,null,null,null,null,null,null,null,null,null,null,null,null,null,null,null,null,null,null,null,null,null,null,null,null,null,null,null,null,null,null,null,null,null,null,null,null,null,null,null,null,null,null,null,null,null,null,null,null,null,null,null,null,null,null,null,null,null,null,null,null,null,null,null,null,null,null,null,null,null,null,null,null,null,null,null,null,null,null,null,null,null,null,null,null,null,null,null,null,null,null,null,null,null,null,null,null,null,null,null,null,null,null,null,null,null,null,null,null,null,null,null,null,null,null,{"$f":"IF(GH2411-GG2411=0,90,DEGREES(ATAN('Исходные данные'!$F$30/(GH2411-GG2411))))","v":90},515.22119518872603,0.13156852163091701,47.364667787130124,515.22119518872603,0.13156852163091701,47.364667787130124,0,0,94,{"$f":"$GX$2312-GX2498","v":0},{"$f":"$GX$2313-GX2499","v":0},{"$f":"'Исходные данные'!$F$32/2/SIN(RADIANS(FW2411))","v":82},{"$f":"GI2411+SQRT('Исходные данные'!$F$30^2+(Чертёж!GH2411-Чертёж!GG2411)^2)","v":82},60.325722486524462,60.325722486524462,0,{"$f":"IF(GX2503<$HN$2320,0,1)","v":1},null,null,null,null,null,null,null,null,"Основание",{"$f":"IF(GX2410>GX$2310,GX2410,HF2410-(HF2410-HF2408)/5)","v":873.27276190476186},461.875,null,null,null,1,811,232.875,{"$f":"HF2410","v":873.27276190476186},461.875]
[null,null,null,null,null,null,null,null,null,null,null,null,null,null,null,null,null,null,null,null,null,null,null,null,null,null,null,null,null,null,null,null,null,null,null,null,null,null,null,null,null,null,null,null,null,null,null,null,null,null,null,null,null,null,null,null,null,null,null,null,null,null,null,null,null,null,null,null,null,null,null,null,null,null,null,null,null,null,null,null,null,null,null,null,null,null,null,null,null,null,null,null,null,null,null,null,null,null,null,null,null,null,null,null,null,null,null,null,null,null,null,null,null,null,null,null,null,null,null,null,null,null,null,null,null,null,null,null,null,null,null,null,null,null,null,null,null,null,null,null,null,null,null,null,null,null,null,null,null,null,null,null,null,null,null,null,null,null,null,null,null,null,null,null,null,null,null,null,null,null,null,null,null,null,null,null,null,null,{"$f":"IF(GH2412-GG2412=0,90,DEGREES(ATAN('Исходные данные'!$F$30/(GH2412-GG2412))))","v":90},515.22119518872603,0.13156852163091701,47.364667787130124,515.22119518872603,0.13156852163091701,47.364667787130124,0,0,95,{"$f":"$GX$2312-GX2500","v":0},{"$f":"$GX$2313-GX2501","v":0},{"$f":"'Исходные данные'!$F$32/2/SIN(RADIANS(FW2412))","v":82},{"$f":"GI2412+SQRT('Исходные данные'!$F$30^2+(Чертёж!GH2412-Чертёж!GG2412)^2)","v":82},60.325722486524462,60.325722486524462,0,{"$f":"IF(GX2505<$HN$2320,0,1)","v":1},null,null,null,null,null,null,51,null,"Вершина",{"$f":"GX$2307-(GX$2307-GX$2310-(HF2410-GX$2310)*GX$2309/GX$2308)","v":873.27276190476186},461.875,51,null,null,1,{"$f":"HD2410","v":863},297.875,{"$f":"GX2307-((GX2307-GX2310-(HF2410-GX2310)*GX2309/GX2308)*('Исходные данные'!F32+'Исходные данные'!F30)/'Исходные данные'!F32)","v":873.27276190476186},461.875]
[null,null,null,null,null,null,null,null,null,null,null,null,null,null,null,null,null,null,null,null,null,null,null,null,null,null,null,null,null,null,null,null,null,null,null,null,null,null,null,null,null,null,null,null,null,null,null,null,null,null,null,null,null,null,null,null,null,null,null,null,null,null,null,null,null,null,null,null,null,null,null,null,null,null,null,null,null,null,null,null,null,null,null,null,null,null,null,null,null,null,null,null,null,null,null,null,null,null,null,null,null,null,null,null,null,null,null,null,null,null,null,null,null,null,null,null,null,null,null,null,null,null,null,null,null,null,null,null,null,null,null,null,null,null,null,null,null,null,null,null,null,null,null,null,null,null,null,null,null,null,null,null,null,null,null,null,null,null,null,null,null,null,null,null,null,null,null,null,null,null,null,null,null,null,null,null,null,null,{"$f":"IF(GH2413-GG2413=0,90,DEGREES(ATAN('Исходные данные'!$F$30/(GH2413-GG2413))))","v":90},515.22119518872603,0.13156852163091701,47.364667787130124,515.22119518872603,0.13156852163091701,47.364667787130124,0,0,96,{"$f":"$GX$2312-GX2502","v":0},{"$f":"$GX$2313-GX2503","v":0},{"$f":"'Исходные данные'!$F$32/2/SIN(RADIANS(FW2413))","v":82},{"$f":"GI2413+SQRT('Исходные данные'!$F$30^2+(Чертёж!GH2413-Чертёж!GG2413)^2)","v":82},60.325722486524462,60.325722486524462,0,{"$f":"IF(GX2507<$HN$2320,0,1)","v":1},null,null,null,null,null,null,null,null,"Основание",{"$f":"IF(GX2412>GX$2310,GX2412,HF2412-(HF2412-HF2410)/5)","v":873.27276190476186},461.875,null,null,null,1,811,232.875,{"$f":"HF2412","v":873.27276190476186},461.875]
[null,null,null,null,null,null,null,null,null,null,null,null,null,null,null,null,null,null,null,null,null,null,null,null,null,null,null,null,null,null,null,null,null,null,null,null,null,null,null,null,null,null,null,null,null,null,null,null,null,null,null,null,null,null,null,null,null,null,null,null,null,null,null,null,null,null,null,null,null,null,null,null,null,null,null,null,null,null,null,null,null,null,null,null,null,null,null,null,null,null,null,null,null,null,null,null,null,null,null,null,null,null,null,null,null,null,null,null,null,null,null,null,null,null,null,null,null,null,null,null,null,null,null,null,null,null,null,null,null,null,null,null,null,null,null,null,null,null,null,null,null,null,null,null,null,null,null,null,null,null,null,null,null,null,null,null,null,null,null,null,null,null,null,null,null,null,null,null,null,null,null,null,null,null,null,null,null,null,{"$f":"IF(GH2414-GG2414=0,90,DEGREES(ATAN('Исходные данные'!$F$30/(GH2414-GG2414))))","v":90},515.22119518872603,0.13156852163091701,47.364667787130124,515.22119518872603,0.13156852163091701,47.364667787130124,0,0,97,{"$f":"$GX$2312-GX2504","v":0},{"$f":"$GX$2313-GX2505","v":0},{"$f":"'Исходные данные'!$F$32/2/SIN(RADIANS(FW2414))","v":82},{"$f":"GI2414+SQRT('Исходные данные'!$F$30^2+(Чертёж!GH2414-Чертёж!GG2414)^2)","v":82},60.325722486524462,60.325722486524462,0,{"$f":"IF(GX2509<$HN$2320,0,1)","v":1},null,null,null,null,null,null,52,null,"Вершина",{"$f":"GX$2307-(GX$2307-GX$2310-(HF2412-GX$2310)*GX$2309/GX$2308)","v":873.27276190476186},461.875,52,null,null,1,863,297.875,{"$f":"GX2307-((GX2307-GX2310-(HF2412-GX2310)*GX2309/GX2308)*('Исходные данные'!F32+'Исходные данные'!F30)/'Исходные данные'!F32)","v":873.27276190476186},461.875]
[null,null,null,null,null,null,null,null,null,null,null,null,null,null,null,null,null,null,null,null,null,null,null,null,null,null,null,null,null,null,null,null,null,null,null,null,null,null,null,null,null,null,null,null,null,null,null,null,null,null,null,null,null,null,null,null,null,null,null,null,null,null,null,null,null,null,null,null,null,null,null,null,null,null,null,null,null,null,null,null,null,null,null,null,null,null,null,null,null,null,null,null,null,null,null,null,null,null,null,null,null,null,null,null,null,null,null,null,null,null,null,null,null,null,null,null,null,null,null,null,null,null,null,null,null,null,null,null,null,null,null,null,null,null,null,null,null,null,null,null,null,null,null,null,null,null,null,null,null,null,null,null,null,null,null,null,null,null,null,null,null,null,null,null,null,null,null,null,null,null,null,null,null,null,null,null,null,null,{"$f":"IF(GH2415-GG2415=0,90,DEGREES(ATAN('Исходные данные'!$F$30/(GH2415-GG2415))))","v":90},515.22119518872603,0.13156852163091701,47.364667787130124,515.22119518872603,0.13156852163091701,47.364667787130124,0,0,98,{"$f":"$GX$2312-GX2506","v":0},{"$f":"$GX$2313-GX2507","v":0},{"$f":"'Исходные данные'!$F$32/2/SIN(RADIANS(FW2415))","v":82},{"$f":"GI2415+SQRT('Исходные данные'!$F$30^2+(Чертёж!GH2415-Чертёж!GG2415)^2)","v":82},60.325722486524462,60.325722486524462,0,{"$f":"IF(GX2511<$HN$2320,0,1)","v":1},null,null,null,null,null,null,null,null,"Основание",{"$f":"IF(GX2414>GX$2310,GX2414,HF2414-(HF2414-HF2412)/5)","v":873.27276190476186},461.875,null,null,null,1,811,232.875,{"$f":"HF2414","v":873.27276190476186},461.875]
[null,null,null,null,null,null,null,null,null,null,null,null,null,null,null,null,null,null,null,null,null,null,null,null,null,null,null,null,null,null,null,null,null,null,null,null,null,null,null,null,null,null,null,null,null,null,null,null,null,null,null,null,null,null,null,null,null,null,null,null,null,null,null,null,null,null,null,null,null,null,null,null,null,null,null,null,null,null,null,null,null,null,null,null,null,null,null,null,null,null,null,null,null,null,null,null,null,null,null,null,null,null,null,null,null,null,null,null,null,null,null,null,null,null,null,null,null,null,null,null,null,null,null,null,null,null,null,null,null,null,null,null,null,null,null,null,null,null,null,null,null,null,null,null,null,null,null,null,null,null,null,null,null,null,null,null,null,null,null,null,null,null,null,null,null,null,null,null,null,null,null,null,null,null,null,null,null,null,{"$f":"IF(GH2416-GG2416=0,90,DEGREES(ATAN('Исходные данные'!$F$30/(GH2416-GG2416))))","v":90},515.22119518872603,0.13156852163091701,47.364667787130124,515.22119518872603,0.13156852163091701,47.364667787130124,0,0,99,{"$f":"$GX$2312-GX2508","v":0},{"$f":"$GX$2313-GX2509","v":0},{"$f":"'Исходные данные'!$F$32/2/SIN(RADIANS(FW2416))","v":82},{"$f":"GI2416+SQRT('Исходные данные'!$F$30^2+(Чертёж!GH2416-Чертёж!GG2416)^2)","v":82},60.325722486524462,60.325722486524462,0,{"$f":"IF(GX2513<$HN$2320,0,1)","v":0},null,null,null,null,null,null,53,null,"Вершина",{"$f":"GX$2307-(GX$2307-GX$2310-(HF2414-GX$2310)*GX$2309/GX$2308)","v":873.27276190476186},461.875,53,null,null,1,863,297.875,{"$f":"GX2307-((GX2307-GX2310-(HF2414-GX2310)*GX2309/GX2308)*('Исходные данные'!F32+'Исходные данные'!F30)/'Исходные данные'!F32)","v":873.27276190476186},461.875]
[null,null,null,null,null,null,null,null,null,null,null,null,null,null,null,null,null,null,null,null,null,null,null,null,null,null,null,null,null,null,null,null,null,null,null,null,null,null,null,null,null,null,null,null,null,null,null,null,null,null,null,null,null,null,null,null,null,null,null,null,null,null,null,null,null,null,null,null,null,null,null,null,null,null,null,null,null,null,null,null,null,null,null,null,null,null,null,null,null,null,null,null,null,null,null,null,null,null,null,null,null,null,null,null,null,null,null,null,null,null,null,null,null,null,null,null,null,null,null,null,null,null,null,null,null,null,null,null,null,null,null,null,null,null,null,null,null,null,null,null,null,null,null,null,null,null,null,null,null,null,null,null,null,null,null,null,null,null,null,null,null,null,null,null,null,null,null,null,null,null,null,null,null,null,null,null,null,null,{"$f":"IF(GH2417-GG2417=0,90,DEGREES(ATAN('Исходные данные'!$F$30/(GH2417-GG2417))))","v":90},515.22119518872603,0.13156852163091701,47.364667787130124,515.22119518872603,0.13156852163091701,47.364667787130124,0,0,100,{"$f":"$GX$2312-GX2510","v":0},{"$f":"$GX$2313-GX2511","v":0},{"$f":"'Исходные данные'!$F$32/2/SIN(RADIANS(FW2417))","v":82},{"$f":"GI2417+SQRT('Исходные данные'!$F$30^2+(Чертёж!GH2417-Чертёж!GG2417)^2)","v":82},60.325722486524462,60.325722486524462,0,{"$f":"IF(GX515<$HN$2320,0,1)","v":0},null,null,null,null,null,null,null,null,"Основание",{"$f":"IF(GX2416>GX$2310,GX2416,HF2416-(HF2416-HF2414)/5)","v":873.27276190476186},461.875,null,null,null,1,811,232.875,{"$f":"HF2416","v":873.27276190476186},461.875]
[null,null,null,null,null,null,null,null,null,null,null,null,null,null,null,null,null,null,null,null,null,null,null,null,null,null,null,null,null,null,null,null,null,null,null,null,null,null,null,null,null,null,null,null,null,null,null,null,null,null,null,null,null,null,null,null,null,null,null,null,null,null,null,null,null,null,null,null,null,null,null,null,null,null,null,null,null,null,null,null,null,null,null,null,null,null,null,null,null,null,null,null,null,null,null,null,null,null,null,null,null,null,null,null,null,null,null,null,null,null,null,null,null,null,null,null,null,null,null,null,null,null,null,null,null,null,null,null,null,null,null,null,null,null,null,null,null,null,null,null,null,null,null,null,null,null,null,null,null,null,null,null,null,null,null,null,null,null,null,null,null,null,null,null,null,null,null,null,null,null,null,null,null,null,null,null,null,null,null,null,null,null,null,null,null,null,null,null,null,null,null,null,null,null,null,null,null,null,null,null,null,null,54,null,"Вершина",{"$f":"GX$2307-(GX$2307-GX$2310-(HF2416-GX$2310)*GX$2309/GX$2308)","v":873.27276190476186},461.875,54,null,null,1,863,297.875,{"$f":"GX2307-((GX2307-GX2310-(HF2416-GX2310)*GX2309/GX2308)*('Исходные данные'!F32+'Исходные данные'!F30)/'Исходные данные'!F32)","v":873.27276190476186},461.875]
[null,null,null,null,null,null,null,null,null,null,null,null,null,null,null,null,null,null,null,null,null,null,null,null,null,null,null,null,null,null,null,null,null,null,null,null,null,null,null,null,null,null,null,null,null,null,null,null,null,null,null,null,null,null,null,null,null,null,null,null,null,null,null,null,null,null,null,null,null,null,null,null,null,null,null,null,null,null,null,null,null,null,null,null,null,null,null,null,null,null,null,null,null,null,null,null,null,null,null,null,null,null,null,null,null,null,null,null,null,null,null,null,null,null,null,null,null,null,null,null,null,null,null,null,null,null,null,null,null,null,null,null,null,null,null,null,null,null,null,null,null,null,null,null,null,null,null,null,null,null,null,null,null,null,null,null,null,null,null,null,null,null,null,null,null,null,null,null,null,null,null,null,null,null,null,null,null,null,null,null,null,null,null,null,null,null,null,null,null,null,null,null,null,null,null,null,null,null,null,null,null,null,null,null,"Основание",{"$f":"IF(GX2418>GX$2310,GX2418,HF2418-(HF2418-HF2416)/5)","v":873.27276190476186},461.875,null,null,null,1,811,232.875,{"$f":"HF2418","v":873.27276190476186},461.875]
[null,null,null,null,null,null,null,null,null,null,null,null,null,null,null,null,null,null,null,null,null,null,null,null,null,null,null,null,null,null,null,null,null,null,null,null,null,null,null,null,null,null,null,null,null,null,null,null,null,null,null,null,null,null,null,null,null,null,null,null,null,null,null,null,null,null,null,null,null,null,null,null,null,null,null,null,null,null,null,null,null,null,null,null,null,null,null,null,null,null,null,null,null,null,null,null,null,null,null,null,null,null,null,null,null,null,null,null,null,null,null,null,null,null,null,null,null,null,null,null,null,null,null,null,null,null,null,null,null,null,null,null,null,null,null,null,null,null,null,null,null,null,null,null,null,null,null,null,null,null,null,null,null,null,null,null,null,null,null,null,null,null,null,null,null,null,null,null,null,null,null,null,null,null,null,null,null,null,null,null,null,null,null,null,null,null,null,null,null,null,null,null,null,null,null,null,null,null,null,null,null,null,55,null,"Вершина",{"$f":"GX$2307-(GX$2307-GX$2310-(HF2418-GX$2310)*GX$2309/GX$2308)","v":873.27276190476186},461.875,55,null,null,1,863,297.875,{"$f":"GX2307-((GX2307-GX2310-(HF2418-GX2310)*GX2309/GX2308)*('Исходные данные'!F32+'Исходные данные'!F30)/'Исходные данные'!F32)","v":873.27276190476186},461.875]
[null,null,null,null,null,null,null,null,null,null,null,null,null,null,null,null,null,null,null,null,null,null,null,null,null,null,null,null,null,null,null,null,null,null,null,null,null,null,null,null,null,null,null,null,null,null,null,null,null,null,null,null,null,null,null,null,null,null,null,null,null,null,null,null,null,null,null,null,null,null,null,null,null,null,null,null,null,null,null,null,null,null,null,null,null,null,null,null,null,null,null,null,null,null,null,null,null,null,null,null,null,null,null,null,null,null,null,null,null,null,null,null,null,null,null,null,null,null,null,null,null,null,null,null,null,null,null,null,null,null,null,null,null,null,null,null,null,null,null,null,null,null,null,null,null,null,null,null,null,null,null,null,null,null,null,null,null,null,null,null,null,null,null,null,null,null,null,null,null,null,null,null,null,null,null,null,null,null,null,null,null,null,null,null,null,null,null,null,null,null,null,null,null,null,null,null,null,null,null,null,null,null,null,null,"Основание",{"$f":"IF(GX2420>GX$2310,GX2420,HF2420-(HF2420-HF2418)/5)","v":873.27276190476186},461.875,null,null,null,1,811,232.875,{"$f":"HF2420","v":873.27276190476186},461.875]
[null,null,null,null,null,null,null,null,null,null,null,null,null,null,null,null,null,null,null,null,null,null,null,null,null,null,null,null,null,null,null,null,null,null,null,null,null,null,null,null,null,null,null,null,null,null,null,null,null,null,null,null,null,null,null,null,null,null,null,null,null,null,null,null,null,null,null,null,null,null,null,null,null,null,null,null,null,null,null,null,null,null,null,null,null,null,null,null,null,null,null,null,null,null,null,null,null,null,null,null,null,null,null,null,null,null,null,null,null,null,null,null,null,null,null,null,null,null,null,null,null,null,null,null,null,null,null,null,null,null,null,null,null,null,null,null,null,null,null,null,null,null,null,null,null,null,null,null,null,null,null,null,null,null,null,null,null,null,null,null,null,null,null,null,null,null,null,null,null,null,null,null,null,null,null,null,null,null,null,null,null,null,null,null,null,null,null,null,null,null,null,null,null,null,null,null,null,null,null,null,null,null,56,null,"Вершина",{"$f":"GX$2307-(GX$2307-GX$2310-(HF2420-GX$2310)*GX$2309/GX$2308)","v":873.27276190476186},461.875,56,null,null,1,863,297.875,{"$f":"GX2307-((GX2307-GX2310-(HF2420-GX2310)*GX2309/GX2308)*('Исходные данные'!F32+'Исходные данные'!F30)/'Исходные данные'!F32)","v":873.27276190476186},461.875]
[null,null,null,null,null,null,null,null,null,null,null,null,null,null,null,null,null,null,null,null,null,null,null,null,null,null,null,null,null,null,null,null,null,null,null,null,null,null,null,null,null,null,null,null,null,null,null,null,null,null,null,null,null,null,null,null,null,null,null,null,null,null,null,null,null,null,null,null,null,null,null,null,null,null,null,null,null,null,null,null,null,null,null,null,null,null,null,null,null,null,null,null,null,null,null,null,null,null,null,null,null,null,null,null,null,null,null,null,null,null,null,null,null,null,null,null,null,null,null,null,null,null,null,null,null,null,null,null,null,null,null,null,null,null,null,null,null,null,null,null,null,null,null,null,null,null,null,null,null,null,null,null,null,null,null,null,null,null,null,null,null,null,null,null,null,null,null,null,null,null,null,null,null,null,null,null,null,null,null,null,null,null,null,null,null,null,null,null,null,null,null,null,null,null,null,null,null,null,null,null,null,null,null,null,"Основание",{"$f":"IF(GX2422>GX$2310,GX2422,HF2422-(HF2422-HF2420)/5)","v":873.27276190476186},461.875,null,null,null,1,811,232.875,{"$f":"HF2422","v":873.27276190476186},461.875]
[null,null,null,null,null,null,null,null,null,null,null,null,null,null,null,null,null,null,null,null,null,null,null,null,null,null,null,null,null,null,null,null,null,null,null,null,null,null,null,null,null,null,null,null,null,null,null,null,null,null,null,null,null,null,null,null,null,null,null,null,null,null,null,null,null,null,null,null,null,null,null,null,null,null,null,null,null,null,null,null,null,null,null,null,null,null,null,null,null,null,null,null,null,null,null,null,null,null,null,null,null,null,null,null,null,null,null,null,null,null,null,null,null,null,null,null,null,null,null,null,null,null,null,null,null,null,null,null,null,null,null,null,null,null,null,null,null,null,null,null,null,null,null,null,null,null,null,null,null,null,null,null,null,null,null,null,null,null,null,null,null,null,null,null,null,null,null,null,null,null,null,null,null,null,null,null,null,null,null,null,null,null,null,null,null,null,null,null,null,null,null,null,null,null,null,null,null,null,null,null,null,null,57,null,"Вершина",{"$f":"GX$2307-(GX$2307-GX$2310-(HF2422-GX$2310)*GX$2309/GX$2308)","v":873.27276190476186},461.875,57,null,null,1,863,297.875,{"$f":"GX2307-((GX2307-GX2310-(HF2422-GX2310)*GX2309/GX2308)*('Исходные данные'!F32+'Исходные данные'!F30)/'Исходные данные'!F32)","v":873.27276190476186},461.875]
[null,null,null,null,null,null,null,null,null,null,null,null,null,null,null,null,null,null,null,null,null,null,null,null,null,null,null,null,null,null,null,null,null,null,null,null,null,null,null,null,null,null,null,null,null,null,null,null,null,null,null,null,null,null,null,null,null,null,null,null,null,null,null,null,null,null,null,null,null,null,null,null,null,null,null,null,null,null,null,null,null,null,null,null,null,null,null,null,null,null,null,null,null,null,null,null,null,null,null,null,null,null,null,null,null,null,null,null,null,null,null,null,null,null,null,null,null,null,null,null,null,null,null,null,null,null,null,null,null,null,null,null,null,null,null,null,null,null,null,null,null,null,null,null,null,null,null,null,null,null,null,null,null,null,null,null,null,null,null,null,null,null,null,null,null,null,null,null,null,null,null,null,null,null,null,null,null,null,null,null,null,null,null,null,null,null,null,null,null,null,null,null,null,null,null,null,null,null,null,null,null,null,null,null,"Основание",{"$f":"IF(GX2424>GX$2310,GX2424,HF2424-(HF2424-HF2422)/5)","v":873.27276190476186},461.875,null,null,null,1,811,232.875,{"$f":"HF2424","v":873.27276190476186},461.875]
[null,null,null,null,null,null,null,null,null,null,null,null,null,null,null,null,null,null,null,null,null,null,null,null,null,null,null,null,null,null,null,null,null,null,null,null,null,null,null,null,null,null,null,null,null,null,null,null,null,null,null,null,null,null,null,null,null,null,null,null,null,null,null,null,null,null,null,null,null,null,null,null,null,null,null,null,null,null,null,null,null,null,null,null,null,null,null,null,null,null,null,null,null,null,null,null,null,null,null,null,null,null,null,null,null,null,null,null,null,null,null,null,null,null,null,null,null,null,null,null,null,null,null,null,null,null,null,null,null,null,null,null,null,null,null,null,null,null,null,null,null,null,null,null,null,null,null,null,null,null,null,null,null,null,null,null,null,null,null,null,null,null,null,null,null,null,null,null,null,null,null,null,null,null,null,null,null,null,null,null,null,null,null,null,null,null,null,null,null,null,null,null,null,null,null,null,null,null,null,null,null,null,58,null,"Вершина",{"$f":"GX$2307-(GX$2307-GX$2310-(HF2424-GX$2310)*GX$2309/GX$2308)","v":873.27276190476186},461.875,58,null,null,1,863,297.875,{"$f":"GX2307-((GX2307-GX2310-(HF2424-GX2310)*GX2309/GX2308)*('Исходные данные'!F32+'Исходные данные'!F30)/'Исходные данные'!F32)","v":873.27276190476186},461.875]
[null,null,null,null,null,null,null,null,null,null,null,null,null,null,null,null,null,null,null,null,null,null,null,null,null,null,null,null,null,null,null,null,null,null,null,null,null,null,null,null,null,null,null,null,null,null,null,null,null,null,null,null,null,null,null,null,null,null,null,null,null,null,null,null,null,null,null,null,null,null,null,null,null,null,null,null,null,null,null,null,null,null,null,null,null,null,null,null,null,null,null,null,null,null,null,null,null,null,null,null,null,null,null,null,null,null,null,null,null,null,null,null,null,null,null,null,null,null,null,null,null,null,null,null,null,null,null,null,null,null,null,null,null,null,null,null,null,null,null,null,null,null,null,null,null,null,null,null,null,null,null,null,null,null,null,null,null,null,null,null,null,null,null,null,null,null,null,null,null,null,null,null,null,null,null,null,null,null,null,null,null,null,null,null,null,null,null,null,null,null,null,null,null,null,null,null,null,null,null,null,null,null,null,null,"Основание",{"$f":"IF(GX2426>GX$2310,GX2426,HF2426-(HF2426-HF2424)/5)","v":873.27276190476186},461.875,null,null,null,1,811,232.875,{"$f":"HF2426","v":873.27276190476186},461.875]
[null,null,null,null,null,null,null,null,null,null,null,null,null,null,null,null,null,null,null,null,null,null,null,null,null,null,null,null,null,null,null,null,null,null,null,null,null,null,null,null,null,null,null,null,null,null,null,null,null,null,null,null,null,null,null,null,null,null,null,null,null,null,null,null,null,null,null,null,null,null,null,null,null,null,null,null,null,null,null,null,null,null,null,null,null,null,null,null,null,null,null,null,null,null,null,null,null,null,null,null,null,null,null,null,null,null,null,null,null,null,null,null,null,null,null,null,null,null,null,null,null,null,null,null,null,null,null,null,null,null,null,null,null,null,null,null,null,null,null,null,null,null,null,null,null,null,null,null,null,null,null,null,null,null,null,null,null,null,null,null,null,null,null,null,null,null,null,null,null,null,null,null,null,null,null,null,null,null,null,null,null,null,null,null,null,null,null,null,null,null,null,null,null,null,null,null,null,null,null,null,null,null,59,null,"Вершина",{"$f":"GX$2307-(GX$2307-GX$2310-(HF2426-GX$2310)*GX$2309/GX$2308)","v":873.27276190476186},461.875,59,null,null,1,863,297.875,{"$f":"GX2307-((GX2307-GX2310-(HF2426-GX2310)*GX2309/GX2308)*('Исходные данные'!F32+'Исходные данные'!F30)/'Исходные данные'!F32)","v":873.27276190476186},461.875]
[null,null,null,null,null,null,null,null,null,null,null,null,null,null,null,null,null,null,null,null,null,null,null,null,null,null,null,null,null,null,null,null,null,null,null,null,null,null,null,null,null,null,null,null,null,null,null,null,null,null,null,null,null,null,null,null,null,null,null,null,null,null,null,null,null,null,null,null,null,null,null,null,null,null,null,null,null,null,null,null,null,null,null,null,null,null,null,null,null,null,null,null,null,null,null,null,null,null,null,null,null,null,null,null,null,null,null,null,null,null,null,null,null,null,null,null,null,null,null,null,null,null,null,null,null,null,null,null,null,null,null,null,null,null,null,null,null,null,null,null,null,null,null,null,null,null,null,null,null,null,null,null,null,null,null,null,null,null,null,null,null,null,null,null,null,null,null,null,null,null,null,null,null,null,null,null,null,null,null,null,null,null,null,null,null,null,null,null,null,null,null,null,null,null,null,null,null,null,null,null,null,null,null,null,"Основание",{"$f":"IF(GX2428>GX$2310,GX2428,HF2428-(HF2428-HF2426)/5)","v":873.27276190476186},461.875,null,null,null,1,811,232.875,{"$f":"HF2428","v":873.27276190476186},461.875]
[null,null,null,null,null,null,null,null,null,null,null,null,null,null,null,null,null,null,null,null,null,null,null,null,null,null,null,null,null,null,null,null,null,null,null,null,null,null,null,null,null,null,null,null,null,null,null,null,null,null,null,null,null,null,null,null,null,null,null,null,null,null,null,null,null,null,null,null,null,null,null,null,null,null,null,null,null,null,null,null,null,null,null,null,null,null,null,null,null,null,null,null,null,null,null,null,null,null,null,null,null,null,null,null,null,null,null,null,null,null,null,null,null,null,null,null,null,null,null,null,null,null,null,null,null,null,null,null,null,null,null,null,null,null,null,null,null,null,null,null,null,null,null,null,null,null,null,null,null,null,null,null,null,null,null,null,null,null,null,null,null,null,null,null,null,null,null,null,null,null,null,null,null,null,null,null,null,null,null,null,null,null,null,null,null,null,null,null,null,null,null,null,null,null,null,null,null,null,null,null,null,null,60,null,"Вершина",{"$f":"GX$2307-(GX$2307-GX$2310-(HF2428-GX$2310)*GX$2309/GX$2308)","v":873.27276190476186},461.875,60,null,null,1,863,297.875,{"$f":"GX2307-((GX2307-GX2310-(HF2428-GX2310)*GX2309/GX2308)*('Исходные данные'!F32+'Исходные данные'!F30)/'Исходные данные'!F32)","v":873.27276190476186},461.875]
[null,null,null,null,null,null,null,null,null,null,null,null,null,null,null,null,null,null,null,null,null,null,null,null,null,null,null,null,null,null,null,null,null,null,null,null,null,null,null,null,null,null,null,null,null,null,null,null,null,null,null,null,null,null,null,null,null,null,null,null,null,null,null,null,null,null,null,null,null,null,null,null,null,null,null,null,null,null,null,null,null,null,null,null,null,null,null,null,null,null,null,null,null,null,null,null,null,null,null,null,null,null,null,null,null,null,null,null,null,null,null,null,null,null,null,null,null,null,null,null,null,null,null,null,null,null,null,null,null,null,null,null,null,null,null,null,null,null,null,null,null,null,null,null,null,null,null,null,null,null,null,null,null,null,null,null,null,null,null,null,null,null,null,null,null,null,null,null,null,null,null,null,null,null,null,null,null,null,null,null,null,null,null,null,null,null,null,null,null,null,null,null,null,null,null,null,null,null,null,null,null,null,null,null,"Основание",{"$f":"IF(GX2430>GX$2310,GX2430,HF2430-(HF2430-HF2428)/5)","v":873.27276190476186},461.875,null,null,null,1,811,232.875,{"$f":"HF2430","v":873.27276190476186},461.875]
[null,null,null,null,null,null,null,null,null,null,null,null,null,null,null,null,null,null,null,null,null,null,null,null,null,null,null,null,null,null,null,null,null,null,null,null,null,null,null,null,null,null,null,null,null,null,null,null,null,null,null,null,null,null,null,null,null,null,null,null,null,null,null,null,null,null,null,null,null,null,null,null,null,null,null,null,null,null,null,null,null,null,null,null,null,null,null,null,null,null,null,null,null,null,null,null,null,null,null,null,null,null,null,null,null,null,null,null,null,null,null,null,null,null,null,null,null,null,null,null,null,null,null,null,null,null,null,null,null,null,null,null,null,null,null,null,null,null,null,null,null,null,null,null,null,null,null,null,null,null,null,null,null,null,null,null,null,null,null,null,null,null,null,null,null,null,null,null,null,null,null,null,null,null,null,null,null,null,null,null,null,null,null,null,null,null,null,null,null,null,null,null,null,null,null,null,null,null,null,null,null,null,61,null,"Вершина",{"$f":"GX$2307-(GX$2307-GX$2310-(HF2430-GX$2310)*GX$2309/GX$2308)","v":873.27276190476186},461.875,61,null,null,1,{"$f":"HD2430","v":863},297.875,{"$f":"GX2307-((GX2307-GX2310-(HF2430-GX2310)*GX2309/GX2308)*('Исходные данные'!F32+'Исходные данные'!F30)/'Исходные данные'!F32)","v":873.27276190476186},461.875]
[null,null,null,null,null,null,null,null,null,null,null,null,null,null,null,null,null,null,null,null,null,null,null,null,null,null,null,null,null,null,null,null,null,null,null,null,null,null,null,null,null,null,null,null,null,null,null,null,null,null,null,null,null,null,null,null,null,null,null,null,null,null,null,null,null,null,null,null,null,null,null,null,null,null,null,null,null,null,null,null,null,null,null,null,null,null,null,null,null,null,null,null,null,null,null,null,null,null,null,null,null,null,null,null,null,null,null,null,null,null,null,null,null,null,null,null,null,null,null,null,null,null,null,null,null,null,null,null,null,null,null,null,null,null,null,null,null,null,null,null,null,null,null,null,null,null,null,null,null,null,null,null,null,null,null,null,null,null,null,null,null,null,null,null,null,null,null,null,null,null,null,null,null,null,null,null,null,null,null,null,null,null,null,null,null,null,null,null,null,null,null,null,null,null,null,null,null,null,null,null,null,null,null,null,"Основание",{"$f":"IF(GX2432>GX$2310,GX2432,HF2432-(HF2432-HF2430)/5)","v":873.27276190476186},461.875,null,null,null,1,811,232.875,{"$f":"HF2432","v":873.27276190476186},461.875]
[null,null,null,null,null,null,null,null,null,null,null,null,null,null,null,null,null,null,null,null,null,null,null,null,null,null,null,null,null,null,null,null,null,null,null,null,null,null,null,null,null,null,null,null,null,null,null,null,null,null,null,null,null,null,null,null,null,null,null,null,null,null,null,null,null,null,null,null,null,null,null,null,null,null,null,null,null,null,null,null,null,null,null,null,null,null,null,null,null,null,null,null,null,null,null,null,null,null,null,null,null,null,null,null,null,null,null,null,null,null,null,null,null,null,null,null,null,null,null,null,null,null,null,null,null,null,null,null,null,null,null,null,null,null,null,null,null,null,null,null,null,null,null,null,null,null,null,null,null,null,null,null,null,null,null,null,null,null,null,null,null,null,null,null,null,null,null,null,null,null,null,null,null,null,null,null,null,null,null,null,null,null,null,null,null,null,null,null,null,null,null,null,null,null,null,null,null,null,null,null,null,null,62,null,"Вершина",{"$f":"GX$2307-(GX$2307-GX$2310-(HF2432-GX$2310)*GX$2309/GX$2308)","v":873.27276190476186},461.875,62,null,null,1,863,297.875,{"$f":"GX2307-((GX2307-GX2310-(HF2432-GX2310)*GX2309/GX2308)*('Исходные данные'!F32+'Исходные данные'!F30)/'Исходные данные'!F32)","v":873.27276190476186},461.875]
[null,null,null,null,null,null,null,null,null,null,null,null,null,null,null,null,null,null,null,null,null,null,null,null,null,null,null,null,null,null,null,null,null,null,null,null,null,null,null,null,null,null,null,null,null,null,null,null,null,null,null,null,null,null,null,null,null,null,null,null,null,null,null,null,null,null,null,null,null,null,null,null,null,null,null,null,null,null,null,null,null,null,null,null,null,null,null,null,null,null,null,null,null,null,null,null,null,null,null,null,null,null,null,null,null,null,null,null,null,null,null,null,null,null,null,null,null,null,null,null,null,null,null,null,null,null,null,null,null,null,null,null,null,null,null,null,null,null,null,null,null,null,null,null,null,null,null,null,null,null,null,null,null,null,null,null,null,null,null,null,null,null,null,null,null,null,null,null,null,null,null,null,null,null,null,null,null,null,null,null,null,null,null,null,null,null,null,null,null,null,null,null,null,null,null,null,null,null,null,null,null,null,null,null,"Основание",{"$f":"IF(GX2434>GX$2310,GX2434,HF2434-(HF2434-HF2432)/5)","v":873.27276190476186},461.875,null,null,null,1,811,232.875,{"$f":"HF2434","v":873.27276190476186},461.875]
[null,null,null,null,null,null,null,null,null,null,null,null,null,null,null,null,null,null,null,null,null,null,null,null,null,null,null,null,null,null,null,null,null,null,null,null,null,null,null,null,null,null,null,null,null,null,null,null,null,null,null,null,null,null,null,null,null,null,null,null,null,null,null,null,null,null,null,null,null,null,null,null,null,null,null,null,null,null,null,null,null,null,null,null,null,null,null,null,null,null,null,null,null,null,null,null,null,null,null,null,null,null,null,null,null,null,null,null,null,null,null,null,null,null,null,null,null,null,null,null,null,null,null,null,null,null,null,null,null,null,null,null,null,null,null,null,null,null,null,null,null,null,null,null,null,null,null,null,null,null,null,null,null,null,null,null,null,null,null,null,null,null,null,null,null,null,null,null,null,null,null,null,null,null,null,null,null,null,null,null,null,null,null,null,null,null,null,null,null,null,null,null,null,null,null,null,null,null,null,null,null,null,63,null,"Вершина",{"$f":"GX$2307-(GX$2307-GX$2310-(HF2434-GX$2310)*GX$2309/GX$2308)","v":873.27276190476186},461.875,63,null,null,1,863,297.875,{"$f":"GX2307-((GX2307-GX2310-(HF2434-GX2310)*GX2309/GX2308)*('Исходные данные'!F32+'Исходные данные'!F30)/'Исходные данные'!F32)","v":873.27276190476186},461.875]
[null,null,null,null,null,null,null,null,null,null,null,null,null,null,null,null,null,null,null,null,null,null,null,null,null,null,null,null,null,null,null,null,null,null,null,null,null,null,null,null,null,null,null,null,null,null,null,null,null,null,null,null,null,null,null,null,null,null,null,null,null,null,null,null,null,null,null,null,null,null,null,null,null,null,null,null,null,null,null,null,null,null,null,null,null,null,null,null,null,null,null,null,null,null,null,null,null,null,null,null,null,null,null,null,null,null,null,null,null,null,null,null,null,null,null,null,null,null,null,null,null,null,null,null,null,null,null,null,null,null,null,null,null,null,null,null,null,null,null,null,null,null,null,null,null,null,null,null,null,null,null,null,null,null,null,null,null,null,null,null,null,null,null,null,null,null,null,null,null,null,null,null,null,null,null,null,null,null,null,null,null,null,null,null,null,null,null,null,null,null,null,null,null,null,null,null,null,null,null,null,null,null,null,null,"Основание",{"$f":"IF(GX2436>GX$2310,GX2436,HF2436-(HF2436-HF2434)/5)","v":873.27276190476186},461.875,null,null,null,1,811,232.875,{"$f":"HF2436","v":873.27276190476186},461.875]
[null,null,null,null,null,null,null,null,null,null,null,null,null,null,null,null,null,null,null,null,null,null,null,null,null,null,null,null,null,null,null,null,null,null,null,null,null,null,null,null,null,null,null,null,null,null,null,null,null,null,null,null,null,null,null,null,null,null,null,null,null,null,null,null,null,null,null,null,null,null,null,null,null,null,null,null,null,null,null,null,null,null,null,null,null,null,null,null,null,null,null,null,null,null,null,null,null,null,null,null,null,null,null,null,null,null,null,null,null,null,null,null,null,null,null,null,null,null,null,null,null,null,null,null,null,null,null,null,null,null,null,null,null,null,null,null,null,null,null,null,null,null,null,null,null,null,null,null,null,null,null,null,null,null,null,null,null,null,null,null,null,null,null,null,null,null,null,null,null,null,null,null,null,null,null,null,null,null,null,null,null,null,null,null,null,null,null,null,null,null,null,null,null,null,null,null,null,null,null,null,null,null,64,null,"Вершина",{"$f":"GX$2307-(GX$2307-GX$2310-(HF2436-GX$2310)*GX$2309/GX$2308)","v":873.27276190476186},461.875,64,null,null,1,863,297.875,{"$f":"GX2307-((GX2307-GX2310-(HF2436-GX2310)*GX2309/GX2308)*('Исходные данные'!F32+'Исходные данные'!F30)/'Исходные данные'!F32)","v":873.27276190476186},461.875]
[null,null,null,null,null,null,null,null,null,null,null,null,null,null,null,null,null,null,null,null,null,null,null,null,null,null,null,null,null,null,null,null,null,null,null,null,null,null,null,null,null,null,null,null,null,null,null,null,null,null,null,null,null,null,null,null,null,null,null,null,null,null,null,null,null,null,null,null,null,null,null,null,null,null,null,null,null,null,null,null,null,null,null,null,null,null,null,null,null,null,null,null,null,null,null,null,null,null,null,null,null,null,null,null,null,null,null,null,null,null,null,null,null,null,null,null,null,null,null,null,null,null,null,null,null,null,null,null,null,null,null,null,null,null,null,null,null,null,null,null,null,null,null,null,null,null,null,null,null,null,null,null,null,null,null,null,null,null,null,null,null,null,null,null,null,null,null,null,null,null,null,null,null,null,null,null,null,null,null,null,null,null,null,null,null,null,null,null,null,null,null,null,null,null,null,null,null,null,null,null,null,null,null,null,"Основание",{"$f":"IF(GX2438>GX$2310,GX2438,HF2438-(HF2438-HF2436)/5)","v":873.27276190476186},461.875,null,null,null,1,811,232.875,{"$f":"HF2438","v":873.27276190476186},461.875]
[null,null,null,null,null,null,null,null,null,null,null,null,null,null,null,null,null,null,null,null,null,null,null,null,null,null,null,null,null,null,null,null,null,null,null,null,null,null,null,null,null,null,null,null,null,null,null,null,null,null,null,null,null,null,null,null,null,null,null,null,null,null,null,null,null,null,null,null,null,null,null,null,null,null,null,null,null,null,null,null,null,null,null,null,null,null,null,null,null,null,null,null,null,null,null,null,null,null,null,null,null,null,null,null,null,null,null,null,null,null,null,null,null,null,null,null,null,null,null,null,null,null,null,null,null,null,null,null,null,null,null,null,null,null,null,null,null,null,null,null,null,null,null,null,null,null,null,null,null,null,null,null,null,null,null,null,null,null,null,null,null,null,null,null,null,null,null,null,null,null,null,null,null,null,null,null,null,null,null,null,null,null,null,null,null,null,null,null,null,null,null,null,null,null,null,null,null,null,null,null,null,null,65,null,"Вершина",{"$f":"GX$2307-(GX$2307-GX$2310-(HF2438-GX$2310)*GX$2309/GX$2308)","v":873.27276190476186},461.875,65,null,null,1,863,297.875,{"$f":"GX2307-((GX2307-GX2310-(HF2438-GX2310)*GX2309/GX2308)*('Исходные данные'!F32+'Исходные данные'!F30)/'Исходные данные'!F32)","v":873.27276190476186},461.875]
[null,null,null,null,null,null,null,null,null,null,null,null,null,null,null,null,null,null,null,null,null,null,null,null,null,null,null,null,null,null,null,null,null,null,null,null,null,null,null,null,null,null,null,null,null,null,null,null,null,null,null,null,null,null,null,null,null,null,null,null,null,null,null,null,null,null,null,null,null,null,null,null,null,null,null,null,null,null,null,null,null,null,null,null,null,null,null,null,null,null,null,null,null,null,null,null,null,null,null,null,null,null,null,null,null,null,null,null,null,null,null,null,null,null,null,null,null,null,null,null,null,null,null,null,null,null,null,null,null,null,null,null,null,null,null,null,null,null,null,null,null,null,null,null,null,null,null,null,null,null,null,null,null,null,null,null,null,null,null,null,null,null,null,null,null,null,null,null,null,null,null,null,null,null,null,null,null,null,null,null,null,null,null,null,null,null,null,null,null,null,null,null,null,null,null,null,null,null,null,null,null,null,null,null,"Основание",{"$f":"IF(GX2440>GX$2310,GX2440,HF2440-(HF2440-HF2438)/5)","v":873.27276190476186},461.875,null,null,null,1,811,232.875,{"$f":"HF2440","v":873.27276190476186},461.875]
[null,null,null,null,null,null,null,null,null,null,null,null,null,null,null,null,null,null,null,null,null,null,null,null,null,null,null,null,null,null,null,null,null,null,null,null,null,null,null,null,null,null,null,null,null,null,null,null,null,null,null,null,null,null,null,null,null,null,null,null,null,null,null,null,null,null,null,null,null,null,null,null,null,null,null,null,null,null,null,null,null,null,null,null,null,null,null,null,null,null,null,null,null,null,null,null,null,null,null,null,null,null,null,null,null,null,null,null,null,null,null,null,null,null,null,null,null,null,null,null,null,null,null,null,null,null,null,null,null,null,null,null,null,null,null,null,null,null,null,null,null,null,null,null,null,null,null,null,null,null,null,null,null,null,null,null,null,null,null,null,null,null,null,null,null,null,null,null,null,null,null,null,null,null,null,null,null,null,null,null,null,null,null,null,null,null,null,null,null,null,null,null,null,null,null,null,null,null,null,null,null,null,66,null,"Вершина",{"$f":"GX$2307-(GX$2307-GX$2310-(HF2440-GX$2310)*GX$2309/GX$2308)","v":873.27276190476186},461.875,66,null,null,1,863,297.875,{"$f":"GX2307-((GX2307-GX2310-(HF2440-GX2310)*GX2309/GX2308)*('Исходные данные'!F32+'Исходные данные'!F30)/'Исходные данные'!F32)","v":873.27276190476186},461.875]
[null,null,null,null,null,null,null,null,null,null,null,null,null,null,null,null,null,null,null,null,null,null,null,null,null,null,null,null,null,null,null,null,null,null,null,null,null,null,null,null,null,null,null,null,null,null,null,null,null,null,null,null,null,null,null,null,null,null,null,null,null,null,null,null,null,null,null,null,null,null,null,null,null,null,null,null,null,null,null,null,null,null,null,null,null,null,null,null,null,null,null,null,null,null,null,null,null,null,null,null,null,null,null,null,null,null,null,null,null,null,null,null,null,null,null,null,null,null,null,null,null,null,null,null,null,null,null,null,null,null,null,null,null,null,null,null,null,null,null,null,null,null,null,null,null,null,null,null,null,null,null,null,null,null,null,null,null,null,null,null,null,null,null,null,null,null,null,null,null,null,null,null,null,null,null,null,null,null,null,null,null,null,null,null,null,null,null,null,null,null,null,null,null,null,null,null,null,null,null,null,null,null,null,null,"Основание",{"$f":"IF(GX2442>GX$2310,GX2442,HF2442-(HF2442-HF2440)/5)","v":873.27276190476186},461.875,null,null,null,1,811,232.875,{"$f":"HF2442","v":873.27276190476186},461.875]
[null,null,null,null,null,null,null,null,null,null,null,null,null,null,null,null,null,null,null,null,null,null,null,null,null,null,null,null,null,null,null,null,null,null,null,null,null,null,null,null,null,null,null,null,null,null,null,null,null,null,null,null,null,null,null,null,null,null,null,null,null,null,null,null,null,null,null,null,null,null,null,null,null,null,null,null,null,null,null,null,null,null,null,null,null,null,null,null,null,null,null,null,null,null,null,null,null,null,null,null,null,null,null,null,null,null,null,null,null,null,null,null,null,null,null,null,null,null,null,null,null,null,null,null,null,null,null,null,null,null,null,null,null,null,null,null,null,null,null,null,null,null,null,null,null,null,null,null,null,null,null,null,null,null,null,null,null,null,null,null,null,null,null,null,null,null,null,null,null,null,null,null,null,null,null,null,null,null,null,null,null,null,null,null,null,null,null,null,null,null,null,null,null,null,null,null,null,null,null,null,null,null,67,null,"Вершина",{"$f":"GX$2307-(GX$2307-GX$2310-(HF2442-GX$2310)*GX$2309/GX$2308)","v":873.27276190476186},{"$f":"GY2442","v":461.875},67,null,null,1,863,297.875,{"$f":"GX2307-((GX2307-GX2310-(HF2442-GX2310)*GX2309/GX2308)*('Исходные данные'!F32+'Исходные данные'!F30)/'Исходные данные'!F32)","v":873.27276190476186},461.875]
[null,null,null,null,null,null,null,null,null,null,null,null,null,null,null,null,null,null,null,null,null,null,null,null,null,null,null,null,null,null,null,null,null,null,null,null,null,null,null,null,null,null,null,null,null,null,null,null,null,null,null,null,null,null,null,null,null,null,null,null,null,null,null,null,null,null,null,null,null,null,null,null,null,null,null,null,null,null,null,null,null,null,null,null,null,null,null,null,null,null,null,null,null,null,null,null,null,null,null,null,null,null,null,null,null,null,null,null,null,null,null,null,null,null,null,null,null,null,null,null,null,null,null,null,null,null,null,null,null,null,null,null,null,null,null,null,null,null,null,null,null,null,null,null,null,null,null,null,null,null,null,null,null,null,null,null,null,null,null,null,null,null,null,null,null,null,null,null,null,null,null,null,null,null,null,null,null,null,null,null,null,null,null,null,null,null,null,null,null,null,null,null,null,null,null,null,null,null,null,null,null,null,null,null,"Основание",{"$f":"IF(GX2444>GX$2310,GX2444,HF2444-(HF2444-HF2442)/5)","v":873.27276190476186},461.875,null,null,null,1,811,232.875,{"$f":"HF2444","v":873.27276190476186},461.875]
[null,null,null,null,null,null,null,null,null,null,null,null,null,null,null,null,null,null,null,null,null,null,null,null,null,null,null,null,null,null,null,null,null,null,null,null,null,null,null,null,null,null,null,null,null,null,null,null,null,null,null,null,null,null,null,null,null,null,null,null,null,null,null,null,null,null,null,null,null,null,null,null,null,null,null,null,null,null,null,null,null,null,null,null,null,null,null,null,null,null,null,null,null,null,null,null,null,null,null,null,null,null,null,null,null,null,null,null,null,null,null,null,null,null,null,null,null,null,null,null,null,null,null,null,null,null,null,null,null,null,null,null,null,null,null,null,null,null,null,null,null,null,null,null,null,null,null,null,null,null,null,null,null,null,null,null,null,null,null,null,null,null,null,null,null,null,null,null,null,null,null,null,null,null,null,null,null,null,null,null,null,null,null,null,null,null,null,null,null,null,null,null,null,null,null,null,null,null,null,null,null,null,68,null,"Вершина",{"$f":"GX$2307-(GX$2307-GX$2310-(HF2444-GX$2310)*GX$2309/GX$2308)","v":873.27276190476186},461.875,68,null,null,1,863,297.875,{"$f":"GX2307-((GX2307-GX2310-(HF2444-GX2310)*GX2309/GX2308)*('Исходные данные'!F32+'Исходные данные'!F30)/'Исходные данные'!F32)","v":873.27276190476186},461.875]
[null,null,null,null,null,null,null,null,null,null,null,null,null,null,null,null,null,null,null,null,null,null,null,null,null,null,null,null,null,null,null,null,null,null,null,null,null,null,null,null,null,null,null,null,null,null,null,null,null,null,null,null,null,null,null,null,null,null,null,null,null,null,null,null,null,null,null,null,null,null,null,null,null,null,null,null,null,null,null,null,null,null,null,null,null,null,null,null,null,null,null,null,null,null,null,null,null,null,null,null,null,null,null,null,null,null,null,null,null,null,null,null,null,null,null,null,null,null,null,null,null,null,null,null,null,null,null,null,null,null,null,null,null,null,null,null,null,null,null,null,null,null,null,null,null,null,null,null,null,null,null,null,null,null,null,null,null,null,null,null,null,null,null,null,null,null,null,null,null,null,null,null,null,null,null,null,null,null,null,null,null,null,null,null,null,null,null,null,null,null,null,null,null,null,null,null,null,null,null,null,null,null,null,null,"Основание",{"$f":"IF(GX2446>GX$2310,GX2446,HF2446-(HF2446-HF2444)/5)","v":873.27276190476186},461.875,null,null,null,1,811,232.875,{"$f":"HF2446","v":873.27276190476186},461.875]
[null,null,null,null,null,null,null,null,null,null,null,null,null,null,null,null,null,null,null,null,null,null,null,null,null,null,null,null,null,null,null,null,null,null,null,null,null,null,null,null,null,null,null,null,null,null,null,null,null,null,null,null,null,null,null,null,null,null,null,null,null,null,null,null,null,null,null,null,null,null,null,null,null,null,null,null,null,null,null,null,null,null,null,null,null,null,null,null,null,null,null,null,null,null,null,null,null,null,null,null,null,null,null,null,null,null,null,null,null,null,null,null,null,null,null,null,null,null,null,null,null,null,null,null,null,null,null,null,null,null,null,null,null,null,null,null,null,null,null,null,null,null,null,null,null,null,null,null,null,null,null,null,null,null,null,null,null,null,null,null,null,null,null,null,null,null,null,null,null,null,null,null,null,null,null,null,null,null,null,null,null,null,null,null,null,null,null,null,null,null,null,null,null,null,null,null,null,null,null,null,null,null,69,null,"Вершина",{"$f":"GX$2307-(GX$2307-GX$2310-(HF2446-GX$2310)*GX$2309/GX$2308)","v":873.27276190476186},461.875,69,null,null,1,863,297.875,{"$f":"GX2307-((GX2307-GX2310-(HF2446-GX2310)*GX2309/GX2308)*('Исходные данные'!F32+'Исходные данные'!F30)/'Исходные данные'!F32)","v":873.27276190476186},461.875]
[null,null,null,null,null,null,null,null,null,null,null,null,null,null,null,null,null,null,null,null,null,null,null,null,null,null,null,null,null,null,null,null,null,null,null,null,null,null,null,null,null,null,null,null,null,null,null,null,null,null,null,null,null,null,null,null,null,null,null,null,null,null,null,null,null,null,null,null,null,null,null,null,null,null,null,null,null,null,null,null,null,null,null,null,null,null,null,null,null,null,null,null,null,null,null,null,null,null,null,null,null,null,null,null,null,null,null,null,null,null,null,null,null,null,null,null,null,null,null,null,null,null,null,null,null,null,null,null,null,null,null,null,null,null,null,null,null,null,null,null,null,null,null,null,null,null,null,null,null,null,null,null,null,null,null,null,null,null,null,null,null,null,null,null,null,null,null,null,null,null,null,null,null,null,null,null,null,null,null,null,null,null,null,null,null,null,null,null,null,null,null,null,null,null,null,null,null,null,null,null,null,null,null,null,"Основание",{"$f":"IF(GX2448>GX$2310,GX2448,HF2448-(HF2448-HF2446)/5)","v":873.27276190476186},461.875,null,null,null,1,811,232.875,{"$f":"HF2448","v":873.27276190476186},461.875]
[null,null,null,null,null,null,null,null,null,null,null,null,null,null,null,null,null,null,null,null,null,null,null,null,null,null,null,null,null,null,null,null,null,null,null,null,null,null,null,null,null,null,null,null,null,null,null,null,null,null,null,null,null,null,null,null,null,null,null,null,null,null,null,null,null,null,null,null,null,null,null,null,null,null,null,null,null,null,null,null,null,null,null,null,null,null,null,null,null,null,null,null,null,null,null,null,null,null,null,null,null,null,null,null,null,null,null,null,null,null,null,null,null,null,null,null,null,null,null,null,null,null,null,null,null,null,null,null,null,null,null,null,null,null,null,null,null,null,null,null,null,null,null,null,null,null,null,null,null,null,null,null,null,null,null,null,null,null,null,null,null,null,null,null,null,null,null,null,null,null,null,null,null,null,null,null,null,null,null,null,null,null,null,null,null,null,null,null,null,null,null,null,null,null,null,null,null,null,null,null,null,null,70,null,"Вершина",{"$f":"GX$2307-(GX$2307-GX$2310-(HF2448-GX$2310)*GX$2309/GX$2308)","v":873.27276190476186},461.875,70,null,null,1,863,297.875,{"$f":"GX2307-((GX2307-GX2310-(HF2448-GX2310)*GX2309/GX2308)*('Исходные данные'!F32+'Исходные данные'!F30)/'Исходные данные'!F32)","v":873.27276190476186},461.875]
[null,null,null,null,null,null,null,null,null,null,null,null,null,null,null,null,null,null,null,null,null,null,null,null,null,null,null,null,null,null,null,null,null,null,null,null,null,null,null,null,null,null,null,null,null,null,null,null,null,null,null,null,null,null,null,null,null,null,null,null,null,null,null,null,null,null,null,null,null,null,null,null,null,null,null,null,null,null,null,null,null,null,null,null,null,null,null,null,null,null,null,null,null,null,null,null,null,null,null,null,null,null,null,null,null,null,null,null,null,null,null,null,null,null,null,null,null,null,null,null,null,null,null,null,null,null,null,null,null,null,null,null,null,null,null,null,null,null,null,null,null,null,null,null,null,null,null,null,null,null,null,null,null,null,null,null,null,null,null,null,null,null,null,null,null,null,null,null,null,null,null,null,null,null,null,null,null,null,null,null,null,null,null,null,null,null,null,null,null,null,null,null,null,null,null,null,null,null,null,null,null,null,null,null,"Основание",{"$f":"IF(GX2450>GX$2310,GX2450,HF2450-(HF2450-HF2448)/5)","v":873.27276190476186},461.875,null,null,null,1,811,232.875,{"$f":"HF2450","v":873.27276190476186},461.875]
[null,null,null,null,null,null,null,null,null,null,null,null,null,null,null,null,null,null,null,null,null,null,null,null,null,null,null,null,null,null,null,null,null,null,null,null,null,null,null,null,null,null,null,null,null,null,null,null,null,null,null,null,null,null,null,null,null,null,null,null,null,null,null,null,null,null,null,null,null,null,null,null,null,null,null,null,null,null,null,null,null,null,null,null,null,null,null,null,null,null,null,null,null,null,null,null,null,null,null,null,null,null,null,null,null,null,null,null,null,null,null,null,null,null,null,null,null,null,null,null,null,null,null,null,null,null,null,null,null,null,null,null,null,null,null,null,null,null,null,null,null,null,null,null,null,null,null,null,null,null,null,null,null,null,null,null,null,null,null,null,null,null,null,null,null,null,null,null,null,null,null,null,null,null,null,null,null,null,null,null,null,null,null,null,null,null,null,null,null,null,null,null,null,null,null,null,null,null,null,null,null,null,71,null,"Вершина",{"$f":"GX$2307-(GX$2307-GX$2310-(HF2450-GX$2310)*GX$2309/GX$2308)","v":873.27276190476186},461.875,71,null,null,1,{"$f":"HD2450","v":863},297.875,{"$f":"GX2307-((GX2307-GX2310-(HF2450-GX2310)*GX2309/GX2308)*('Исходные данные'!F32+'Исходные данные'!F30)/'Исходные данные'!F32)","v":873.27276190476186},461.875]
[null,null,null,null,null,null,null,null,null,null,null,null,null,null,null,null,null,null,null,null,null,null,null,null,null,null,null,null,null,null,null,null,null,null,null,null,null,null,null,null,null,null,null,null,null,null,null,null,null,null,null,null,null,null,null,null,null,null,null,null,null,null,null,null,null,null,null,null,null,null,null,null,null,null,null,null,null,null,null,null,null,null,null,null,null,null,null,null,null,null,null,null,null,null,null,null,null,null,null,null,null,null,null,null,null,null,null,null,null,null,null,null,null,null,null,null,null,null,null,null,null,null,null,null,null,null,null,null,null,null,null,null,null,null,null,null,null,null,null,null,null,null,null,null,null,null,null,null,null,null,null,null,null,null,null,null,null,null,null,null,null,null,null,null,null,null,null,null,null,null,null,null,null,null,null,null,null,null,null,null,null,null,null,null,null,null,null,null,null,null,null,null,null,null,null,null,null,null,null,null,null,null,null,null,"Основание",{"$f":"IF(GX2452>GX$2310,GX2452,HF2452-(HF2452-HF2450)/5)","v":873.27276190476186},461.875,null,null,null,1,811,232.875,{"$f":"HF2452","v":873.27276190476186},461.875]
[null,null,null,null,null,null,null,null,null,null,null,null,null,null,null,null,null,null,null,null,null,null,null,null,null,null,null,null,null,null,null,null,null,null,null,null,null,null,null,null,null,null,null,null,null,null,null,null,null,null,null,null,null,null,null,null,null,null,null,null,null,null,null,null,null,null,null,null,null,null,null,null,null,null,null,null,null,null,null,null,null,null,null,null,null,null,null,null,null,null,null,null,null,null,null,null,null,null,null,null,null,null,null,null,null,null,null,null,null,null,null,null,null,null,null,null,null,null,null,null,null,null,null,null,null,null,null,null,null,null,null,null,null,null,null,null,null,null,null,null,null,null,null,null,null,null,null,null,null,null,null,null,null,null,null,null,null,null,null,null,null,null,null,null,null,null,null,null,null,null,null,null,null,null,null,null,null,null,null,null,null,null,null,null,null,null,null,null,null,null,null,null,null,null,null,null,null,null,null,null,null,null,72,null,"Вершина",{"$f":"GX$2307-(GX$2307-GX$2310-(HF2452-GX$2310)*GX$2309/GX$2308)","v":873.27276190476186},461.875,72,null,null,1,863,297.875,{"$f":"GX2307-((GX2307-GX2310-(HF2452-GX2310)*GX2309/GX2308)*('Исходные данные'!F32+'Исходные данные'!F30)/'Исходные данные'!F32)","v":873.27276190476186},461.875]
[null,null,null,null,null,null,null,null,null,null,null,null,null,null,null,null,null,null,null,null,null,null,null,null,null,null,null,null,null,null,null,null,null,null,null,null,null,null,null,null,null,null,null,null,null,null,null,null,null,null,null,null,null,null,null,null,null,null,null,null,null,null,null,null,null,null,null,null,null,null,null,null,null,null,null,null,null,null,null,null,null,null,null,null,null,null,null,null,null,null,null,null,null,null,null,null,null,null,null,null,null,null,null,null,null,null,null,null,null,null,null,null,null,null,null,null,null,null,null,null,null,null,null,null,null,null,null,null,null,null,null,null,null,null,null,null,null,null,null,null,null,null,null,null,null,null,null,null,null,null,null,null,null,null,null,null,null,null,null,null,null,null,null,null,null,null,null,null,null,null,null,null,null,null,null,null,null,null,null,null,null,null,null,null,null,null,null,null,null,null,null,null,null,null,null,null,null,null,null,null,null,null,null,null,"Основание",{"$f":"IF(GX2454>GX$2310,GX2454,HF2454-(HF2454-HF2452)/5)","v":873.27276190476186},461.875,null,null,null,1,811,232.875,{"$f":"HF2454","v":873.27276190476186},461.875]
[null,null,null,null,null,null,null,null,null,null,null,null,null,null,null,null,null,null,null,null,null,null,null,null,null,null,null,null,null,null,null,null,null,null,null,null,null,null,null,null,null,null,null,null,null,null,null,null,null,null,null,null,null,null,null,null,null,null,null,null,null,null,null,null,null,null,null,null,null,null,null,null,null,null,null,null,null,null,null,null,null,null,null,null,null,null,null,null,null,null,null,null,null,null,null,null,null,null,null,null,null,null,null,null,null,null,null,null,null,null,null,null,null,null,null,null,null,null,null,null,null,null,null,null,null,null,null,null,null,null,null,null,null,null,null,null,null,null,null,null,null,null,null,null,null,null,null,null,null,null,null,null,null,null,null,null,null,null,null,null,null,null,null,null,null,null,null,null,null,null,null,null,null,null,null,null,null,null,null,null,null,null,null,null,null,null,null,null,null,null,null,null,null,null,null,null,null,null,null,null,null,null,73,null,"Вершина",{"$f":"GX$2307-(GX$2307-GX$2310-(HF2454-GX$2310)*GX$2309/GX$2308)","v":873.27276190476186},461.875,73,null,null,1,863,297.875,{"$f":"GX2307-((GX2307-GX2310-(HF2454-GX2310)*GX2309/GX2308)*('Исходные данные'!F32+'Исходные данные'!F30)/'Исходные данные'!F32)","v":873.27276190476186},461.875]
[null,null,null,null,null,null,null,null,null,null,null,null,null,null,null,null,null,null,null,null,null,null,null,null,null,null,null,null,null,null,null,null,null,null,null,null,null,null,null,null,null,null,null,null,null,null,null,null,null,null,null,null,null,null,null,null,null,null,null,null,null,null,null,null,null,null,null,null,null,null,null,null,null,null,null,null,null,null,null,null,null,null,null,null,null,null,null,null,null,null,null,null,null,null,null,null,null,null,null,null,null,null,null,null,null,null,null,null,null,null,null,null,null,null,null,null,null,null,null,null,null,null,null,null,null,null,null,null,null,null,null,null,null,null,null,null,null,null,null,null,null,null,null,null,null,null,null,null,null,null,null,null,null,null,null,null,null,null,null,null,null,null,null,null,null,null,null,null,null,null,null,null,null,null,null,null,null,null,null,null,null,null,null,null,null,null,null,null,null,null,null,null,null,null,null,null,null,null,null,null,null,null,null,null,"Основание",{"$f":"IF(GX2456>GX$2310,GX2456,HF2456-(HF2456-HF2454)/5)","v":873.27276190476186},461.875,null,null,null,1,811,232.875,{"$f":"HF2456","v":873.27276190476186},461.875]
[null,null,null,null,null,null,null,null,null,null,null,null,null,null,null,null,null,null,null,null,null,null,null,null,null,null,null,null,null,null,null,null,null,null,null,null,null,null,null,null,null,null,null,null,null,null,null,null,null,null,null,null,null,null,null,null,null,null,null,null,null,null,null,null,null,null,null,null,null,null,null,null,null,null,null,null,null,null,null,null,null,null,null,null,null,null,null,null,null,null,null,null,null,null,null,null,null,null,null,null,null,null,null,null,null,null,null,null,null,null,null,null,null,null,null,null,null,null,null,null,null,null,null,null,null,null,null,null,null,null,null,null,null,null,null,null,null,null,null,null,null,null,null,null,null,null,null,null,null,null,null,null,null,null,null,null,null,null,null,null,null,null,null,null,null,null,null,null,null,null,null,null,null,null,null,null,null,null,null,null,null,null,null,null,null,null,null,null,null,null,null,null,null,null,null,null,null,null,null,null,null,null,74,null,"Вершина",{"$f":"GX$2307-(GX$2307-GX$2310-(HF2456-GX$2310)*GX$2309/GX$2308)","v":873.27276190476186},461.875,74,null,null,{"$f":"IF(HF2458>=$HD$2309,1,0)","v":1},863,297.875,{"$f":"GX2307-((GX2307-GX2310-(HF2456-GX2310)*GX2309/GX2308)*('Исходные данные'!F32+'Исходные данные'!F30)/'Исходные данные'!F32)","v":873.27276190476186},{"$f":"HG2457","v":461.875}]
[null,null,null,null,null,null,null,null,null,null,null,null,null,null,null,null,null,null,null,null,null,null,null,null,null,null,null,null,null,null,null,null,null,null,null,null,null,null,null,null,null,null,null,null,null,null,null,null,null,null,null,null,null,null,null,null,null,null,null,null,null,null,null,null,null,null,null,null,null,null,null,null,null,null,null,null,null,null,null,null,null,null,null,null,null,null,null,null,null,null,null,null,null,null,null,null,null,null,null,null,null,null,null,null,null,null,null,null,null,null,null,null,null,null,null,null,null,null,null,null,null,null,null,null,null,null,null,null,null,null,null,null,null,null,null,null,null,null,null,null,null,null,null,null,null,null,null,null,null,null,null,null,null,null,null,null,null,null,null,null,null,null,null,null,null,null,null,null,null,null,null,null,null,null,null,null,null,null,null,null,null,null,null,null,null,null,null,null,null,null,null,null,null,null,null,null,null,null,null,null,null,null,null,null,"Основание",{"$f":"IF(GX2458>GX$2310,GX2458,HF2458-(HF2458-HF2456)/5)","v":873.27276190476186},461.875,null,null,null,1,811,232.875,{"$f":"HF2458","v":873.27276190476186},461.875]
[null,null,null,null,null,null,null,null,null,null,null,null,null,null,null,null,null,null,null,null,null,null,null,null,null,null,null,null,null,null,null,null,null,null,null,null,null,null,null,null,null,null,null,null,null,null,null,null,null,null,null,null,null,null,null,null,null,null,null,null,null,null,null,null,null,null,null,null,null,null,null,null,null,null,null,null,null,null,null,null,null,null,null,null,null,null,null,null,null,null,null,null,null,null,null,null,null,null,null,null,null,null,null,null,null,null,null,null,null,null,null,null,null,null,null,null,null,null,null,null,null,null,null,null,null,null,null,null,null,null,null,null,null,null,null,null,null,null,null,null,null,null,null,null,null,null,null,null,null,null,null,null,null,null,null,null,null,null,null,null,null,null,null,null,null,null,null,null,null,null,null,null,null,null,null,null,null,null,null,null,null,null,null,null,null,null,null,null,null,null,null,null,null,null,null,null,null,null,null,null,null,null,75,null,"Вершина",{"$f":"GX$2307-(GX$2307-GX$2310-(HF2458-GX$2310)*GX$2309/GX$2308)","v":873.27276190476186},461.875,75,null,null,1,863,297.875,{"$f":"GX2307-((GX2307-GX2310-(HF2458-GX2310)*GX2309/GX2308)*('Исходные данные'!F32+'Исходные данные'!F30)/'Исходные данные'!F32)","v":873.27276190476186},461.875]
[null,null,null,null,null,null,null,null,null,null,null,null,null,null,null,null,null,null,null,null,null,null,null,null,null,null,null,null,null,null,null,null,null,null,null,null,null,null,null,null,null,null,null,null,null,null,null,null,null,null,null,null,null,null,null,null,null,null,null,null,null,null,null,null,null,null,null,null,null,null,null,null,null,null,null,null,null,null,null,null,null,null,null,null,null,null,null,null,null,null,null,null,null,null,null,null,null,null,null,null,null,null,null,null,null,null,null,null,null,null,null,null,null,null,null,null,null,null,null,null,null,null,null,null,null,null,null,null,null,null,null,null,null,null,null,null,null,null,null,null,null,null,null,null,null,null,null,null,null,null,null,null,null,null,null,null,null,null,null,null,null,null,null,null,null,null,null,null,null,null,null,null,null,null,null,null,null,null,null,null,null,null,null,null,null,null,null,null,null,null,null,null,null,null,null,null,null,null,null,null,null,null,null,null,"Основание",{"$f":"IF(GX2460>GX$2310,GX2460,HF2460-(HF2460-HF2458)/5)","v":873.27276190476186},461.875,null,null,null,1,811,232.875,{"$f":"HF2460","v":873.27276190476186},461.875]
[null,null,null,null,null,null,null,null,null,null,null,null,null,null,null,null,null,null,null,null,null,null,null,null,null,null,null,null,null,null,null,null,null,null,null,null,null,null,null,null,null,null,null,null,null,null,null,null,null,null,null,null,null,null,null,null,null,null,null,null,null,null,null,null,null,null,null,null,null,null,null,null,null,null,null,null,null,null,null,null,null,null,null,null,null,null,null,null,null,null,null,null,null,null,null,null,null,null,null,null,null,null,null,null,null,null,null,null,null,null,null,null,null,null,null,null,null,null,null,null,null,null,null,null,null,null,null,null,null,null,null,null,null,null,null,null,null,null,null,null,null,null,null,null,null,null,null,null,null,null,null,null,null,null,null,null,null,null,null,null,null,null,null,null,null,null,null,null,null,null,null,null,null,null,null,null,null,null,null,null,null,null,null,null,null,null,null,null,null,null,null,null,null,null,null,null,null,null,null,null,null,null,76,null,"Вершина",{"$f":"GX$2307-(GX$2307-GX$2310-(HF2460-GX$2310)*GX$2309/GX$2308)","v":873.27276190476186},461.875,76,null,null,1,863,297.875,{"$f":"GX2307-((GX2307-GX2310-(HF2460-GX2310)*GX2309/GX2308)*('Исходные данные'!F32+'Исходные данные'!F30)/'Исходные данные'!F32)","v":873.27276190476186},461.875]
[null,null,null,null,null,null,null,null,null,null,null,null,null,null,null,null,null,null,null,null,null,null,null,null,null,null,null,null,null,null,null,null,null,null,null,null,null,null,null,null,null,null,null,null,null,null,null,null,null,null,null,null,null,null,null,null,null,null,null,null,null,null,null,null,null,null,null,null,null,null,null,null,null,null,null,null,null,null,null,null,null,null,null,null,null,null,null,null,null,null,null,null,null,null,null,null,null,null,null,null,null,null,null,null,null,null,null,null,null,null,null,null,null,null,null,null,null,null,null,null,null,null,null,null,null,null,null,null,null,null,null,null,null,null,null,null,null,null,null,null,null,null,null,null,null,null,null,null,null,null,null,null,null,null,null,null,null,null,null,null,null,null,null,null,null,null,null,null,null,null,null,null,null,null,null,null,null,null,null,null,null,null,null,null,null,null,null,null,null,null,null,null,null,null,null,null,null,null,null,null,null,null,null,null,"Основание",{"$f":"IF(GX2462>GX$2310,GX2462,HF2462-(HF2462-HF2460)/5)","v":873.27276190476186},461.875,null,null,null,1,811,232.875,{"$f":"HF2462","v":873.27276190476186},461.875]
[null,null,null,null,null,null,null,null,null,null,null,null,null,null,null,null,null,null,null,null,null,null,null,null,null,null,null,null,null,null,null,null,null,null,null,null,null,null,null,null,null,null,null,null,null,null,null,null,null,null,null,null,null,null,null,null,null,null,null,null,null,null,null,null,null,null,null,null,null,null,null,null,null,null,null,null,null,null,null,null,null,null,null,null,null,null,null,null,null,null,null,null,null,null,null,null,null,null,null,null,null,null,null,null,null,null,null,null,null,null,null,null,null,null,null,null,null,null,null,null,null,null,null,null,null,null,null,null,null,null,null,null,null,null,null,null,null,null,null,null,null,null,null,null,null,null,null,null,null,null,null,null,null,null,null,null,null,null,null,null,null,null,null,null,null,null,null,null,null,null,null,null,null,null,null,null,null,null,null,null,null,null,null,null,null,null,null,null,null,null,null,null,null,null,null,null,null,null,null,null,null,null,77,null,"Вершина",{"$f":"GX$2307-(GX$2307-GX$2310-(HF2462-GX$2310)*GX$2309/GX$2308)","v":873.27276190476186},461.875,77,null,null,1,863,297.875,{"$f":"GX2307-((GX2307-GX2310-(HF2462-GX2310)*GX2309/GX2308)*('Исходные данные'!F32+'Исходные данные'!F30)/'Исходные данные'!F32)","v":873.27276190476186},461.875]
[null,null,null,null,null,null,null,null,null,null,null,null,null,null,null,null,null,null,null,null,null,null,null,null,null,null,null,null,null,null,null,null,null,null,null,null,null,null,null,null,null,null,null,null,null,null,null,null,null,null,null,null,null,null,null,null,null,null,null,null,null,null,null,null,null,null,null,null,null,null,null,null,null,null,null,null,null,null,null,null,null,null,null,null,null,null,null,null,null,null,null,null,null,null,null,null,null,null,null,null,null,null,null,null,null,null,null,null,null,null,null,null,null,null,null,null,null,null,null,null,null,null,null,null,null,null,null,null,null,null,null,null,null,null,null,null,null,null,null,null,null,null,null,null,null,null,null,null,null,null,null,null,null,null,null,null,null,null,null,null,null,null,null,null,null,null,null,null,null,null,null,null,null,null,null,null,null,null,null,null,null,null,null,null,null,null,null,null,null,null,null,null,null,null,null,null,null,null,null,null,null,null,null,null,"Основание",{"$f":"IF(GX2464>GX$2310,GX2464,HF2464-(HF2464-HF2462)/5)","v":873.27276190476186},461.875,null,null,null,1,811,232.875,{"$f":"HF2464","v":873.27276190476186},461.875]
[null,null,null,null,null,null,null,null,null,null,null,null,null,null,null,null,null,null,null,null,null,null,null,null,null,null,null,null,null,null,null,null,null,null,null,null,null,null,null,null,null,null,null,null,null,null,null,null,null,null,null,null,null,null,null,null,null,null,null,null,null,null,null,null,null,null,null,null,null,null,null,null,null,null,null,null,null,null,null,null,null,null,null,null,null,null,null,null,null,null,null,null,null,null,null,null,null,null,null,null,null,null,null,null,null,null,null,null,null,null,null,null,null,null,null,null,null,null,null,null,null,null,null,null,null,null,null,null,null,null,null,null,null,null,null,null,null,null,null,null,null,null,null,null,null,null,null,null,null,null,null,null,null,null,null,null,null,null,null,null,null,null,null,null,null,null,null,null,null,null,null,null,null,null,null,null,null,null,null,null,null,null,null,null,null,null,null,null,null,null,null,null,null,null,null,null,null,null,null,null,null,null,78,null,"Вершина",{"$f":"GX$2307-(GX$2307-GX$2310-(HF2464-GX$2310)*GX$2309/GX$2308)","v":873.27276190476186},461.875,78,null,null,1,863,297.875,{"$f":"GX2307-((GX2307-GX2310-(HF2464-GX2310)*GX2309/GX2308)*('Исходные данные'!F32+'Исходные данные'!F30)/'Исходные данные'!F32)","v":873.27276190476186},461.875]
[null,null,null,null,null,null,null,null,null,null,null,null,null,null,null,null,null,null,null,null,null,null,null,null,null,null,null,null,null,null,null,null,null,null,null,null,null,null,null,null,null,null,null,null,null,null,null,null,null,null,null,null,null,null,null,null,null,null,null,null,null,null,null,null,null,null,null,null,null,null,null,null,null,null,null,null,null,null,null,null,null,null,null,null,null,null,null,null,null,null,null,null,null,null,null,null,null,null,null,null,null,null,null,null,null,null,null,null,null,null,null,null,null,null,null,null,null,null,null,null,null,null,null,null,null,null,null,null,null,null,null,null,null,null,null,null,null,null,null,null,null,null,null,null,null,null,null,null,null,null,null,null,null,null,null,null,null,null,null,null,null,null,null,null,null,null,null,null,null,null,null,null,null,null,null,null,null,null,null,null,null,null,null,null,null,null,null,null,null,null,null,null,null,null,null,null,null,null,null,null,null,null,null,null,"Основание",{"$f":"IF(GX2466>GX$2310,GX2466,HF2466-(HF2466-HF2464)/5)","v":873.27276190476186},461.875,null,null,null,1,811,232.875,{"$f":"HF2466","v":873.27276190476186},461.875]
[null,null,null,null,null,null,null,null,null,null,null,null,null,null,null,null,null,null,null,null,null,null,null,null,null,null,null,null,null,null,null,null,null,null,null,null,null,null,null,null,null,null,null,null,null,null,null,null,null,null,null,null,null,null,null,null,null,null,null,null,null,null,null,null,null,null,null,null,null,null,null,null,null,null,null,null,null,null,null,null,null,null,null,null,null,null,null,null,null,null,null,null,null,null,null,null,null,null,null,null,null,null,null,null,null,null,null,null,null,null,null,null,null,null,null,null,null,null,null,null,null,null,null,null,null,null,null,null,null,null,null,null,null,null,null,null,null,null,null,null,null,null,null,null,null,null,null,null,null,null,null,null,null,null,null,null,null,null,null,null,null,null,null,null,null,null,null,null,null,null,null,null,null,null,null,null,null,null,null,null,null,null,null,null,null,null,null,null,null,null,null,null,null,null,null,null,null,null,null,null,null,null,79,null,"Вершина",{"$f":"GX$2307-(GX$2307-GX$2310-(HF2466-GX$2310)*GX$2309/GX$2308)","v":873.27276190476186},461.875,79,null,null,1,863,297.875,{"$f":"GX2307-((GX2307-GX2310-(HF2466-GX2310)*GX2309/GX2308)*('Исходные данные'!F32+'Исходные данные'!F30)/'Исходные данные'!F32)","v":873.27276190476186},461.875]
[null,null,null,null,null,null,null,null,null,null,null,null,null,null,null,null,null,null,null,null,null,null,null,null,null,null,null,null,null,null,null,null,null,null,null,null,null,null,null,null,null,null,null,null,null,null,null,null,null,null,null,null,null,null,null,null,null,null,null,null,null,null,null,null,null,null,null,null,null,null,null,null,null,null,null,null,null,null,null,null,null,null,null,null,null,null,null,null,null,null,null,null,null,null,null,null,null,null,null,null,null,null,null,null,null,null,null,null,null,null,null,null,null,null,null,null,null,null,null,null,null,null,null,null,null,null,null,null,null,null,null,null,null,null,null,null,null,null,null,null,null,null,null,null,null,null,null,null,null,null,null,null,null,null,null,null,null,null,null,null,null,null,null,null,null,null,null,null,null,null,null,null,null,null,null,null,null,null,null,null,null,null,null,null,null,null,null,null,null,null,null,null,null,null,null,null,null,null,null,null,null,null,null,null,"Основание",{"$f":"IF(GX2468>GX$2310,GX2468,HF2468-(HF2468-HF2466)/5)","v":873.27276190476186},461.875,null,null,null,1,811,232.875,{"$f":"HF2468","v":873.27276190476186},461.875]
[null,null,null,null,null,null,null,null,null,null,null,null,null,null,null,null,null,null,null,null,null,null,null,null,null,null,null,null,null,null,null,null,null,null,null,null,null,null,null,null,null,null,null,null,null,null,null,null,null,null,null,null,null,null,null,null,null,null,null,null,null,null,null,null,null,null,null,null,null,null,null,null,null,null,null,null,null,null,null,null,null,null,null,null,null,null,null,null,null,null,null,null,null,null,null,null,null,null,null,null,null,null,null,null,null,null,null,null,null,null,null,null,null,null,null,null,null,null,null,null,null,null,null,null,null,null,null,null,null,null,null,null,null,null,null,null,null,null,null,null,null,null,null,null,null,null,null,null,null,null,null,null,null,null,null,null,null,null,null,null,null,null,null,null,null,null,null,null,null,null,null,null,null,null,null,null,null,null,null,null,null,null,null,null,null,null,null,null,null,null,null,null,null,null,null,null,null,null,null,null,null,null,80,null,"Вершина",{"$f":"GX$2307-(GX$2307-GX$2310-(HF2468-GX$2310)*GX$2309/GX$2308)","v":873.27276190476186},461.875,80,null,null,1,863,297.875,{"$f":"GX2307-((GX2307-GX2310-(HF2468-GX2310)*GX2309/GX2308)*('Исходные данные'!F32+'Исходные данные'!F30)/'Исходные данные'!F32)","v":873.27276190476186},461.875]
[null,null,null,null,null,null,null,null,null,null,null,null,null,null,null,null,null,null,null,null,null,null,null,null,null,null,null,null,null,null,null,null,null,null,null,null,null,null,null,null,null,null,null,null,null,null,null,null,null,null,null,null,null,null,null,null,null,null,null,null,null,null,null,null,null,null,null,null,null,null,null,null,null,null,null,null,null,null,null,null,null,null,null,null,null,null,null,null,null,null,null,null,null,null,null,null,null,null,null,null,null,null,null,null,null,null,null,null,null,null,null,null,null,null,null,null,null,null,null,null,null,null,null,null,null,null,null,null,null,null,null,null,null,null,null,null,null,null,null,null,null,null,null,null,null,null,null,null,null,null,null,null,null,null,null,null,null,null,null,null,null,null,null,null,null,null,null,null,null,null,null,null,null,null,null,null,null,null,null,null,null,null,null,null,null,null,null,null,null,null,null,null,null,null,null,null,null,null,null,null,null,null,null,null,"Основание",{"$f":"IF(GX2470>GX$2310,GX2470,HF2470-(HF2470-HF2468)/5)","v":873.27276190476186},461.875,null,null,null,1,811,232.875,{"$f":"HF2470","v":873.27276190476186},461.875]
[null,null,null,null,null,null,null,null,null,null,null,null,null,null,null,null,null,null,null,null,null,null,null,null,null,null,null,null,null,null,null,null,null,null,null,null,null,null,null,null,null,null,null,null,null,null,null,null,null,null,null,null,null,null,null,null,null,null,null,null,null,null,null,null,null,null,null,null,null,null,null,null,null,null,null,null,null,null,null,null,null,null,null,null,null,null,null,null,null,null,null,null,null,null,null,null,null,null,null,null,null,null,null,null,null,null,null,null,null,null,null,null,null,null,null,null,null,null,null,null,null,null,null,null,null,null,null,null,null,null,null,null,null,null,null,null,null,null,null,null,null,null,null,null,null,null,null,null,null,null,null,null,null,null,null,null,null,null,null,null,null,null,null,null,null,null,null,null,null,null,null,null,null,null,null,null,null,null,null,null,null,null,null,null,null,null,null,null,null,null,null,null,null,null,null,null,null,null,null,null,null,null,81,null,"Вершина",{"$f":"GX$2307-(GX$2307-GX$2310-(HF2470-GX$2310)*GX$2309/GX$2308)","v":873.27276190476186},461.875,81,null,null,1,{"$f":"HD2470","v":863},297.875,{"$f":"GX2307-((GX2307-GX2310-(HF2470-GX2310)*GX2309/GX2308)*('Исходные данные'!F32+'Исходные данные'!F30)/'Исходные данные'!F32)","v":873.27276190476186},461.875]
[null,null,null,null,null,null,null,null,null,null,null,null,null,null,null,null,null,null,null,null,null,null,null,null,null,null,null,null,null,null,null,null,null,null,null,null,null,null,null,null,null,null,null,null,null,null,null,null,null,null,null,null,null,null,null,null,null,null,null,null,null,null,null,null,null,null,null,null,null,null,null,null,null,null,null,null,null,null,null,null,null,null,null,null,null,null,null,null,null,null,null,null,null,null,null,null,null,null,null,null,null,null,null,null,null,null,null,null,null,null,null,null,null,null,null,null,null,null,null,null,null,null,null,null,null,null,null,null,null,null,null,null,null,null,null,null,null,null,null,null,null,null,null,null,null,null,null,null,null,null,null,null,null,null,null,null,null,null,null,null,null,null,null,null,null,null,null,null,null,null,null,null,null,null,null,null,null,null,null,null,null,null,null,null,null,null,null,null,null,null,null,null,null,null,null,null,null,null,null,null,null,null,null,null,"Основание",{"$f":"IF(GX2472>GX$2310,GX2472,HF2472-(HF2472-HF2470)/5)","v":873.27276190476186},461.875,null,null,null,1,811,232.875,{"$f":"HF2472","v":873.27276190476186},461.875]
[null,null,null,null,null,null,null,null,null,null,null,null,null,null,null,null,null,null,null,null,null,null,null,null,null,null,null,null,null,null,null,null,null,null,null,null,null,null,null,null,null,null,null,null,null,null,null,null,null,null,null,null,null,null,null,null,null,null,null,null,null,null,null,null,null,null,null,null,null,null,null,null,null,null,null,null,null,null,null,null,null,null,null,null,null,null,null,null,null,null,null,null,null,null,null,null,null,null,null,null,null,null,null,null,null,null,null,null,null,null,null,null,null,null,null,null,null,null,null,null,null,null,null,null,null,null,null,null,null,null,null,null,null,null,null,null,null,null,null,null,null,null,null,null,null,null,null,null,null,null,null,null,null,null,null,null,null,null,null,null,null,null,null,null,null,null,null,null,null,null,null,null,null,null,null,null,null,null,null,null,null,null,null,null,null,null,null,null,null,null,null,null,null,null,null,null,null,null,null,null,null,null,82,null,"Вершина",{"$f":"GX$2307-(GX$2307-GX$2310-(HF2472-GX$2310)*GX$2309/GX$2308)","v":873.27276190476186},461.875,82,null,null,1,863,297.875,{"$f":"GX2307-((GX2307-GX2310-(HF2472-GX2310)*GX2309/GX2308)*('Исходные данные'!F32+'Исходные данные'!F30)/'Исходные данные'!F32)","v":873.27276190476186},461.875]
[null,null,null,null,null,null,null,null,null,null,null,null,null,null,null,null,null,null,null,null,null,null,null,null,null,null,null,null,null,null,null,null,null,null,null,null,null,null,null,null,null,null,null,null,null,null,null,null,null,null,null,null,null,null,null,null,null,null,null,null,null,null,null,null,null,null,null,null,null,null,null,null,null,null,null,null,null,null,null,null,null,null,null,null,null,null,null,null,null,null,null,null,null,null,null,null,null,null,null,null,null,null,null,null,null,null,null,null,null,null,null,null,null,null,null,null,null,null,null,null,null,null,null,null,null,null,null,null,null,null,null,null,null,null,null,null,null,null,null,null,null,null,null,null,null,null,null,null,null,null,null,null,null,null,null,null,null,null,null,null,null,null,null,null,null,null,null,null,null,null,null,null,null,null,null,null,null,null,null,null,null,null,null,null,null,null,null,null,null,null,null,null,null,null,null,null,null,null,null,null,null,null,null,null,"Основание",{"$f":"IF(GX2474>GX$2310,GX2474,HF2474-(HF2474-HF2472)/5)","v":873.27276190476186},461.875,null,null,null,1,811,232.875,{"$f":"HF2474","v":873.27276190476186},461.875]
[null,null,null,null,null,null,null,null,null,null,null,null,null,null,null,null,null,null,null,null,null,null,null,null,null,null,null,null,null,null,null,null,null,null,null,null,null,null,null,null,null,null,null,null,null,null,null,null,null,null,null,null,null,null,null,null,null,null,null,null,null,null,null,null,null,null,null,null,null,null,null,null,null,null,null,null,null,null,null,null,null,null,null,null,null,null,null,null,null,null,null,null,null,null,null,null,null,null,null,null,null,null,null,null,null,null,null,null,null,null,null,null,null,null,null,null,null,null,null,null,null,null,null,null,null,null,null,null,null,null,null,null,null,null,null,null,null,null,null,null,null,null,null,null,null,null,null,null,null,null,null,null,null,null,null,null,null,null,null,null,null,null,null,null,null,null,null,null,null,null,null,null,null,null,null,null,null,null,null,null,null,null,null,null,null,null,null,null,null,null,null,null,null,null,null,null,null,null,null,null,null,null,83,null,"Вершина",{"$f":"GX$2307-(GX$2307-GX$2310-(HF2474-GX$2310)*GX$2309/GX$2308)","v":873.27276190476186},461.875,83,null,null,1,863,297.875,{"$f":"GX2307-((GX2307-GX2310-(HF2474-GX2310)*GX2309/GX2308)*('Исходные данные'!F32+'Исходные данные'!F30)/'Исходные данные'!F32)","v":873.27276190476186},461.875]
[null,null,null,null,null,null,null,null,null,null,null,null,null,null,null,null,null,null,null,null,null,null,null,null,null,null,null,null,null,null,null,null,null,null,null,null,null,null,null,null,null,null,null,null,null,null,null,null,null,null,null,null,null,null,null,null,null,null,null,null,null,null,null,null,null,null,null,null,null,null,null,null,null,null,null,null,null,null,null,null,null,null,null,null,null,null,null,null,null,null,null,null,null,null,null,null,null,null,null,null,null,null,null,null,null,null,null,null,null,null,null,null,null,null,null,null,null,null,null,null,null,null,null,null,null,null,null,null,null,null,null,null,null,null,null,null,null,null,null,null,null,null,null,null,null,null,null,null,null,null,null,null,null,null,null,null,null,null,null,null,null,null,null,null,null,null,null,null,null,null,null,null,null,null,null,null,null,null,null,null,null,null,null,null,null,null,null,null,null,null,null,null,null,null,null,null,null,null,null,null,null,null,null,null,"Основание",{"$f":"IF(GX2476>GX$2310,GX2476,HF2476-(HF2476-HF2474)/5)","v":873.27276190476186},461.875,null,null,null,1,811,232.875,{"$f":"HF2476","v":873.27276190476186},461.875]
[null,null,null,null,null,null,null,null,null,null,null,null,null,null,null,null,null,null,null,null,null,null,null,null,null,null,null,null,null,null,null,null,null,null,null,null,null,null,null,null,null,null,null,null,null,null,null,null,null,null,null,null,null,null,null,null,null,null,null,null,null,null,null,null,null,null,null,null,null,null,null,null,null,null,null,null,null,null,null,null,null,null,null,null,null,null,null,null,null,null,null,null,null,null,null,null,null,null,null,null,null,null,null,null,null,null,null,null,null,null,null,null,null,null,null,null,null,null,null,null,null,null,null,null,null,null,null,null,null,null,null,null,null,null,null,null,null,null,null,null,null,null,null,null,null,null,null,null,null,null,null,null,null,null,null,null,null,null,null,null,null,null,null,null,null,null,null,null,null,null,null,null,null,null,null,null,null,null,null,null,null,null,null,null,null,null,null,null,null,null,null,null,null,null,null,null,null,null,null,null,null,null,84,null,"Вершина",{"$f":"GX$2307-(GX$2307-GX$2310-(HF2476-GX$2310)*GX$2309/GX$2308)","v":873.27276190476186},461.875,84,null,null,1,863,297.875,{"$f":"GX2307-((GX2307-GX2310-(HF2476-GX2310)*GX2309/GX2308)*('Исходные данные'!F32+'Исходные данные'!F30)/'Исходные данные'!F32)","v":873.27276190476186},461.875]
[null,null,null,null,null,null,null,null,null,null,null,null,null,null,null,null,null,null,null,null,null,null,null,null,null,null,null,null,null,null,null,null,null,null,null,null,null,null,null,null,null,null,null,null,null,null,null,null,null,null,null,null,null,null,null,null,null,null,null,null,null,null,null,null,null,null,null,null,null,null,null,null,null,null,null,null,null,null,null,null,null,null,null,null,null,null,null,null,null,null,null,null,null,null,null,null,null,null,null,null,null,null,null,null,null,null,null,null,null,null,null,null,null,null,null,null,null,null,null,null,null,null,null,null,null,null,null,null,null,null,null,null,null,null,null,null,null,null,null,null,null,null,null,null,null,null,null,null,null,null,null,null,null,null,null,null,null,null,null,null,null,null,null,null,null,null,null,null,null,null,null,null,null,null,null,null,null,null,null,null,null,null,null,null,null,null,null,null,null,null,null,null,null,null,null,null,null,null,null,null,null,null,null,null,"Основание",{"$f":"IF(GX2478>GX$2310,GX2478,HF2478-(HF2478-HF2476)/5)","v":873.27276190476186},461.875,null,null,null,1,811,232.875,{"$f":"HF2478","v":873.27276190476186},461.875]
[null,null,null,null,null,null,null,null,null,null,null,null,null,null,null,null,null,null,null,null,null,null,null,null,null,null,null,null,null,null,null,null,null,null,null,null,null,null,null,null,null,null,null,null,null,null,null,null,null,null,null,null,null,null,null,null,null,null,null,null,null,null,null,null,null,null,null,null,null,null,null,null,null,null,null,null,null,null,null,null,null,null,null,null,null,null,null,null,null,null,null,null,null,null,null,null,null,null,null,null,null,null,null,null,null,null,null,null,null,null,null,null,null,null,null,null,null,null,null,null,null,null,null,null,null,null,null,null,null,null,null,null,null,null,null,null,null,null,null,null,null,null,null,null,null,null,null,null,null,null,null,null,null,null,null,null,null,null,null,null,null,null,null,null,null,null,null,null,null,null,null,null,null,null,null,null,null,null,null,null,null,null,null,null,null,null,null,null,null,null,null,null,null,null,null,null,null,null,null,null,null,null,85,null,"Вершина",{"$f":"GX$2307-(GX$2307-GX$2310-(HF2478-GX$2310)*GX$2309/GX$2308)","v":873.27276190476186},461.875,85,null,null,1,863,297.875,{"$f":"GX2307-((GX2307-GX2310-(HF2478-GX2310)*GX2309/GX2308)*('Исходные данные'!F32+'Исходные данные'!F30)/'Исходные данные'!F32)","v":873.27276190476186},461.875]
[null,null,null,null,null,null,null,null,null,null,null,null,null,null,null,null,null,null,null,null,null,null,null,null,null,null,null,null,null,null,null,null,null,null,null,null,null,null,null,null,null,null,null,null,null,null,null,null,null,null,null,null,null,null,null,null,null,null,null,null,null,null,null,null,null,null,null,null,null,null,null,null,null,null,null,null,null,null,null,null,null,null,null,null,null,null,null,null,null,null,null,null,null,null,null,null,null,null,null,null,null,null,null,null,null,null,null,null,null,null,null,null,null,null,null,null,null,null,null,null,null,null,null,null,null,null,null,null,null,null,null,null,null,null,null,null,null,null,null,null,null,null,null,null,null,null,null,null,null,null,null,null,null,null,null,null,null,null,null,null,null,null,null,null,null,null,null,null,null,null,null,null,null,null,null,null,null,null,null,null,null,null,null,null,null,null,null,null,null,null,null,null,null,null,null,null,null,null,null,null,null,null,null,null,"Основание",{"$f":"IF(GX2480>GX$2310,GX2480,HF2480-(HF2480-HF2478)/5)","v":873.27276190476186},461.875,null,null,null,1,811,232.875,{"$f":"HF2480","v":873.27276190476186},461.875]
[null,null,null,null,null,null,null,null,null,null,null,null,null,null,null,null,null,null,null,null,null,null,null,null,null,null,null,null,null,null,null,null,null,null,null,null,null,null,null,null,null,null,null,null,null,null,null,null,null,null,null,null,null,null,null,null,null,null,null,null,null,null,null,null,null,null,null,null,null,null,null,null,null,null,null,null,null,null,null,null,null,null,null,null,null,null,null,null,null,null,null,null,null,null,null,null,null,null,null,null,null,null,null,null,null,null,null,null,null,null,null,null,null,null,null,null,null,null,null,null,null,null,null,null,null,null,null,null,null,null,null,null,null,null,null,null,null,null,null,null,null,null,null,null,null,null,null,null,null,null,null,null,null,null,null,null,null,null,null,null,null,null,null,null,null,null,null,null,null,null,null,null,null,null,null,null,null,null,null,null,null,null,null,null,null,null,null,null,null,null,null,null,null,null,null,null,null,null,null,null,null,null,86,null,"Вершина",{"$f":"GX$2307-(GX$2307-GX$2310-(HF2480-GX$2310)*GX$2309/GX$2308)","v":873.27276190476186},461.875,86,null,null,1,863,297.875,{"$f":"GX2307-((GX2307-GX2310-(HF2480-GX2310)*GX2309/GX2308)*('Исходные данные'!F32+'Исходные данные'!F30)/'Исходные данные'!F32)","v":873.27276190476186},461.875]
[null,null,null,null,null,null,null,null,null,null,null,null,null,null,null,null,null,null,null,null,null,null,null,null,null,null,null,null,null,null,null,null,null,null,null,null,null,null,null,null,null,null,null,null,null,null,null,null,null,null,null,null,null,null,null,null,null,null,null,null,null,null,null,null,null,null,null,null,null,null,null,null,null,null,null,null,null,null,null,null,null,null,null,null,null,null,null,null,null,null,null,null,null,null,null,null,null,null,null,null,null,null,null,null,null,null,null,null,null,null,null,null,null,null,null,null,null,null,null,null,null,null,null,null,null,null,null,null,null,null,null,null,null,null,null,null,null,null,null,null,null,null,null,null,null,null,null,null,null,null,null,null,null,null,null,null,null,null,null,null,null,null,null,null,null,null,null,null,null,null,null,null,null,null,null,null,null,null,null,null,null,null,null,null,null,null,null,null,null,null,null,null,null,null,null,null,null,null,null,null,null,null,null,null,"Основание",{"$f":"IF(GX2482>GX$2310,GX2482,HF2482-(HF2482-HF2480)/5)","v":873.27276190476186},461.875,null,null,null,1,811,232.875,{"$f":"HF2482","v":873.27276190476186},461.875]
[null,null,null,null,null,null,null,null,null,null,null,null,null,null,null,null,null,null,null,null,null,null,null,null,null,null,null,null,null,null,null,null,null,null,null,null,null,null,null,null,null,null,null,null,null,null,null,null,null,null,null,null,null,null,null,null,null,null,null,null,null,null,null,null,null,null,null,null,null,null,null,null,null,null,null,null,null,null,null,null,null,null,null,null,null,null,null,null,null,null,null,null,null,null,null,null,null,null,null,null,null,null,null,null,null,null,null,null,null,null,null,null,null,null,null,null,null,null,null,null,null,null,null,null,null,null,null,null,null,null,null,null,null,null,null,null,null,null,null,null,null,null,null,null,null,null,null,null,null,null,null,null,null,null,null,null,null,null,null,null,null,null,null,null,null,null,null,null,null,null,null,null,null,null,null,null,null,null,null,null,null,null,null,null,null,null,null,null,null,null,null,null,null,null,null,null,null,null,null,null,null,null,87,null,"Вершина",{"$f":"GX$2307-(GX$2307-GX$2310-(HF2482-GX$2310)*GX$2309/GX$2308)","v":873.27276190476186},461.875,87,null,null,1,863,297.875,{"$f":"GX2307-((GX2307-GX2310-(HF2482-GX2310)*GX2309/GX2308)*('Исходные данные'!F32+'Исходные данные'!F30)/'Исходные данные'!F32)","v":873.27276190476186},461.875]
[null,null,null,null,null,null,null,null,null,null,null,null,null,null,null,null,null,null,null,null,null,null,null,null,null,null,null,null,null,null,null,null,null,null,null,null,null,null,null,null,null,null,null,null,null,null,null,null,null,null,null,null,null,null,null,null,null,null,null,null,null,null,null,null,null,null,null,null,null,null,null,null,null,null,null,null,null,null,null,null,null,null,null,null,null,null,null,null,null,null,null,null,null,null,null,null,null,null,null,null,null,null,null,null,null,null,null,null,null,null,null,null,null,null,null,null,null,null,null,null,null,null,null,null,null,null,null,null,null,null,null,null,null,null,null,null,null,null,null,null,null,null,null,null,null,null,null,null,null,null,null,null,null,null,null,null,null,null,null,null,null,null,null,null,null,null,null,null,null,null,null,null,null,null,null,null,null,null,null,null,null,null,null,null,null,null,null,null,null,null,null,null,null,null,null,null,null,null,null,null,null,null,null,null,"Основание",{"$f":"IF(GX2484>GX$2310,GX2484,HF2484-(HF2484-HF2482)/5)","v":873.27276190476186},461.875,null,null,null,1,811,232.875,{"$f":"HF2484","v":873.27276190476186},461.875]
[null,null,null,null,null,null,null,null,null,null,null,null,null,null,null,null,null,null,null,null,null,null,null,null,null,null,null,null,null,null,null,null,null,null,null,null,null,null,null,null,null,null,null,null,null,null,null,null,null,null,null,null,null,null,null,null,null,null,null,null,null,null,null,null,null,null,null,null,null,null,null,null,null,null,null,null,null,null,null,null,null,null,null,null,null,null,null,null,null,null,null,null,null,null,null,null,null,null,null,null,null,null,null,null,null,null,null,null,null,null,null,null,null,null,null,null,null,null,null,null,null,null,null,null,null,null,null,null,null,null,null,null,null,null,null,null,null,null,null,null,null,null,null,null,null,null,null,null,null,null,null,null,null,null,null,null,null,null,null,null,null,null,null,null,null,null,null,null,null,null,null,null,null,null,null,null,null,null,null,null,null,null,null,null,null,null,null,null,null,null,null,null,null,null,null,null,null,null,null,null,null,null,88,null,"Вершина",{"$f":"GX$2307-(GX$2307-GX$2310-(HF2484-GX$2310)*GX$2309/GX$2308)","v":873.27276190476186},461.875,88,null,null,1,863,297.875,{"$f":"GX2307-((GX2307-GX2310-(HF2484-GX2310)*GX2309/GX2308)*('Исходные данные'!F32+'Исходные данные'!F30)/'Исходные данные'!F32)","v":873.27276190476186},461.875]
[null,null,null,null,null,null,null,null,null,null,null,null,null,null,null,null,null,null,null,null,null,null,null,null,null,null,null,null,null,null,null,null,null,null,null,null,null,null,null,null,null,null,null,null,null,null,null,null,null,null,null,null,null,null,null,null,null,null,null,null,null,null,null,null,null,null,null,null,null,null,null,null,null,null,null,null,null,null,null,null,null,null,null,null,null,null,null,null,null,null,null,null,null,null,null,null,null,null,null,null,null,null,null,null,null,null,null,null,null,null,null,null,null,null,null,null,null,null,null,null,null,null,null,null,null,null,null,null,null,null,null,null,null,null,null,null,null,null,null,null,null,null,null,null,null,null,null,null,null,null,null,null,null,null,null,null,null,null,null,null,null,null,null,null,null,null,null,null,null,null,null,null,null,null,null,null,null,null,null,null,null,null,null,null,null,null,null,null,null,null,null,null,null,null,null,null,null,null,null,null,null,null,null,null,"Основание",{"$f":"IF(GX2486>GX$2310,GX2486,HF2486-(HF2486-HF2484)/5)","v":873.27276190476186},461.875,null,null,null,1,811,232.875,{"$f":"HF2486","v":873.27276190476186},461.875]
[null,null,null,null,null,null,null,null,null,null,null,null,null,null,null,null,null,null,null,null,null,null,null,null,null,null,null,null,null,null,null,null,null,null,null,null,null,null,null,null,null,null,null,null,null,null,null,null,null,null,null,null,null,null,null,null,null,null,null,null,null,null,null,null,null,null,null,null,null,null,null,null,null,null,null,null,null,null,null,null,null,null,null,null,null,null,null,null,null,null,null,null,null,null,null,null,null,null,null,null,null,null,null,null,null,null,null,null,null,null,null,null,null,null,null,null,null,null,null,null,null,null,null,null,null,null,null,null,null,null,null,null,null,null,null,null,null,null,null,null,null,null,null,null,null,null,null,null,null,null,null,null,null,null,null,null,null,null,null,null,null,null,null,null,null,null,null,null,null,null,null,null,null,null,null,null,null,null,null,null,null,null,null,null,null,null,null,null,null,null,null,null,null,null,null,null,null,null,null,null,null,null,89,null,"Вершина",{"$f":"GX$2307-(GX$2307-GX$2310-(HF2486-GX$2310)*GX$2309/GX$2308)","v":873.27276190476186},461.875,89,null,null,1,863,297.875,{"$f":"GX2307-((GX2307-GX2310-(HF2486-GX2310)*GX2309/GX2308)*('Исходные данные'!F32+'Исходные данные'!F30)/'Исходные данные'!F32)","v":873.27276190476186},461.875]
[null,null,null,null,null,null,null,null,null,null,null,null,null,null,null,null,null,null,null,null,null,null,null,null,null,null,null,null,null,null,null,null,null,null,null,null,null,null,null,null,null,null,null,null,null,null,null,null,null,null,null,null,null,null,null,null,null,null,null,null,null,null,null,null,null,null,null,null,null,null,null,null,null,null,null,null,null,null,null,null,null,null,null,null,null,null,null,null,null,null,null,null,null,null,null,null,null,null,null,null,null,null,null,null,null,null,null,null,null,null,null,null,null,null,null,null,null,null,null,null,null,null,null,null,null,null,null,null,null,null,null,null,null,null,null,null,null,null,null,null,null,null,null,null,null,null,null,null,null,null,null,null,null,null,null,null,null,null,null,null,null,null,null,null,null,null,null,null,null,null,null,null,null,null,null,null,null,null,null,null,null,null,null,null,null,null,null,null,null,null,null,null,null,null,null,null,null,null,null,null,null,null,null,null,"Основание",{"$f":"IF(GX2488>GX$2310,GX2488,HF2488-(HF2488-HF2486)/5)","v":873.27276190476186},461.875,null,null,null,1,811,232.875,{"$f":"HF2488","v":873.27276190476186},461.875]
[null,null,null,null,null,null,null,null,null,null,null,null,null,null,null,null,null,null,null,null,null,null,null,null,null,null,null,null,null,null,null,null,null,null,null,null,null,null,null,null,null,null,null,null,null,null,null,null,null,null,null,null,null,null,null,null,null,null,null,null,null,null,null,null,null,null,null,null,null,null,null,null,null,null,null,null,null,null,null,null,null,null,null,null,null,null,null,null,null,null,null,null,null,null,null,null,null,null,null,null,null,null,null,null,null,null,null,null,null,null,null,null,null,null,null,null,null,null,null,null,null,null,null,null,null,null,null,null,null,null,null,null,null,null,null,null,null,null,null,null,null,null,null,null,null,null,null,null,null,null,null,null,null,null,null,null,null,null,null,null,null,null,null,null,null,null,null,null,null,null,null,null,null,null,null,null,null,null,null,null,null,null,null,null,null,null,null,null,null,null,null,null,null,null,null,null,null,null,null,null,null,null,90,null,"Вершина",{"$f":"GX$2307-(GX$2307-GX$2310-(HF2488-GX$2310)*GX$2309/GX$2308)","v":873.27276190476186},461.875,90,null,null,1,863,297.875,{"$f":"GX2307-((GX2307-GX2310-(HF2488-GX2310)*GX2309/GX2308)*('Исходные данные'!F32+'Исходные данные'!F30)/'Исходные данные'!F32)","v":873.27276190476186},461.875]
[null,null,null,null,null,null,null,null,null,null,null,null,null,null,null,null,null,null,null,null,null,null,null,null,null,null,null,null,null,null,null,null,null,null,null,null,null,null,null,null,null,null,null,null,null,null,null,null,null,null,null,null,null,null,null,null,null,null,null,null,null,null,null,null,null,null,null,null,null,null,null,null,null,null,null,null,null,null,null,null,null,null,null,null,null,null,null,null,null,null,null,null,null,null,null,null,null,null,null,null,null,null,null,null,null,null,null,null,null,null,null,null,null,null,null,null,null,null,null,null,null,null,null,null,null,null,null,null,null,null,null,null,null,null,null,null,null,null,null,null,null,null,null,null,null,null,null,null,null,null,null,null,null,null,null,null,null,null,null,null,null,null,null,null,null,null,null,null,null,null,null,null,null,null,null,null,null,null,null,null,null,null,null,null,null,null,null,null,null,null,null,null,null,null,null,null,null,null,null,null,null,null,null,null,"Основание",{"$f":"IF(GX2490>GX$2310,GX2490,HF2490-(HF2490-HF2488)/5)","v":873.27276190476186},461.875,null,null,null,1,811,232.875,{"$f":"HF2490","v":873.27276190476186},461.875]
[null,null,null,null,null,null,null,null,null,null,null,null,null,null,null,null,null,null,null,null,null,null,null,null,null,null,null,null,null,null,null,null,null,null,null,null,null,null,null,null,null,null,null,null,null,null,null,null,null,null,null,null,null,null,null,null,null,null,null,null,null,null,null,null,null,null,null,null,null,null,null,null,null,null,null,null,null,null,null,null,null,null,null,null,null,null,null,null,null,null,null,null,null,null,null,null,null,null,null,null,null,null,null,null,null,null,null,null,null,null,null,null,null,null,null,null,null,null,null,null,null,null,null,null,null,null,null,null,null,null,null,null,null,null,null,null,null,null,null,null,null,null,null,null,null,null,null,null,null,null,null,null,null,null,null,null,null,null,null,null,null,null,null,null,null,null,null,null,null,null,null,null,null,null,null,null,null,null,null,null,null,null,null,null,null,null,null,null,null,null,null,null,null,null,null,null,null,null,null,null,null,null,91,null,"Вершина",{"$f":"GX$2307-(GX$2307-GX$2310-(HF2490-GX$2310)*GX$2309/GX$2308)","v":873.27276190476186},461.875,91,null,null,1,{"$f":"HD2490","v":863},297.875,{"$f":"GX2307-((GX2307-GX2310-(HF2490-GX2310)*GX2309/GX2308)*('Исходные данные'!F32+'Исходные данные'!F30)/'Исходные данные'!F32)","v":873.27276190476186},461.875]
[null,null,null,null,null,null,null,null,null,null,null,null,null,null,null,null,null,null,null,null,null,null,null,null,null,null,null,null,null,null,null,null,null,null,null,null,null,null,null,null,null,null,null,null,null,null,null,null,null,null,null,null,null,null,null,null,null,null,null,null,null,null,null,null,null,null,null,null,null,null,null,null,null,null,null,null,null,null,null,null,null,null,null,null,null,null,null,null,null,null,null,null,null,null,null,null,null,null,null,null,null,null,null,null,null,null,null,null,null,null,null,null,null,null,null,null,null,null,null,null,null,null,null,null,null,null,null,null,null,null,null,null,null,null,null,null,null,null,null,null,null,null,null,null,null,null,null,null,null,null,null,null,null,null,null,null,null,null,null,null,null,null,null,null,null,null,null,null,null,null,null,null,null,null,null,null,null,null,null,null,null,null,null,null,null,null,null,null,null,null,null,null,null,null,null,null,null,null,null,null,null,null,null,null,"Основание",{"$f":"IF(GX2492>GX$2310,GX2492,HF2492-(HF2492-HF2490)/5)","v":873.27276190476186},461.875,null,null,null,1,811,232.875,{"$f":"HF2492","v":873.27276190476186},461.875]
[null,null,null,null,null,null,null,null,null,null,null,null,null,null,null,null,null,null,null,null,null,null,null,null,null,null,null,null,null,null,null,null,null,null,null,null,null,null,null,null,null,null,null,null,null,null,null,null,null,null,null,null,null,null,null,null,null,null,null,null,null,null,null,null,null,null,null,null,null,null,null,null,null,null,null,null,null,null,null,null,null,null,null,null,null,null,null,null,null,null,null,null,null,null,null,null,null,null,null,null,null,null,null,null,null,null,null,null,null,null,null,null,null,null,null,null,null,null,null,null,null,null,null,null,null,null,null,null,null,null,null,null,null,null,null,null,null,null,null,null,null,null,null,null,null,null,null,null,null,null,null,null,null,null,null,null,null,null,null,null,null,null,null,null,null,null,null,null,null,null,null,null,null,null,null,null,null,null,null,null,null,null,null,null,null,null,null,null,null,null,null,null,null,null,null,null,null,null,null,null,null,null,92,null,"Вершина",{"$f":"GX$2307-(GX$2307-GX$2310-(HF2492-GX$2310)*GX$2309/GX$2308)","v":873.27276190476186},461.875,92,null,null,1,863,297.875,{"$f":"GX2307-((GX2307-GX2310-(HF2492-GX2310)*GX2309/GX2308)*('Исходные данные'!F32+'Исходные данные'!F30)/'Исходные данные'!F32)","v":873.27276190476186},461.875]
[null,null,null,null,null,null,null,null,null,null,null,null,null,null,null,null,null,null,null,null,null,null,null,null,null,null,null,null,null,null,null,null,null,null,null,null,null,null,null,null,null,null,null,null,null,null,null,null,null,null,null,null,null,null,null,null,null,null,null,null,null,null,null,null,null,null,null,null,null,null,null,null,null,null,null,null,null,null,null,null,null,null,null,null,null,null,null,null,null,null,null,null,null,null,null,null,null,null,null,null,null,null,null,null,null,null,null,null,null,null,null,null,null,null,null,null,null,null,null,null,null,null,null,null,null,null,null,null,null,null,null,null,null,null,null,null,null,null,null,null,null,null,null,null,null,null,null,null,null,null,null,null,null,null,null,null,null,null,null,null,null,null,null,null,null,null,null,null,null,null,null,null,null,null,null,null,null,null,null,null,null,null,null,null,null,null,null,null,null,null,null,null,null,null,null,null,null,null,null,null,null,null,null,null,"Основание",{"$f":"IF(GX2494>GX$2310,GX2494,HF2494-(HF2494-HF2492)/5)","v":873.27276190476186},461.875,null,null,null,1,811,232.875,{"$f":"HF2494","v":873.27276190476186},461.875]
[null,null,null,null,null,null,null,null,null,null,null,null,null,null,null,null,null,null,null,null,null,null,null,null,null,null,null,null,null,null,null,null,null,null,null,null,null,null,null,null,null,null,null,null,null,null,null,null,null,null,null,null,null,null,null,null,null,null,null,null,null,null,null,null,null,null,null,null,null,null,null,null,null,null,null,null,null,null,null,null,null,null,null,null,null,null,null,null,null,null,null,null,null,null,null,null,null,null,null,null,null,null,null,null,null,null,null,null,null,null,null,null,null,null,null,null,null,null,null,null,null,null,null,null,null,null,null,null,null,null,null,null,null,null,null,null,null,null,null,null,null,null,null,null,null,null,null,null,null,null,null,null,null,null,null,null,null,null,null,null,null,null,null,null,null,null,null,null,null,null,null,null,null,null,null,null,null,null,null,null,null,null,null,null,null,null,null,null,null,null,null,null,null,null,null,null,null,null,null,null,null,null,93,null,"Вершина",{"$f":"GX$2307-(GX$2307-GX$2310-(HF2494-GX$2310)*GX$2309/GX$2308)","v":873.27276190476186},461.875,93,null,null,1,863,297.875,{"$f":"GX2307-((GX2307-GX2310-(HF2494-GX2310)*GX2309/GX2308)*('Исходные данные'!F32+'Исходные данные'!F30)/'Исходные данные'!F32)","v":873.27276190476186},461.875]
[null,null,null,null,null,null,null,null,null,null,null,null,null,null,null,null,null,null,null,null,null,null,null,null,null,null,null,null,null,null,null,null,null,null,null,null,null,null,null,null,null,null,null,null,null,null,null,null,null,null,null,null,null,null,null,null,null,null,null,null,null,null,null,null,null,null,null,null,null,null,null,null,null,null,null,null,null,null,null,null,null,null,null,null,null,null,null,null,null,null,null,null,null,null,null,null,null,null,null,null,null,null,null,null,null,null,null,null,null,null,null,null,null,null,null,null,null,null,null,null,null,null,null,null,null,null,null,null,null,null,null,null,null,null,null,null,null,null,null,null,null,null,null,null,null,null,null,null,null,null,null,null,null,null,null,null,null,null,null,null,null,null,null,null,null,null,null,null,null,null,null,null,null,null,null,null,null,null,null,null,null,null,null,null,null,null,null,null,null,null,null,null,null,null,null,null,null,null,null,null,null,null,null,null,"Основание",{"$f":"IF(GX2496>GX$2310,GX2496,HF2496-(HF2496-HF2494)/5)","v":873.27276190476186},461.875,null,null,null,1,811,232.875,{"$f":"HF2496","v":873.27276190476186},461.875]
[null,null,null,null,null,null,null,null,null,null,null,null,null,null,null,null,null,null,null,null,null,null,null,null,null,null,null,null,null,null,null,null,null,null,null,null,null,null,null,null,null,null,null,null,null,null,null,null,null,null,null,null,null,null,null,null,null,null,null,null,null,null,null,null,null,null,null,null,null,null,null,null,null,null,null,null,null,null,null,null,null,null,null,null,null,null,null,null,null,null,null,null,null,null,null,null,null,null,null,null,null,null,null,null,null,null,null,null,null,null,null,null,null,null,null,null,null,null,null,null,null,null,null,null,null,null,null,null,null,null,null,null,null,null,null,null,null,null,null,null,null,null,null,null,null,null,null,null,null,null,null,null,null,null,null,null,null,null,null,null,null,null,null,null,null,null,null,null,null,null,null,null,null,null,null,null,null,null,null,null,null,null,null,null,null,null,null,null,null,null,null,null,null,null,null,null,null,null,null,null,null,null,94,null,"Вершина",{"$f":"GX$2307-(GX$2307-GX$2310-(HF2496-GX$2310)*GX$2309/GX$2308)","v":873.27276190476186},461.875,94,null,null,1,863,297.875,{"$f":"GX2307-((GX2307-GX2310-(HF2496-GX2310)*GX2309/GX2308)*('Исходные данные'!F32+'Исходные данные'!F30)/'Исходные данные'!F32)","v":873.27276190476186},461.875]
[null,null,null,null,null,null,null,null,null,null,null,null,null,null,null,null,null,null,null,null,null,null,null,null,null,null,null,null,null,null,null,null,null,null,null,null,null,null,null,null,null,null,null,null,null,null,null,null,null,null,null,null,null,null,null,null,null,null,null,null,null,null,null,null,null,null,null,null,null,null,null,null,null,null,null,null,null,null,null,null,null,null,null,null,null,null,null,null,null,null,null,null,null,null,null,null,null,null,null,null,null,null,null,null,null,null,null,null,null,null,null,null,null,null,null,null,null,null,null,null,null,null,null,null,null,null,null,null,null,null,null,null,null,null,null,null,null,null,null,null,null,null,null,null,null,null,null,null,null,null,null,null,null,null,null,null,null,null,null,null,null,null,null,null,null,null,null,null,null,null,null,null,null,null,null,null,null,null,null,null,null,null,null,null,null,null,null,null,null,null,null,null,null,null,null,null,null,null,null,null,null,null,null,null,"Основание",{"$f":"IF(GX2498>GX$2310,GX2498,HF2498-(HF2498-HF2496)/5)","v":873.27276190476186},461.875,null,null,null,1,811,232.875,{"$f":"HF2498","v":873.27276190476186},461.875]
[null,null,null,null,null,null,null,null,null,null,null,null,null,null,null,null,null,null,null,null,null,null,null,null,null,null,null,null,null,null,null,null,null,null,null,null,null,null,null,null,null,null,null,null,null,null,null,null,null,null,null,null,null,null,null,null,null,null,null,null,null,null,null,null,null,null,null,null,null,null,null,null,null,null,null,null,null,null,null,null,null,null,null,null,null,null,null,null,null,null,null,null,null,null,null,null,null,null,null,null,null,null,null,null,null,null,null,null,null,null,null,null,null,null,null,null,null,null,null,null,null,null,null,null,null,null,null,null,null,null,null,null,null,null,null,null,null,null,null,null,null,null,null,null,null,null,null,null,null,null,null,null,null,null,null,null,null,null,null,null,null,null,null,null,null,null,null,null,null,null,null,null,null,null,null,null,null,null,null,null,null,null,null,null,null,null,null,null,null,null,null,null,null,null,null,null,null,null,null,null,null,null,95,null,"Вершина",{"$f":"GX$2307-(GX$2307-GX$2310-(HF2498-GX$2310)*GX$2309/GX$2308)","v":873.27276190476186},461.875,95,null,null,1,863,297.875,{"$f":"GX2307-((GX2307-GX2310-(HF2498-GX2310)*GX2309/GX2308)*('Исходные данные'!F32+'Исходные данные'!F30)/'Исходные данные'!F32)","v":873.27276190476186},461.875]
[null,null,null,null,null,null,null,null,null,null,null,null,null,null,null,null,null,null,null,null,null,null,null,null,null,null,null,null,null,null,null,null,null,null,null,null,null,null,null,null,null,null,null,null,null,null,null,null,null,null,null,null,null,null,null,null,null,null,null,null,null,null,null,null,null,null,null,null,null,null,null,null,null,null,null,null,null,null,null,null,null,null,null,null,null,null,null,null,null,null,null,null,null,null,null,null,null,null,null,null,null,null,null,null,null,null,null,null,null,null,null,null,null,null,null,null,null,null,null,null,null,null,null,null,null,null,null,null,null,null,null,null,null,null,null,null,null,null,null,null,null,null,null,null,null,null,null,null,null,null,null,null,null,null,null,null,null,null,null,null,null,null,null,null,null,null,null,null,null,null,null,null,null,null,null,null,null,null,null,null,null,null,null,null,null,null,null,null,null,null,null,null,null,null,null,null,null,null,null,null,null,null,null,null,"Основание",{"$f":"IF(GX2500>GX$2310,GX2500,HF2500-(HF2500-HF2498)/5)","v":873.27276190476186},461.875,null,null,null,1,811,232.875,{"$f":"HF2500","v":873.27276190476186},461.875]
[null,null,null,null,null,null,null,null,null,null,null,null,null,null,null,null,null,null,null,null,null,null,null,null,null,null,null,null,null,null,null,null,null,null,null,null,null,null,null,null,null,null,null,null,null,null,null,null,null,null,null,null,null,null,null,null,null,null,null,null,null,null,null,null,null,null,null,null,null,null,null,null,null,null,null,null,null,null,null,null,null,null,null,null,null,null,null,null,null,null,null,null,null,null,null,null,null,null,null,null,null,null,null,null,null,null,null,null,null,null,null,null,null,null,null,null,null,null,null,null,null,null,null,null,null,null,null,null,null,null,null,null,null,null,null,null,null,null,null,null,null,null,null,null,null,null,null,null,null,null,null,null,null,null,null,null,null,null,null,null,null,null,null,null,null,null,null,null,null,null,null,null,null,null,null,null,null,null,null,null,null,null,null,null,null,null,null,null,null,null,null,null,null,null,null,null,null,null,null,null,null,null,96,null,"Вершина",{"$f":"GX$2307-(GX$2307-GX$2310-(HF2500-GX$2310)*GX$2309/GX$2308)","v":873.27276190476186},461.875,96,null,null,1,863,297.875,{"$f":"GX2307-((GX2307-GX2310-(HF2500-GX2310)*GX2309/GX2308)*('Исходные данные'!F32+'Исходные данные'!F30)/'Исходные данные'!F32)","v":873.27276190476186},461.875]
[null,null,null,null,null,null,null,null,null,null,null,null,null,null,null,null,null,null,null,null,null,null,null,null,null,null,null,null,null,null,null,null,null,null,null,null,null,null,null,null,null,null,null,null,null,null,null,null,null,null,null,null,null,null,null,null,null,null,null,null,null,null,null,null,null,null,null,null,null,null,null,null,null,null,null,null,null,null,null,null,null,null,null,null,null,null,null,null,null,null,null,null,null,null,null,null,null,null,null,null,null,null,null,null,null,null,null,null,null,null,null,null,null,null,null,null,null,null,null,null,null,null,null,null,null,null,null,null,null,null,null,null,null,null,null,null,null,null,null,null,null,null,null,null,null,null,null,null,null,null,null,null,null,null,null,null,null,null,null,null,null,null,null,null,null,null,null,null,null,null,null,null,null,null,null,null,null,null,null,null,null,null,null,null,null,null,null,null,null,null,null,null,null,null,null,null,null,null,null,null,null,null,null,null,"Основание",{"$f":"IF(GX2502>GX$2310,GX2502,HF2502-(HF2502-HF2500)/5)","v":873.27276190476186},461.875,null,null,null,1,811,232.875,{"$f":"HF2502","v":873.27276190476186},461.875]
[null,null,null,null,null,null,null,null,null,null,null,null,null,null,null,null,null,null,null,null,null,null,null,null,null,null,null,null,null,null,null,null,null,null,null,null,null,null,null,null,null,null,null,null,null,null,null,null,null,null,null,null,null,null,null,null,null,null,null,null,null,null,null,null,null,null,null,null,null,null,null,null,null,null,null,null,null,null,null,null,null,null,null,null,null,null,null,null,null,null,null,null,null,null,null,null,null,null,null,null,null,null,null,null,null,null,null,null,null,null,null,null,null,null,null,null,null,null,null,null,null,null,null,null,null,null,null,null,null,null,null,null,null,null,null,null,null,null,null,null,null,null,null,null,null,null,null,null,null,null,null,null,null,null,null,null,null,null,null,null,null,null,null,null,null,null,null,null,null,null,null,null,null,null,null,null,null,null,null,null,null,null,null,null,null,null,null,null,null,null,null,null,null,null,null,null,null,null,null,null,null,null,97,null,"Вершина",{"$f":"GX$2307-(GX$2307-GX$2310-(HF2502-GX$2310)*GX$2309/GX$2308)","v":873.27276190476186},461.875,97,null,null,1,863,297.875,{"$f":"GX2307-((GX2307-GX2310-(HF2502-GX2310)*GX2309/GX2308)*('Исходные данные'!F32+'Исходные данные'!F30)/'Исходные данные'!F32)","v":873.27276190476186},461.875]
[null,null,null,null,null,null,null,null,null,null,null,null,null,null,null,null,null,null,null,null,null,null,null,null,null,null,null,null,null,null,null,null,null,null,null,null,null,null,null,null,null,null,null,null,null,null,null,null,null,null,null,null,null,null,null,null,null,null,null,null,null,null,null,null,null,null,null,null,null,null,null,null,null,null,null,null,null,null,null,null,null,null,null,null,null,null,null,null,null,null,null,null,null,null,null,null,null,null,null,null,null,null,null,null,null,null,null,null,null,null,null,null,null,null,null,null,null,null,null,null,null,null,null,null,null,null,null,null,null,null,null,null,null,null,null,null,null,null,null,null,null,null,null,null,null,null,null,null,null,null,null,null,null,null,null,null,null,null,null,null,null,null,null,null,null,null,null,null,null,null,null,null,null,null,null,null,null,null,null,null,null,null,null,null,null,null,null,null,null,null,null,null,null,null,null,null,null,null,null,null,null,null,null,null,"Основание",{"$f":"IF(GX2504>GX$2310,GX2504,HF2504-(HF2504-HF2502)/5)","v":873.27276190476186},461.875,null,null,null,1,811,232.875,{"$f":"HF2504","v":873.27276190476186},461.875]
[null,null,null,null,null,null,null,null,null,null,null,null,null,null,null,null,null,null,null,null,null,null,null,null,null,null,null,null,null,null,null,null,null,null,null,null,null,null,null,null,null,null,null,null,null,null,null,null,null,null,null,null,null,null,null,null,null,null,null,null,null,null,null,null,null,null,null,null,null,null,null,null,null,null,null,null,null,null,null,null,null,null,null,null,null,null,null,null,null,null,null,null,null,null,null,null,null,null,null,null,null,null,null,null,null,null,null,null,null,null,null,null,null,null,null,null,null,null,null,null,null,null,null,null,null,null,null,null,null,null,null,null,null,null,null,null,null,null,null,null,null,null,null,null,null,null,null,null,null,null,null,null,null,null,null,null,null,null,null,null,null,null,null,null,null,null,null,null,null,null,null,null,null,null,null,null,null,null,null,null,null,null,null,null,null,null,null,null,null,null,null,null,null,null,null,null,null,null,null,null,null,null,98,null,"Вершина",{"$f":"GX$2307-(GX$2307-GX$2310-(HF2504-GX$2310)*GX$2309/GX$2308)","v":873.27276190476186},461.875,98,null,null,1,863,297.875,{"$f":"GX2307-((GX2307-GX2310-(HF2504-GX2310)*GX2309/GX2308)*('Исходные данные'!F32+'Исходные данные'!F30)/'Исходные данные'!F32)","v":873.27276190476186},461.875]
[null,null,null,null,null,null,null,null,null,null,null,null,null,null,null,null,null,null,null,null,null,null,null,null,null,null,null,null,null,null,null,null,null,null,null,null,null,null,null,null,null,null,null,null,null,null,null,null,null,null,null,null,null,null,null,null,null,null,null,null,null,null,null,null,null,null,null,null,null,null,null,null,null,null,null,null,null,null,null,null,null,null,null,null,null,null,null,null,null,null,null,null,null,null,null,null,null,null,null,null,null,null,null,null,null,null,null,null,null,null,null,null,null,null,null,null,null,null,null,null,null,null,null,null,null,null,null,null,null,null,null,null,null,null,null,null,null,null,null,null,null,null,null,null,null,null,null,null,null,null,null,null,null,null,null,null,null,null,null,null,null,null,null,null,null,null,null,null,null,null,null,null,null,null,null,null,null,null,null,null,null,null,null,null,null,null,null,null,null,null,null,null,null,null,null,null,null,null,null,null,null,null,null,null,"Основание",{"$f":"IF(GX2506>GX$2310,GX2506,HF2506-(HF2506-HF2504)/5)","v":873.27276190476186},461.875,null,null,null,1,811,232.875,{"$f":"HF2506","v":873.27276190476186},461.875]
[null,null,null,null,null,null,null,null,null,null,null,null,null,null,null,null,null,null,null,null,null,null,null,null,null,null,null,null,null,null,null,null,null,null,null,null,null,null,null,null,null,null,null,null,null,null,null,null,null,null,null,null,null,null,null,null,null,null,null,null,null,null,null,null,null,null,null,null,null,null,null,null,null,null,null,null,null,null,null,null,null,null,null,null,null,null,null,null,null,null,null,null,null,null,null,null,null,null,null,null,null,null,null,null,null,null,null,null,null,null,null,null,null,null,null,null,null,null,null,null,null,null,null,null,null,null,null,null,null,null,null,null,null,null,null,null,null,null,null,null,null,null,null,null,null,null,null,null,null,null,null,null,null,null,null,null,null,null,null,null,null,null,null,null,null,null,null,null,null,null,null,null,null,null,null,null,null,null,null,null,null,null,null,null,null,null,null,null,null,null,null,null,null,null,null,null,null,null,null,null,null,null,99,null,"Вершина",{"$f":"GX$2307-(GX$2307-GX$2310-(HF2506-GX$2310)*GX$2309/GX$2308)","v":873.27276190476186},{"$f":"GY2506","v":461.875},99,null,null,1,863,297.875,{"$f":"GX2307-((GX2307-GX2310-(HF2506-GX2310)*GX2309/GX2308)*('Исходные данные'!F32+'Исходные данные'!F30)/'Исходные данные'!F32)","v":873.27276190476186},461.875]
[null,null,null,null,null,null,null,null,null,null,null,null,null,null,null,null,null,null,null,null,null,null,null,null,null,null,null,null,null,null,null,null,null,null,null,null,null,null,null,null,null,null,null,null,null,null,null,null,null,null,null,null,null,null,null,null,null,null,null,null,null,null,null,null,null,null,null,null,null,null,null,null,null,null,null,null,null,null,null,null,null,null,null,null,null,null,null,null,null,null,null,null,null,null,null,null,null,null,null,null,null,null,null,null,null,null,null,null,null,null,null,null,null,null,null,null,null,null,null,null,null,null,null,null,null,null,null,null,null,null,null,null,null,null,null,null,null,null,null,null,null,null,null,null,null,null,null,null,null,null,null,null,null,null,null,null,null,null,null,null,null,null,null,null,null,null,null,null,null,null,null,null,null,null,null,null,null,null,null,null,null,null,null,null,null,null,null,null,null,null,null,null,null,null,null,null,null,null,null,null,null,null,null,null,"Основание",{"$f":"IF(GX2508>GX$2310,GX2508,HF2508-(HF2508-HF2506)/5)","v":873.27276190476186},{"$f":"GY2507","v":461.875},null,null,null,1,811,232.875,{"$f":"HF2508","v":873.27276190476186},461.875]
[null,null,null,null,null,null,null,null,null,null,null,null,null,null,null,null,null,null,null,null,null,null,null,null,null,null,null,null,null,null,null,null,null,null,null,null,null,null,null,null,null,null,null,null,null,null,null,null,null,null,null,null,null,null,null,null,null,null,null,null,null,null,null,null,null,null,null,null,null,null,null,null,null,null,null,null,null,null,null,null,null,null,null,null,null,null,null,null,null,null,null,null,null,null,null,null,null,null,null,null,null,null,null,null,null,null,null,null,null,null,null,null,null,null,null,null,null,null,null,null,null,null,null,null,null,null,null,null,null,null,null,null,null,null,null,null,null,null,null,null,null,null,null,null,null,null,null,null,null,null,null,null,null,null,null,null,null,null,null,null,null,null,null,null,null,null,null,null,null,null,null,null,null,null,null,null,null,null,null,null,null,null,null,null,null,null,null,null,null,null,null,null,null,null,null,null,null,null,null,null,null,null,100,null,"Вершина",{"$f":"GX$2307-(GX$2307-GX$2310-(HF2508-GX$2310)*GX$2309/GX$2308)","v":873.27276190476186},{"$f":"GY2508","v":461.875},100,null,null,1,863,297.875,{"$f":"GX2307-((GX2307-GX2310-(HF2508-GX2310)*GX2309/GX2308)*('Исходные данные'!F32+'Исходные данные'!F30)/'Исходные данные'!F32)","v":873.27276190476186},461.875]
[null,null,null,null,null,null,null,null,null,null,null,null,null,null,null,null,null,null,null,null,null,null,null,null,null,null,null,null,null,null,null,null,null,null,null,null,null,null,null,null,null,null,null,null,null,null,null,null,null,null,null,null,null,null,null,null,null,null,null,null,null,null,null,null,null,null,null,null,null,null,null,null,null,null,null,null,null,null,null,null,null,null,null,null,null,null,null,null,null,null,null,null,null,null,null,null,null,null,null,null,null,null,null,null,null,null,null,null,null,null,null,null,null,null,null,null,null,null,null,null,null,null,null,null,null,null,null,null,null,null,null,null,null,null,null,null,null,null,null,null,null,null,null,null,null,null,null,null,null,null,null,null,null,null,null,null,null,null,null,null,null,null,null,null,null,null,null,null,null,null,null,null,null,null,null,null,null,null,null,null,null,null,null,null,null,null,null,null,null,null,null,null,null,null,null,null,null,null,null,null,null,null,null,null,"Основание",{"$f":"IF(GX2510>GX$2310,GX2510,HF2510-(HF2510-HF2508)/5)","v":873.27276190476186},{"$f":"GY2509","v":461.875},null,null,null,1,811,232.875,{"$f":"HF2510","v":873.27276190476186},461.875]

{"sheet":"А-А","index":5,"n_rows":397,"n_cols":205,"rows_kept":397,"cut":false,"hidden":false,"merged":[[389,196,396,196],[338,196,339,196],[340,196,340,202],[355,174,355,179],[356,178,357,178],[356,179,357,179],[341,196,354,196],[355,196,356,196],[357,196,358,196],[360,174,360,179],[387,196,388,196],[375,196,376,196],[383,196,384,196],[385,196,386,196],[369,196,370,196],[371,196,372,196],[381,196,382,196],[359,196,360,196],[361,196,362,196],[363,196,364,196],[365,196,366,196],[367,196,368,196],[373,196,374,196],[377,196,378,196],[379,196,380,196],[328,196,328,202],[328,174,328,176],[331,196,332,196],[333,196,334,196],[336,196,337,196],[328,190,328,193],[328,177,328,179],[328,180,328,182],[328,183,328,185],[328,186,328,188]]}
[]
[]
[]
[]
[]
[]
[]
[]
[]
[]
[]
[]
[]
[]
[]
[]
[]
[]
[]
[]
[]
[]
[]
[]
[]
[]
[]
[]
[]
[]
[]
[]
[]
[]
[]
[]
[]
[]
[]
[]
[]
[]
[]
[]
[]
[]
[]
[]
[]
[]
[]
[]
[]
[]
[]
[]
[]
[]
[]
[]
[]
[]
[]
[]
[]
[]
[]
[]
[]
[]
[]
[]
[]
[]
[]
[]
[]
[]
[]
[]
[]
[]
[]
[]
[]
[]
[]
[]
[]
[]
[]
[]
[]
[]
[]
[]
[]
[]
[]
[]
[]
[]
[]
[]
[]
[]
[]
[]
[]
[]
[]
[]
[]
[]
[]
[]
[]
[]
[]
[]
[]
[]
[]
[]
[]
[]
[]
[]
[]
[]
[]
[]
[]
[]
[]
[]
[]
[]
[]
[]
[]
[]
[]
[]
[]
[]
[]
[]
[]
[]
[]
[]
[]
[]
[]
[]
[]
[]
[]
[]
[]
[]
[]
[]
[]
[]
[]
[]
[]
[]
[]
[]
[]
[]
[]
[]
[]
[]
[]
[]
[]
[]
[]
[]
[]
[]
[]
[]
[]
[]
[]
[]
[]
[]
[]
[]
[]
[]
[]
[]
[]
[]
[]
[]
[]
[]
[]
[]
[]
[]
[]
[]
[]
[]
[]
[]
[]
[]
[]
[]
[]
[]
[]
[]
[]
[]
[]
[]
[]
[]
[]
[]
[]
[]
[]
[]
[]
[]
[]
[]
[]
[]
[]
[]
[]
[]
[]
[]
[]
[]
[]
[]
[]
[]
[]
[]
[]
[]
[]
[]
[]
[]
[]
[]
[]
[]
[]
[]
[]
[]
[]
[]
[]
[]
[]
[]
[]
[]
[]
[]
[]
[]
[]
[]
[]
[]
[]
[]
[]
[]
[]
[]
[]
[]
[]
[]
[]
[]
[]
[]
[]
[]
[]
[]
[]
[]
[]
[]
[]
[]
[]
[]
[]
[]
[]
[]
[]
[]
[]
[]
[]
[null,null,null,null,null,null,null,null,null,null,null,null,null,null,null,null,null,null,null,null,null,null,null,null,null,null,null,null,null,null,null,null,null,null,null,null,null,null,null,null,null,null,null,null,null,null,null,null,null,null,null,null,null,null,null,null,null,null,null,null,null,null,null,null,null,null,null,null,null,null,null,null,null,null,null,null,null,null,null,null,null,null,null,null,null,null,null,null,null,null,null,null,null,null,null,null,null,null,null,null,null,null,null,null,null,null,null,null,null,null,null,null,null,null,null,null,null,null,null,null,null,null,null,null,null,null,null,null,null,null,null,null,null,null,null,null,null,null,null,null,null,null,null,null,null,null,null,null,null,null,null,null,null,null,null,null,null,null,null,null,null,null,null,null,null,null,null,null,null,null,null,null,null,null,null,null,null,null,null,null,null,null,null,null,null,null,null,null,null,null,null,null,null,null,null,null,"Масштаб чертежа",{"$f":"1/0.0292296616270698","v":34.211822660098562},28.42,{"$f":"GP322*GQ322","v":972.30000000000121}]
[null,null,null,null,null,null,null,null,null,null,null,null,null,null,null,null,null,null,null,null,null,null,null,null,null,null,null,null,null,null,null,null,null,null,null,null,null,null,null,null,null,null,null,null,null,null,null,null,null,null,null,null,null,null,null,null,null,null,null,null,null,null,null,null,null,null,null,null,null,null,null,null,null,null,null,null,null,null,null,null,null,null,null,null,null,null,null,null,null,null,null,null,null,null,null,null,null,null,null,null,null,null,null,null,null,null,null,null,null,null,null,null,null,null,null,null,null,null,null,null,null,null,null,null,null,null,null,null,null,null,null,null,null,null,null,null,null,null,null,null,null,null,null,null,null,null,null,null,null,null,null,null,null,null,null,null,null,null,null,null,null,null,null,null,null,null,null,null,null,null,null,null,null,null,null,null,null,null,"Высота диафрагм",null,{"$f":"Чертёж!HC2305","v":0}]
[null,null,null,null,null,null,null,null,null,null,null,null,null,null,null,null,null,null,null,null,null,null,null,null,null,null,null,null,null,null,null,null,null,null,null,null,null,null,null,null,null,null,null,null,null,null,null,null,null,null,null,null,null,null,null,null,null,null,null,null,null,null,null,null,null,null,null,null,null,null,null,null,null,null,null,null,null,null,null,null,null,null,null,null,null,null,null,null,null,null,null,null,null,null,null,null,null,null,null,null,null,null,null,null,null,null,null,null,null,null,null,null,null,null,null,null,null,null,null,null,null,null,null,null,null,null,null,null,null,null,null,null,null,null,null,null,null,null,null,null,null,null,null,null,null,null,null,null,null,null,null,null,null,null,null,null,null,null,null,null,null,null,null,null,null,null,null,null,null,null,null,null,null,null,null,null,null,null,null,null,null,null,null,null,null,null,null,null,null,null,null,null,null,null,null,null,"Масштаб экрана",{"$f":"50*(1340/GM334)","v":137.5770020533881},"%"]
[null,null,null,null,null,null,null,null,null,null,null,null,null,null,null,null,null,null,null,null,null,null,null,null,null,null,null,null,null,null,null,null,null,null,null,null,null,null,null,null,null,null,null,null,null,null,null,null,null,null,null,null,null,null,null,null,null,null,null,null,null,null,null,null,null,null,null,null,null,null,null,null,null,null,null,null,null,null,null,null,null,null,null,null,null,null,null,null,null,null,null,null,null,null,null,null,null,null,null,null,null,null,null,null,null,null,null,null,null,null,null,null,null,null,null,null,null,null,null,null,null,null,null,null,null,null,null,null,null,null,null,null,null,null,null,null,null,null,null,null,null,null,null,null,null,null,null,null,null,null,null,null,null,null,null,null,null,null,null,null,null,null,null,null,null,null,null,null,null,null,null,null,null,null,null,null,null,null,null,null,null,null,null,null,null,null,null,null,null,null,null,null,null,null,{"$f":"GM334/GL334","v":1.3306010928961749}]
[]
[]
[null,null,null,null,null,null,null,null,null,null,null,null,null,null,null,null,null,null,null,null,null,null,null,null,null,null,null,null,null,null,null,null,null,null,null,null,null,null,null,null,null,null,null,null,null,null,null,null,null,null,null,null,null,null,null,null,null,null,null,null,null,null,null,null,null,null,null,null,null,null,null,null,null,null,null,null,null,null,null,null,null,null,null,null,null,null,null,null,null,null,null,null,null,null,null,null,null,null,null,null,null,null,null,null,null,null,null,null,null,null,null,null,null,null,null,null,null,null,null,null,null,null,null,null,null,null,null,null,null,null,null,null,null,null,null,null,null,null,null,null,null,null,null,null,null,null,null,null,null,null,null,null,null,null,null,null,null,null,null,null,null,null,null,null,null,null,null,null,null,null,null,null,null,null,175,176,177,178,179,180,181,182,183,184,185,186,187,188,189,190,191,192,193,194,195,196,197,198,199,200,201,202,203,204,205]
[null,null,null,null,null,null,null,null,null,null,null,null,null,null,null,null,null,null,null,null,null,null,null,null,null,null,null,null,null,null,null,null,null,null,null,null,null,null,null,null,null,null,null,null,null,null,null,null,null,null,null,null,null,null,null,null,null,null,null,null,null,null,null,null,null,null,null,null,null,null,null,null,null,null,null,null,null,null,null,null,null,null,null,null,null,null,null,null,null,null,null,null,null,null,null,null,null,null,null,null,null,null,null,null,null,null,null,null,null,null,null,null,null,null,null,null,null,null,null,null,null,null,null,null,null,null,null,null,null,null,null,null,null,null,null,null,null,null,null,null,null,null,null,null,null,null,null,null,null,null,null,null,null,null,null,null,null,null,null,null,null,null,null,null,null,null,null,null,null,null,null,null,null,null,"Вершины диафрагм",null,null,"Внутренняя поверхность трубы",null,null,"Наружная поверхность трубы",null,null,"Внутренняя поверхность области диафрагм",null,null,"Наружная поверхность области диафрагм",null,null,null,"Координаты начала и размеры главного и диагонального зеркал"]
[null,null,null,null,null,null,null,null,null,null,null,null,null,null,null,null,null,null,null,null,null,null,null,null,null,null,null,null,null,null,null,null,null,null,null,null,null,null,null,null,null,null,null,null,null,null,null,null,null,null,null,null,null,null,null,null,null,null,null,null,null,null,null,null,null,null,null,null,null,null,null,null,null,null,null,null,null,null,null,null,null,null,null,null,null,null,null,null,null,null,null,null,null,null,null,null,null,null,null,null,null,null,null,null,null,null,null,null,null,null,null,null,null,null,null,null,null,null,null,null,null,null,null,null,null,null,null,null,null,null,null,null,null,null,null,null,null,null,null,null,null,null,null,null,null,null,null,null,null,null,null,null,null,null,null,null,null,null,null,null,null,null,null,null,null,null,null,null,null,null,null,null,null,null,"CO=",{"$f":"SQRT(('Исходные данные'!$F$34/2)^2-(Чертёж!$HR$2254/2)^2)","v":82.887137820050228},"мм","CO=",{"$f":"SQRT(('Исходные данные'!$F$34/2)^2-(Чертёж!$HR$2254/2)^2)","v":82.887137820050228},"мм","CO=",{"$f":"SQRT(('Исходные данные'!$F$34/2)^2-(Чертёж!$HR$2254/2)^2)","v":82.887137820050228},"мм","CO=",{"$f":"SQRT(('Исходные данные'!$F$34/2)^2-(Чертёж!$HR$2254/2)^2)","v":82.887137820050228},"мм","CO=",{"$f":"SQRT(('Исходные данные'!$F$34/2)^2-(Чертёж!$HR$2254/2)^2)","v":82.887137820050228},"мм",null,null,"X","Y","D",null,null,null,"X","Y","X","Y","Weight","ForeColor.SchemeColor"]
[null,null,null,null,null,null,null,null,null,null,null,null,null,null,null,null,null,null,null,null,null,null,null,null,null,null,null,null,null,null,null,null,null,null,null,null,null,null,null,null,null,null,null,null,null,null,null,null,null,null,null,null,null,null,null,null,null,null,null,null,null,null,null,null,null,null,null,null,null,null,null,null,null,null,null,null,null,null,null,null,null,null,null,null,null,null,null,null,null,null,null,null,null,null,null,null,null,null,null,null,null,null,null,null,null,null,null,null,null,null,null,null,null,null,null,null,null,null,null,null,null,null,null,null,null,null,null,null,null,null,null,null,null,null,null,null,null,null,null,null,null,null,null,null,null,null,null,null,null,null,null,null,null,null,null,null,null,null,null,null,null,null,null,null,null,null,null,null,null,null,null,null,null,null,"OO1=",{"$f":"'Исходные данные'!$F$12-FT330","v":64.112862179949772},"мм","OO1=",{"$f":"'Исходные данные'!$F$12-FW330","v":64.112862179949772},"мм","OO1=",{"$f":"'Исходные данные'!$F$12-FZ330","v":64.112862179949772},"мм","OO1=",{"$f":"'Исходные данные'!$F$12-GC330","v":64.112862179949772},"мм","OO1=",{"$f":"'Исходные данные'!$F$12-GF330","v":64.112862179949772},"мм",null,"Главное зеркало",{"$f":"$FP$359-'Исходные данные'!F6/2","v":57},{"$f":"$FQ$359-'Исходные данные'!F6/2","v":167},{"$f":"'Исходные данные'!F6","v":150},null,null,"Оптическая ось фокусера",{"$f":"FP359","v":132},{"$f":"FQ359","v":242},{"$f":"GP331","v":132},{"$f":"FQ359-'Исходные данные'!$F$12","v":95},0.5,64]
[null,null,null,null,null,null,null,null,null,null,null,null,null,null,null,null,null,null,null,null,null,null,null,null,null,null,null,null,null,null,null,null,null,null,null,null,null,null,null,null,null,null,null,null,null,null,null,null,null,null,null,null,null,null,null,null,null,null,null,null,null,null,null,null,null,null,null,null,null,null,null,null,null,null,null,null,null,null,null,null,null,null,null,null,null,null,null,null,null,null,null,null,null,null,null,null,null,null,null,null,null,null,null,null,null,null,null,null,null,null,null,null,null,null,null,null,null,null,null,null,null,null,null,null,null,null,null,null,null,null,null,null,null,null,null,null,null,null,null,null,null,null,null,null,null,null,null,null,null,null,null,null,null,null,null,null,null,null,null,null,null,null,null,null,null,null,null,null,null,null,null,null,null,null,"AO=",{"$f":"FT331/('Исходные данные'!$F$18/Чертёж!$HR$2254+1)","v":40.398099028498031},"мм","AO=",{"$f":"FW331/('Исходные данные'!$F$18/Чертёж!$HR$2254+1)","v":40.398099028498031},"мм","AO=",{"$f":"FZ331/('Исходные данные'!$F$18/Чертёж!$HR$2254+1)","v":40.398099028498031},"мм","AO=",{"$f":"GC331/('Исходные данные'!$F$18/Чертёж!$HR$2254+1)","v":40.398099028498031},"мм","AO=",{"$f":"GF331/('Исходные данные'!$F$18/Чертёж!$HR$2254+1)","v":40.398099028498031},"мм",null,"Диагональное зеркало",{"$f":"$FP$359-'Исходные данные'!F46/2","v":109.5012662197594},{"$f":"$FQ$359-'Исходные данные'!F46/2+'Исходные данные'!F52","v":221.47273421369582},{"$f":"'Исходные данные'!F46","v":44.997467560481198},null,null,"Ход лучей 1",{"$f":"GP336","v":124},{"$f":"GQ336","v":95},{"$f":"FP359-'Исходные данные'!$F$46/2-(('Исходные данные'!$F$18-'Исходные данные'!$F$10)/2)*(('Исходные данные'!$F$36-'Исходные данные'!$F$12)/'Исходные данные'!$F$36)","v":110.66304621975939},{"$f":"FQ359","v":242},0.5,64]
[null,null,null,null,null,null,null,null,null,null,null,null,null,null,null,null,null,null,null,null,null,null,null,null,null,null,null,null,null,null,null,null,null,null,null,null,null,null,null,null,null,null,null,null,null,null,null,null,null,null,null,null,null,null,null,null,null,null,null,null,null,null,null,null,null,null,null,null,null,null,null,null,null,null,null,null,null,null,null,null,null,null,null,null,null,null,null,null,null,null,null,null,null,null,null,null,null,null,null,null,null,null,null,null,null,null,null,null,null,null,null,null,null,null,null,null,null,null,null,null,null,null,null,null,null,null,null,null,null,null,null,null,null,null,null,null,null,null,null,null,null,null,null,null,null,null,null,null,null,null,null,null,null,null,null,null,null,null,null,null,null,null,null,null,null,null,null,null,null,null,null,null,null,null,"AC=",{"$f":"FT330+FT332","v":123.28523684854827},"мм","AC=",{"$f":"FW330+FW332","v":123.28523684854827},"мм","AC=",{"$f":"FZ330+FZ332","v":123.28523684854827},"мм","AC=",{"$f":"GC330+GC332","v":123.28523684854827},"мм","AC=",{"$f":"GF330+GF332","v":123.28523684854827},"мм",null,"Оправа диаг. Зеркала",{"$f":"FP359-GL333/2","v":115.12594966481956},{"$f":"FQ359-GL333/2","v":225.12594966481956},{"$f":"Чертёж!HQ2221","v":33.748100670360898},null,null,null,{"$f":"GR336","v":140},{"$f":"GQ332","v":95},{"$f":"FP359+'Исходные данные'!$F$46/2+(('Исходные данные'!$F$18-'Исходные данные'!$F$10)/2)*(('Исходные данные'!$F$36-'Исходные данные'!$F$12)/'Исходные данные'!$F$36)","v":153.33695378024061},{"$f":"GS332","v":242},0.5,64]
[null,null,null,null,null,null,null,null,null,null,null,null,null,null,null,null,null,null,null,null,null,null,null,null,null,null,null,null,null,null,null,null,null,null,null,null,null,null,null,null,null,null,null,null,null,null,null,null,null,null,null,null,null,null,null,null,null,null,null,null,null,null,null,null,null,null,null,null,null,null,null,null,null,null,null,null,null,null,null,null,null,null,null,null,null,null,null,null,null,null,null,null,null,null,null,null,null,null,null,null,null,null,null,null,null,null,null,null,null,null,null,null,null,null,null,null,null,null,null,null,null,null,null,null,null,null,null,null,null,null,null,null,null,null,null,null,null,null,null,null,null,null,null,null,null,null,null,null,null,null,null,null,null,null,null,null,null,null,null,null,null,null,null,null,null,null,null,null,null,null,null,null,null,null,"a=",{"$f":"ATAN((Чертёж!$HR$2254/2)/FT332)","v":0.32535454927175234},"рад","a=",{"$f":"ATAN((Чертёж!$HR$2254/2)/FW332)","v":0.32535454927175234},"рад","a=",{"$f":"ATAN((Чертёж!$HR$2254/2)/FZ332)","v":0.32535454927175234},"рад","a=",{"$f":"ATAN((Чертёж!$HR$2254/2)/GC332)","v":0.32535454927175234},"рад","a=",{"$f":"ATAN((Чертёж!$HR$2254/2)/GF332)","v":0.32535454927175234},"рад",null,"Рамка",{"$f":"Чертёж!HN2299","v":10},{"$f":"Чертёж!HO2299","v":10},{"$f":"GP369+50","v":366},{"$f":"GQ360+120","v":487},{"$f":"(GM334-GK334)/GP322","v":13.942548596112294},"Ход лучей 2",{"$f":"'А-А'!FP359-'Исходные данные'!$F$10/2","v":122.55500000000001},{"$f":"GQ333","v":95},{"$f":"FP359-'Исходные данные'!$F$46/2","v":109.5012662197594},{"$f":"GS333","v":242},0.5,64]
[null,null,null,null,null,null,null,null,null,null,null,null,null,null,null,null,null,null,null,null,null,null,null,null,null,null,null,null,null,null,null,null,null,null,null,null,null,null,null,null,null,null,null,null,null,null,null,null,null,null,null,null,null,null,null,null,null,null,null,null,null,null,null,null,null,null,null,null,null,null,null,null,null,null,null,null,null,null,null,null,null,null,null,null,null,null,null,null,null,null,null,null,null,null,null,null,null,null,null,null,null,null,null,null,null,null,null,null,null,null,null,null,null,null,null,null,null,null,null,null,null,null,null,null,null,null,null,null,null,null,null,null,null,null,null,null,null,null,null,null,null,null,null,null,null,null,null,null,null,null,null,null,null,null,null,null,null,null,null,null,null,null,null,null,null,null,null,null,null,null,null,null,null,null,"a=",{"$f":"DEGREES(FT334)","v":18.6414425186526},"º","a=",{"$f":"DEGREES(FW334)","v":18.6414425186526},"º","a=",{"$f":"DEGREES(FZ334)","v":18.6414425186526},"º","a=",{"$f":"DEGREES(GC334)","v":18.6414425186526},"º","a=",{"$f":"DEGREES(GF334)","v":18.6414425186526},"º",null,"Надпись",{"$f":"Чертёж!HN2300","v":60},{"$f":"Чертёж!HO2300","v":31.574999999999999},{"$f":"Чертёж!HP2300","v":24.375},{"$f":"Чертёж!HQ2300","v":0},null,null,{"$f":"'А-А'!FP359+'Исходные данные'!$F$10/2","v":141.44499999999999},{"$f":"GQ334","v":95},{"$f":"FP359+'Исходные данные'!$F$46/2","v":154.4987337802406},{"$f":"GS334","v":242},0.5,64]
[null,null,null,null,null,null,null,null,null,null,null,null,null,null,null,null,null,null,null,null,null,null,null,null,null,null,null,null,null,null,null,null,null,null,null,null,null,null,null,null,null,null,null,null,null,null,null,null,null,null,null,null,null,null,null,null,null,null,null,null,null,null,null,null,null,null,null,null,null,null,null,null,null,null,null,null,null,null,null,null,null,null,null,null,null,null,null,null,null,null,null,null,null,null,null,null,null,null,null,null,null,null,null,null,null,null,null,null,null,null,null,null,null,null,null,null,null,null,null,null,null,null,null,null,null,null,null,null,null,null,null,null,null,null,null,null,null,null,null,null,null,null,null,null,null,null,null,null,null,null,null,null,null,null,null,null,null,null,null,null,null,null,null,null,null,null,null,null,null,null,null,null,null,null,"b=",{"$f":"ASIN(FT333*SIN(FT334)/('Исходные данные'!$F$32/2))","v":0.50131485272696508},"рад","b=",{"$f":"ASIN(FW333*SIN(FW334)/('Исходные данные'!$F$34/2))","v":0.48831292583661273},"рад","b=",{"$f":"ASIN(FZ333*SIN(FZ334)/('Исходные данные'!$F$34/2+'Исходные данные'!$F$16))","v":0.47008215653590107},"рад","b=",{"$f":"ASIN(FZ333*SIN(FZ334)/('Исходные данные'!$F$32/2+'Исходные данные'!$F$30))","v":0.50131485272696508},"рад","b=",{"$f":"ASIN(FZ333*SIN(FZ334)/('Исходные данные'!$F$32/2+'Исходные данные'!$F$16+'Исходные данные'!$F$30))","v":0.48207354271274055},"рад",null,null,null,null,null,null,null,"Фокальная плоскость",{"$f":"'А-А'!FP359-'Исходные данные'!$F$18/2","v":124},{"$f":"FQ359-'Исходные данные'!$F$12","v":95},{"$f":"'А-А'!FP359+'Исходные данные'!$F$18/2","v":140},{"$f":"GQ336","v":95},0.5,64]
[null,null,null,null,null,null,null,null,null,null,null,null,null,null,null,null,null,null,null,null,null,null,null,null,null,null,null,null,null,null,null,null,null,null,null,null,null,null,null,null,null,null,null,null,null,null,null,null,null,null,null,null,null,null,null,null,null,null,null,null,null,null,null,null,null,null,null,null,null,null,null,null,null,null,null,null,null,null,null,null,null,null,null,null,null,null,null,null,null,null,null,null,null,null,null,null,null,null,null,null,null,null,null,null,null,null,null,null,null,null,null,null,null,null,null,null,null,null,null,null,null,null,null,null,null,null,null,null,null,null,null,null,null,null,null,null,null,null,null,null,null,null,null,null,null,null,null,null,null,null,null,null,null,null,null,null,null,null,null,null,null,null,null,null,null,null,null,null,null,null,null,null,null,null,"b=",{"$f":"DEGREES(FT336)","v":28.723225268477528},"º","b=",{"$f":"DEGREES(FW336)","v":27.978269732122683},"º","b=",{"$f":"DEGREES(FZ336)","v":26.933723593915239},"º","b=",{"$f":"DEGREES(GC336)","v":28.723225268477528},"º","b=",{"$f":"DEGREES(GF336)","v":27.620779412359656},"º",null,null,null,null,null,null,null,"Растяжки",{"$f":"FP359-'Исходные данные'!$F$32/2","v":50},{"$f":"FQ359","v":242},{"$f":"FP359+'Исходные данные'!$F$32/2","v":214},{"$f":"GQ337","v":242},{"$f":"1.5*('Исходные данные'!$F$6/260)","v":0.86538461538461531},23]
[null,null,null,null,null,null,null,null,null,null,null,null,null,null,null,null,null,null,null,null,null,null,null,null,null,null,null,null,null,null,null,null,null,null,null,null,null,null,null,null,null,null,null,null,null,null,null,null,null,null,null,null,null,null,null,null,null,null,null,null,null,null,null,null,null,null,null,null,null,null,null,null,null,null,null,null,null,null,null,null,null,null,null,null,null,null,null,null,null,null,null,null,null,null,null,null,null,null,null,null,null,null,null,null,null,null,null,null,null,null,null,null,null,null,null,null,null,null,null,null,null,null,null,null,null,null,null,null,null,null,null,null,null,null,null,null,null,null,null,null,null,null,null,null,null,null,null,null,null,null,null,null,null,null,null,null,null,null,null,null,null,null,null,null,null,null,null,null,null,null,null,null,null,null,"g1=",{"$f":"FT335+FT337","v":47.364667787130131},"º","g=",{"$f":"(180-FW335-FW337)","v":133.38028774922469},"º","g=",{"$f":"(180-FZ335-FZ337)","v":134.42483388743216},"º","g1=",{"$f":"GC335+GC337","v":47.364667787130131},"º","g1=",{"$f":"GF335+GF337","v":46.262221931012256},"º",null,"Глубина области диафрагм",{"$f":"'Исходные данные'!$F$30-('Исходные данные'!$F$32/2+'Исходные данные'!$F$30-'Исходные данные'!$F$34/2)","v":2},null,null,null,null,null,{"$f":"FP359","v":132},{"$f":"FQ359-'Исходные данные'!$F$32/2","v":160},{"$f":"GP338","v":132},{"$f":"FQ359+'Исходные данные'!$F$32/2","v":324},{"$f":"1.5*('Исходные данные'!$F$6/260)","v":0.86538461538461531},23]
[null,null,null,null,null,null,null,null,null,null,null,null,null,null,null,null,null,null,null,null,null,null,null,null,null,null,null,null,null,null,null,null,null,null,null,null,null,null,null,null,null,null,null,null,null,null,null,null,null,null,null,null,null,null,null,null,null,null,null,null,null,null,null,null,null,null,null,null,null,null,null,null,null,null,null,null,null,null,null,null,null,null,null,null,null,null,null,null,null,null,null,null,null,null,null,null,null,null,null,null,null,null,null,null,null,null,null,null,null,null,null,null,null,null,null,null,null,null,null,null,null,null,null,null,null,null,null,null,null,null,null,null,null,null,null,null,null,null,null,null,null,null,null,null,null,null,null,null,null,null,null,null,null,null,null,null,null,null,null,null,null,null,null,null,null,null,null,null,null,null,null,null,null,null,"xн=",{"$f":"$FP$359-'Исходные данные'!$F$32/2*COS(RADIANS(270-FT$338))","v":192.32572248652451},null,"xн=",{"$f":"$FP$359-'Исходные данные'!$F$34/2*COS(RADIANS(270-FW$338))","v":193.05212535075717},null,"xн=",{"$f":"$FP$359-('Исходные данные'!$F$34/2+'Исходные данные'!$F$16)*COS(RADIANS(270-FZ$338))","v":194.13273390922902},null,"xн=",{"$f":"$FP$359-('Исходные данные'!$F$32/2+'Исходные данные'!$F$30)*COS(RADIANS(90+GC$338))","v":192.32572248652448},null,"xн=",{"$f":"$FP$359+('Исходные данные'!$F$32/2+'Исходные данные'!$F$30+'Исходные данные'!$F$16)*COS(RADIANS(90+GF$338))","v":70.586526384077629},null,null,"Признак корректности ",{"$f":"'Исходные данные'!$F$30-GJ338","v":-2},null,null,null,null,"Область диафрагм",{"$f":"GR336","v":140},{"$f":"GQ336","v":95},{"$f":"FT341","v":71.674277513475502},{"$f":"FT342","v":297.54104073996842},0.5,14]
[null,null,null,null,null,null,null,null,null,null,null,null,null,null,null,null,null,null,null,null,null,null,null,null,null,null,null,null,null,null,null,null,null,null,null,null,null,null,null,null,null,null,null,null,null,null,null,null,null,null,null,null,null,null,null,null,null,null,null,null,null,null,null,null,null,null,null,null,null,null,null,null,null,null,null,null,null,null,null,null,null,null,null,null,null,null,null,null,null,null,null,null,null,null,null,null,null,null,null,null,null,null,null,null,null,null,null,null,null,null,null,null,null,null,null,null,null,null,null,null,null,null,null,null,null,null,null,null,null,null,null,null,null,null,null,null,null,null,null,null,null,null,null,null,null,null,null,null,null,null,null,null,null,null,null,null,null,null,null,null,null,null,null,null,null,null,null,null,null,null,null,null,null,null,"yн=",{"$f":"$FQ$359+('Исходные данные'!$F$32/2)*SIN(RADIANS(90+FT338))","v":297.54104073996842},null,"yн=",{"$f":"$FQ$359+'Исходные данные'!$F$34/2*SIN(RADIANS(270-FW$338))","v":299.69434972469514},null,"yн=",{"$f":"$FQ$359+('Исходные данные'!$F$34/2+'Исходные данные'!$F$16)*SIN(RADIANS(270-FZ$338))","v":302.89764672764414},null,"yн=",{"$f":"$FQ$359+('Исходные данные'!$F$32/2+'Исходные данные'!$F$30)*SIN(RADIANS(90+GC$338))","v":297.54104073996842},null,"yн=",{"$f":"$FQ$359+('Исходные данные'!$F$32/2+'Исходные данные'!$F$30+'Исходные данные'!$F$16)*SIN(RADIANS(90+GF$338))","v":300.76551079014291},null,null,"Выступающая часть трубы",{"$f":"'Исходные данные'!AN58","v":-13.3},null,null,null,null,null,{"$f":"GP332","v":124},{"$f":"GQ339","v":95},{"$f":"FT339","v":192.32572248652451},{"$f":"GS339","v":297.54104073996842},0.5,14]
[null,null,null,null,null,null,null,null,null,null,null,null,null,null,null,null,null,null,null,null,null,null,null,null,null,null,null,null,null,null,null,null,null,null,null,null,null,null,null,null,null,null,null,null,null,null,null,null,null,null,null,null,null,null,null,null,null,null,null,null,null,null,null,null,null,null,null,null,null,null,null,null,null,null,null,null,null,null,null,null,null,null,null,null,null,null,null,null,null,null,null,null,null,null,null,null,null,null,null,null,null,null,null,null,null,null,null,null,null,null,null,null,null,null,null,null,null,null,null,null,null,null,null,null,null,null,null,null,null,null,null,null,null,null,null,null,null,null,null,null,null,null,null,null,null,null,null,null,null,null,null,null,null,null,null,null,null,null,null,null,null,null,null,null,null,null,null,null,null,null,null,null,null,null,"xк=",{"$f":"$FP$359+'Исходные данные'!$F$32/2*COS(RADIANS(270-FT$338))","v":71.674277513475502},null,"xк=",{"$f":"$FP$359+'Исходные данные'!$F$34/2*COS(RADIANS(270-FW$338))","v":70.947874649242834},null,"xк=",{"$f":"$FP$359+('Исходные данные'!$F$34/2+'Исходные данные'!$F$16)*COS(RADIANS(270-FZ$338))","v":69.867266090770983},null,"xк=",{"$f":"$FP$359-('Исходные данные'!$F$32/2+'Исходные данные'!$F$30)*COS(RADIANS(90+GC$338))","v":192.32572248652448},null,"xк=",{"$f":"$FP$359-('Исходные данные'!$F$32/2+'Исходные данные'!$F$30+'Исходные данные'!$F$16)*COS(RADIANS(90+GF$338))","v":193.41347361592238},null,null,"Смещение логотипа вниз",null,null,{"$f":"GQ337","v":242},null,null,"Размеры"]
[null,null,null,null,null,null,null,null,null,null,null,null,null,null,null,null,null,null,null,null,null,null,null,null,null,null,null,null,null,null,null,null,null,null,null,null,null,null,null,null,null,null,null,null,null,null,null,null,null,null,null,null,null,null,null,null,null,null,null,null,null,null,null,null,null,null,null,null,null,null,null,null,null,null,null,null,null,null,null,null,null,null,null,null,null,null,null,null,null,null,null,null,null,null,null,null,null,null,null,null,null,null,null,null,null,null,null,null,null,null,null,null,null,null,null,null,null,null,null,null,null,null,null,null,null,null,null,null,null,null,null,null,null,null,null,null,null,null,null,null,null,null,null,null,null,null,null,null,null,null,null,null,null,null,null,null,null,null,null,null,null,null,null,null,null,null,null,null,null,null,null,null,null,null,"yк=",{"$f":"FT340","v":297.54104073996842},null,"yк=",{"$f":"FW340","v":299.69434972469514},null,"yк=",{"$f":"FZ340","v":302.89764672764414},null,"yк=",{"$f":"GC340","v":297.54104073996842},null,"yк=",{"$f":"GF340","v":300.76551079014291},null,null,"Масштаб логотипа",null,null,{"$f":"(GN334*GN334/38.42)/GN334","v":0.36289819354795144},null,null,"Выносные линии",{"$f":"GR337","v":214},{"$f":"FQ359","v":242},{"$f":"GR343+60","v":316},{"$f":"GQ342","v":242},0.25,63]
[null,null,null,null,null,null,null,null,null,null,null,null,null,null,null,null,null,null,null,null,null,null,null,null,null,null,null,null,null,null,null,null,null,null,null,null,null,null,null,null,null,null,null,null,null,null,null,null,null,null,null,null,null,null,null,null,null,null,null,null,null,null,null,null,null,null,null,null,null,null,null,null,null,null,null,null,null,null,null,null,null,null,null,null,null,null,null,null,null,null,null,null,null,null,null,null,null,null,null,null,null,null,null,null,null,null,null,null,null,null,null,null,null,null,null,null,null,null,null,null,null,null,null,null,null,null,null,null,null,null,null,null,null,null,null,null,null,null,null,null,null,null,null,null,null,null,null,null,null,null,null,null,null,null,null,null,null,null,null,null,null,null,null,null,null,null,null,null,null,null,null,null,null,null,null,null,null,null,null,null,null,null,null,null,null,null,null,null,null,null,"Смещение V",null,null,{"$f":"0","v":0},null,null,null,{"$f":"GF341","v":193.41347361592238},{"$f":"GF342","v":300.76551079014291},{"$f":"GR344+20","v":256},{"$f":"GQ343","v":300.76551079014291},0.25,63,null,1]
[null,null,null,null,null,null,null,null,null,null,null,null,null,null,null,null,null,null,null,null,null,null,null,null,null,null,null,null,null,null,null,null,null,null,null,null,null,null,null,null,null,null,null,null,null,null,null,null,null,null,null,null,null,null,null,null,null,null,null,null,null,null,null,null,null,null,null,null,null,null,null,null,null,null,null,null,null,null,null,null,null,null,null,null,null,null,null,null,null,null,null,null,null,null,null,null,null,null,null,null,null,null,null,null,null,null,null,null,null,null,null,null,null,null,null,null,null,null,null,null,null,null,null,null,null,null,null,null,null,null,null,null,null,null,null,null,null,null,null,null,null,null,null,null,null,null,null,null,null,null,null,null,null,null,null,null,null,null,null,null,null,null,null,null,null,null,null,null,null,null,null,null,null,null,null,null,null,null,null,null,null,null,null,null,null,null,null,null,null,null,"Смещение H",null,null,0,null,null,null,{"$f":"FZ339","v":194.13273390922902},{"$f":"FZ340","v":302.89764672764414},{"$f":"IF(GF341< FP359+'Исходные данные'!$F$34/2,FP359+'Исходные данные'!$F$34/2+20,GF341+20)","v":236},{"$f":"GQ344","v":302.89764672764414},0.25,63]
[null,null,null,null,null,null,null,null,null,null,null,null,null,null,null,null,null,null,null,null,null,null,null,null,null,null,null,null,null,null,null,null,null,null,null,null,null,null,null,null,null,null,null,null,null,null,null,null,null,null,null,null,null,null,null,null,null,null,null,null,null,null,null,null,null,null,null,null,null,null,null,null,null,null,null,null,null,null,null,null,null,null,null,null,null,null,null,null,null,null,null,null,null,null,null,null,null,null,null,null,null,null,null,null,null,null,null,null,null,null,null,null,null,null,null,null,null,null,null,null,null,null,null,null,null,null,null,null,null,null,null,null,null,null,null,null,null,null,null,null,null,null,null,null,null,null,null,null,null,null,null,null,null,null,null,null,null,null,null,null,null,null,null,null,null,null,null,null,null,null,null,null,null,null,null,null,null,null,null,null,null,null,null,null,null,null,null,null,null,null,null,null,null,null,null,null,null,{"$f":"FP359","v":132},{"$f":"'Исходные данные'!$F$32/2+'Исходные данные'!$F$30+'Исходные данные'!$F$16+'А-А'!FQ359","v":327},{"$f":"GP345","v":132},{"$f":"'Исходные данные'!$F$32/2+'Исходные данные'!$F$30+'Исходные данные'!$F$16+40+'А-А'!FQ359","v":367},0.25,63]
[null,null,null,null,null,null,null,null,null,null,null,null,null,null,null,null,null,null,null,null,null,null,null,null,null,null,null,null,null,null,null,null,null,null,null,null,null,null,null,null,null,null,null,null,null,null,null,null,null,null,null,null,null,null,null,null,null,null,null,null,null,null,null,null,null,null,null,null,null,null,null,null,null,null,null,null,null,null,null,null,null,null,null,null,null,null,null,null,null,null,null,null,null,null,null,null,null,null,null,null,null,null,null,null,null,null,null,null,null,null,null,null,null,null,null,null,null,null,null,null,null,null,null,null,null,null,null,null,null,null,null,null,null,null,null,null,null,null,null,null,null,null,null,null,null,null,null,null,null,null,null,null,null,null,null,null,null,null,null,null,null,null,null,null,null,null,null,null,null,null,null,null,null,null,null,null,null,null,null,null,null,null,null,null,null,null,null,null,null,null,null,null,null,null,null,null,null,{"$f":"GP343","v":193.41347361592238},{"$f":"GQ343","v":300.76551079014291},{"$f":"GP346","v":193.41347361592238},{"$f":"GS345","v":367},0.25,63,null,1]
[null,null,null,null,null,null,null,null,null,null,null,null,null,null,null,null,null,null,null,null,null,null,null,null,null,null,null,null,null,null,null,null,null,null,null,null,null,null,null,null,null,null,null,null,null,null,null,null,null,null,null,null,null,null,null,null,null,null,null,null,null,null,null,null,null,null,null,null,null,null,null,null,null,null,null,null,null,null,null,null,null,null,null,null,null,null,null,null,null,null,null,null,null,null,null,null,null,null,null,null,null,null,null,null,null,null,null,null,null,null,null,null,null,null,null,null,null,null,null,null,null,null,null,null,null,null,null,null,null,null,null,null,null,null,null,null,null,null,null,null,null,null,null,null,null,null,null,null,null,null,null,null,null,null,null,null,null,null,null,null,null,null,null,null,null,null,null,null,null,null,null,null,null,null,null,null,null,null,null,null,null,null,null,null,null,null,null,null,null,null,null,null,null,null,null,null,null,{"$f":"FZ339","v":194.13273390922902},{"$f":"FZ340","v":302.89764672764414},{"$f":"GP347","v":194.13273390922902},{"$f":"GS346-20","v":347},0.25,63]
[null,null,null,null,null,null,null,null,null,null,null,null,null,null,null,null,null,null,null,null,null,null,null,null,null,null,null,null,null,null,null,null,null,null,null,null,null,null,null,null,null,null,null,null,null,null,null,null,null,null,null,null,null,null,null,null,null,null,null,null,null,null,null,null,null,null,null,null,null,null,null,null,null,null,null,null,null,null,null,null,null,null,null,null,null,null,null,null,null,null,null,null,null,null,null,null,null,null,null,null,null,null,null,null,null,null,null,null,null,null,null,null,null,null,null,null,null,null,null,null,null,null,null,null,null,null,null,null,null,null,null,null,null,null,null,null,null,null,null,null,null,null,null,null,null,null,null,null,null,null,null,null,null,null,null,null,null,null,null,null,null,null,null,null,null,null,null,null,null,null,null,null,null,null,null,null,null,null,null,null,null,null,null,null,null,null,null,null,null,null,null,null,null,null,null,null,null,{"$f":"FP359","v":132},{"$f":"FQ359+'Исходные данные'!$F$32/2","v":324},{"$f":"GR342-40","v":276},{"$f":"GQ348","v":324},0.25,63,null,1]
[null,null,null,null,null,null,null,null,null,null,null,null,null,null,null,null,null,null,null,null,null,null,null,null,null,null,null,null,null,null,null,null,null,null,null,null,null,null,null,null,null,null,null,null,null,null,null,null,null,null,null,null,null,null,null,null,null,null,null,null,null,null,null,null,null,null,null,null,null,null,null,null,null,null,null,null,null,null,null,null,null,null,null,null,null,null,null,null,null,null,null,null,null,null,null,null,null,null,null,null,null,null,null,null,null,null,null,null,null,null,null,null,null,null,null,null,null,null,null,null,null,null,null,null,null,null,null,null,null,null,null,null,null,null,null,null,null,null,null,null,null,null,null,null,null,null,null,null,null,null,null,null,null,null,null,null,null,null,null,null,null,null,null,null,null,null,null,null,null,null,null,null,null,null,null,null,null,null,null,null,null,null,null,null,null,null,null,null,null,null,null,null,null,null,null,null,null,{"$f":"GP348","v":132},{"$f":"GQ348+'Исходные данные'!$F$30","v":324},{"$f":"GR342-20","v":296},324,0.25,63,null,1]
[null,null,null,null,null,null,null,null,null,null,null,null,null,null,null,null,null,null,null,null,null,null,null,null,null,null,null,null,null,null,null,null,null,null,null,null,null,null,null,null,null,null,null,null,null,null,null,null,null,null,null,null,null,null,null,null,null,null,null,null,null,null,null,null,null,null,null,null,null,null,null,null,null,null,null,null,null,null,null,null,null,null,null,null,null,null,null,null,null,null,null,null,null,null,null,null,null,null,null,null,null,null,null,null,null,null,null,null,null,null,null,null,null,null,null,null,null,null,null,null,null,null,null,null,null,null,null,null,null,null,null,null,null,null,null,null,null,null,null,null,null,null,null,null,null,null,null,null,null,null,null,null,null,null,null,null,null,null,null,null,null,null,null,null,null,null,null,null,null,null,null,null,null,null,null,null,null,null,null,null,null,null,null,null,null,null,null,null,null,null,null,null,null,null,null,null,null,132,{"$f":"GQ349+'Исходные данные'!$F$16","v":327},{"$f":"GR342","v":316},327,0.25,63,null,1]
[null,null,null,null,null,null,null,null,null,null,null,null,null,null,null,null,null,null,null,null,null,null,null,null,null,null,null,null,null,null,null,null,null,null,null,null,null,null,null,null,null,null,null,null,null,null,null,null,null,null,null,null,null,null,null,null,null,null,null,null,null,null,null,null,null,null,null,null,null,null,null,null,null,null,null,null,null,null,null,null,null,null,null,null,null,null,null,null,null,null,null,null,null,null,null,null,null,null,null,null,null,null,null,null,null,null,null,null,null,null,null,null,null,null,null,null,null,null,null,null,null,null,null,null,null,null,null,null,null,null,null,null,null,null,null,null,null,null,null,null,null,null,null,null,null,null,null,null,null,null,null,null,null,null,null,null,null,null,null,null,null,null,null,null,null,null,null,null,null,null,null,null,null,null,null,null,null,null,null,null,null,null,null,null,null,null,null,null,null,null,null,null,null,{"$f":"(GQ360-(GL334-GJ334))*(6+'Исходные данные'!$F$6/25.4/13)","v":70.996971532404601},null,null,null,132,{"$f":"$FQ$359-'Исходные данные'!$F$12","v":95},{"$f":"GR350","v":316},95,0.25,63]
[null,null,null,null,null,null,null,null,null,null,null,null,null,null,null,null,null,null,null,null,null,null,null,null,null,null,null,null,null,null,null,null,null,null,null,null,null,null,null,null,null,null,null,null,null,null,null,null,null,null,null,null,null,null,null,null,null,null,null,null,null,null,null,null,null,null,null,null,null,null,null,null,null,null,null,null,null,null,null,null,null,null,null,null,null,null,null,null,null,null,null,null,null,null,null,null,null,null,null,null,null,null,null,null,null,null,null,null,null,null,null,null,null,null,null,null,null,null,null,null,null,null,null,null,null,null,null,null,null,null,null,null,null,null,null,null,null,null,null,null,null,null,null,null,null,null,null,null,null,null,null,null,null,null,null,null,null,null,null,null,null,null,null,null,null,null,null,null,null,null,null,null,null,null,null,null,null,null,null,null,null,null,null,null,null,null,null,null,null,null,null,null,null,null,null,null,null,132,{"$f":"$FQ$359-'Исходные данные'!$F$34/2-'Исходные данные'!$F$16","v":155},{"$f":"GR351-20","v":296},155,0.25,63]
[null,null,null,null,null,null,null,null,null,null,null,null,null,null,null,null,null,null,null,null,null,null,null,null,null,null,null,null,null,null,null,null,null,null,null,null,null,null,null,null,null,null,null,null,null,null,null,null,null,null,null,null,null,null,null,null,null,null,null,null,null,null,null,null,null,null,null,null,null,null,null,null,null,null,null,null,null,null,null,null,null,null,null,null,null,null,null,null,null,null,null,null,null,null,null,null,null,null,null,null,null,null,null,null,null,null,null,null,null,null,null,null,null,null,null,null,null,null,null,null,null,null,null,null,null,null,null,null,null,null,null,null,null,null,null,null,null,null,null,null,null,null,null,null,null,null,null,null,null,null,null,null,null,null,null,null,null,null,null,null,null,null,null,null,null,null,null,null,null,null,null,null,null,null,null,null,null,null,null,null,null,null,null,null,null,null,null,null,null,null,null,"X","Y","h","b","шрифт",null,132,{"$f":"$FQ$359-'Исходные данные'!$F$34/2","v":158},{"$f":"GR352-20","v":276},158,0.25,63]
[null,null,null,null,null,null,null,null,null,null,null,null,null,null,null,null,null,null,null,null,null,null,null,null,null,null,null,null,null,null,null,null,null,null,null,null,null,null,null,null,null,null,null,null,null,null,null,null,null,null,null,null,null,null,null,null,null,null,null,null,null,null,null,null,null,null,null,null,null,null,null,null,null,null,null,null,null,null,null,null,null,null,null,null,null,null,null,null,null,null,null,null,null,null,null,null,null,null,null,null,null,null,null,null,null,null,null,null,null,null,null,null,null,null,null,null,null,null,null,null,null,null,null,null,null,null,null,null,null,null,null,null,null,null,null,null,null,null,null,null,null,null,null,null,null,null,null,null,null,null,null,null,null,null,null,null,null,null,null,null,null,null,null,null,null,null,null,null,null,null,null,null,null,null,null,null,null,null,null,null,null,null,null,null,null,null,null,null,null,null,"Надпись листа А-А",{"$f":"Чертёж!HQ2302","v":62},{"$f":"GQ382","v":35},200,500,{"$f":"Чертёж!HR2301","v":12},null,132,{"$f":"$FQ$359-'Исходные данные'!$F$32/2","v":160},{"$f":"GR353-20","v":256},160,0.25,63]
[null,null,null,null,null,null,null,null,null,null,null,null,null,null,null,null,null,null,null,null,null,null,null,null,null,null,null,null,null,null,null,null,null,null,null,null,null,null,null,null,null,null,null,null,null,null,null,null,null,null,null,null,null,null,null,null,null,null,null,null,null,null,null,null,null,null,null,null,null,null,null,null,null,null,null,null,null,null,null,null,null,null,null,null,null,null,null,null,null,null,null,null,null,null,null,null,null,null,null,null,null,null,null,null,null,null,null,null,null,null,null,null,null,null,null,null,null,null,null,null,null,null,null,null,null,null,null,null,null,null,null,null,null,null,null,null,null,null,null,null,null,null,null,null,null,null,null,null,null,null,null,null,null,null,null,null,null,null,null,null,null,null,null,null,null,null,null,null,null,null,null,null,null,null,175,176,177,178,179,null,null,null,null,null,null,null,null,null,null,null,null,null,null,null,null,null,null,132,{"$f":"$FQ$359-'Исходные данные'!$F$6/2","v":167},{"$f":"GR354-20","v":236},167,0.25,63]
[null,null,null,null,null,null,null,null,null,null,null,null,null,null,null,null,null,null,null,null,null,null,null,null,null,null,null,null,null,null,null,null,null,null,null,null,null,null,null,null,null,null,null,null,null,null,null,null,null,null,null,null,null,null,null,null,null,null,null,null,null,null,null,null,null,null,null,null,null,null,null,null,null,null,null,null,null,null,null,null,null,null,null,null,null,null,null,null,null,null,null,null,null,null,null,null,null,null,null,null,null,null,null,null,null,null,null,null,null,null,null,null,null,null,null,null,null,null,null,null,null,null,null,null,null,null,null,null,null,null,null,null,null,null,null,null,null,null,null,null,null,null,null,null,null,null,null,null,null,null,null,null,null,null,null,null,null,null,null,null,null,null,null,null,null,null,null,null,null,null,null,null,null,null,"Труба",null,null,null,null,null,null,null,null,null,null,null,null,null,null,null,null,null,null,null,null,null,null,{"$f":"GR343","v":256},{"$f":"GQ342","v":242},{"$f":"GP356","v":256},{"$f":"GQ343","v":300.76551079014291},0.5,64,null,1]
[null,null,null,null,null,null,null,null,null,null,null,null,null,null,null,null,null,null,null,null,null,null,null,null,null,null,null,null,null,null,null,null,null,null,null,null,null,null,null,null,null,null,null,null,null,null,null,null,null,null,null,null,null,null,null,null,null,null,null,null,null,null,null,null,null,null,null,null,null,null,null,null,null,null,null,null,null,null,null,null,null,null,null,null,null,null,null,null,null,null,null,null,null,null,null,null,null,null,null,null,null,null,null,null,null,null,null,null,null,null,null,null,null,null,null,null,null,null,null,null,null,null,null,null,null,null,null,null,null,null,null,null,null,null,null,null,null,null,null,null,null,null,null,null,null,null,null,null,null,null,null,null,null,null,null,null,null,null,null,null,null,null,null,null,null,null,null,null,null,null,null,null,null,null,null,"X","Y","d","Начало дуги","Конец дуги",null,null,null,null,null,null,null,null,null,null,null,null,null,null,null,null,null,{"$f":"GP356","v":256},{"$f":"GQ356+(GS356-GQ356)/2-GS357/2","v":231.38275539507146},15,80,{"$f":"ROUND(GS356-GQ356,1)","v":58.8},12,"V"]
[null,null,null,null,null,null,null,null,null,null,null,null,null,null,null,null,null,null,null,null,null,null,null,null,null,null,null,null,null,null,null,null,null,null,null,null,null,null,null,null,null,null,null,null,null,null,null,null,null,null,null,null,null,null,null,null,null,null,null,null,null,null,null,null,null,null,null,null,null,null,null,null,null,null,null,null,null,null,null,null,null,null,null,null,null,null,null,null,null,null,null,null,null,null,null,null,null,null,null,null,null,null,null,null,null,null,null,null,null,null,null,null,null,null,null,null,null,null,null,null,null,null,null,null,null,null,null,null,null,null,null,null,null,null,null,null,null,null,null,null,null,null,null,null,null,null,null,null,null,null,null,null,null,null,null,null,null,null,null,null,null,null,null,null,null,null,null,null,null,null,null,"Cмещение X","Смещение Y",null,"Входное отверстие",{"$f":"FP359-'Исходные данные'!F32/2","v":50},{"$f":"FQ359-'Исходные данные'!F32/2","v":160},{"$f":"'Исходные данные'!F32","v":164},null,null,null,null,null,null,null,null,null,null,null,null,null,null,null,null,null,null,null,{"$f":"GR344","v":236},{"$f":"GQ356","v":242},{"$f":"GP358","v":236},{"$f":"GQ344","v":302.89764672764414},0.5,64]
[null,null,null,null,null,null,null,null,null,null,null,null,null,null,null,null,null,null,null,null,null,null,null,null,null,null,null,null,null,null,null,null,null,null,null,null,null,null,null,null,null,null,null,null,null,null,null,null,null,null,null,null,null,null,null,null,null,null,null,null,null,null,null,null,null,null,null,null,null,null,null,null,null,null,null,null,null,null,null,null,null,null,null,null,null,null,null,null,null,null,null,null,null,null,null,null,null,null,null,null,null,null,null,null,null,null,null,null,null,null,null,null,null,null,null,null,null,null,null,null,null,null,null,null,null,null,null,null,null,null,null,null,null,null,null,null,null,null,null,null,null,null,null,null,null,null,null,null,null,null,null,null,null,null,null,null,null,null,null,null,null,null,null,null,null,null,null,null,null,null,null,{"$f":"ROUND(50+'Исходные данные'!F32/2+'Исходные данные'!F30,0)","v":132},{"$f":"ROUND(100+'Исходные данные'!F56+'Исходные данные'!F30+'Исходные данные'!F32/2,0)","v":242},null,"Внутренний диаметр трубы",{"$f":"FP359","v":132},{"$f":"FQ359-'Исходные данные'!F34/2","v":158},{"$f":"'Исходные данные'!F34/2","v":84},{"$f":"FY359-(180-FW338)","v":43.380287749224692},{"$f":"FY359+(180-FW338)","v":136.61971225077531},90,null,null,null,null,null,null,null,null,null,null,null,null,null,null,null,null,{"$f":"GP358","v":236},{"$f":"GQ358+(GS358-GQ358)/2-GS359/2","v":232.44882336382204},15,80,{"$f":"ROUND(GS358-GQ358,1)","v":60.9},{"$f":"GU357","v":12},"V"]
[null,null,null,null,null,null,null,null,null,null,null,null,null,null,null,null,null,null,null,null,null,null,null,null,null,null,null,null,null,null,null,null,null,null,null,null,null,null,null,null,null,null,null,null,null,null,null,null,null,null,null,null,null,null,null,null,null,null,null,null,null,null,null,null,null,null,null,null,null,null,null,null,null,null,null,null,null,null,null,null,null,null,null,null,null,null,null,null,null,null,null,null,null,null,null,null,null,null,null,null,null,null,null,null,null,null,null,null,null,null,null,null,null,null,null,null,null,null,null,null,null,null,null,null,null,null,null,null,null,null,null,null,null,null,null,null,null,null,null,null,null,null,null,null,null,null,null,null,null,null,null,null,null,null,null,null,null,null,null,null,null,null,null,null,null,null,null,null,null,null,null,null,null,null,"Наружный диаметр трубы",{"$f":"FP359","v":132},{"$f":"FQ359-'Исходные данные'!F34/2-'Исходные данные'!F16","v":155},{"$f":"FV359+'Исходные данные'!F16","v":87},{"$f":"FY360-(180-FZ338)","v":44.424833887432158},{"$f":"FY360+(180-FZ338)","v":135.57516611256784},90,null,null,null,null,null,null,null,null,null,null,null,null,null,null,null,null,{"$f":"GP345","v":132},{"$f":"GS346","v":367},{"$f":"GR346","v":193.41347361592238},{"$f":"GQ360","v":367},0.5,64,null,1]
[null,null,null,null,null,null,null,null,null,null,null,null,null,null,null,null,null,null,null,null,null,null,null,null,null,null,null,null,null,null,null,null,null,null,null,null,null,null,null,null,null,null,null,null,null,null,null,null,null,null,null,null,null,null,null,null,null,null,null,null,null,null,null,null,null,null,null,null,null,null,null,null,null,null,null,null,null,null,null,null,null,null,null,null,null,null,null,null,null,null,null,null,null,null,null,null,null,null,null,null,null,null,null,null,null,null,null,null,null,null,null,null,null,null,null,null,null,null,null,null,null,null,null,null,null,null,null,null,null,null,null,null,null,null,null,null,null,null,null,null,null,null,null,null,null,null,null,null,null,null,null,null,null,null,null,null,null,null,null,null,null,null,null,null,null,null,null,null,null,null,null,null,null,null,"Область диафрагмирования",null,null,null,null,null,null,null,null,null,null,null,null,null,null,null,null,null,null,null,null,null,null,{"$f":"GP360+(GR360-GP360)/2-GR361/2","v":122.70673680796119},{"$f":"GQ360-GS361","v":352},80,15,{"$f":"ROUND(GR360-GP360,1)","v":61.4},{"$f":"GU359","v":12},"H"]
[null,null,null,null,null,null,null,null,null,null,null,null,null,null,null,null,null,null,null,null,null,null,null,null,null,null,null,null,null,null,null,null,null,null,null,null,null,null,null,null,null,null,null,null,null,null,null,null,null,null,null,null,null,null,null,null,null,null,null,null,null,null,null,null,null,null,null,null,null,null,null,null,null,null,null,null,null,null,null,null,null,null,null,null,null,null,null,null,null,null,null,null,null,null,null,null,null,null,null,null,null,null,null,null,null,null,null,null,null,null,null,null,null,null,null,null,null,null,null,null,null,null,null,null,null,null,null,null,null,null,null,null,null,null,null,null,null,null,null,null,null,null,null,null,null,null,null,null,null,null,null,null,null,null,null,null,null,null,null,null,null,null,null,null,null,null,null,null,null,null,null,null,null,null,null,"X","Y","a","Начало дуги","Конец дуги",null,null,null,null,null,null,null,null,null,null,null,null,null,null,null,null,null,{"$f":"GP360","v":132},{"$f":"GS347","v":347},{"$f":"GR347","v":194.13273390922902},{"$f":"GQ362","v":347},0.5,64]
[null,null,null,null,null,null,null,null,null,null,null,null,null,null,null,null,null,null,null,null,null,null,null,null,null,null,null,null,null,null,null,null,null,null,null,null,null,null,null,null,null,null,null,null,null,null,null,null,null,null,null,null,null,null,null,null,null,null,null,null,null,null,null,null,null,null,null,null,null,null,null,null,null,null,null,null,null,null,null,null,null,null,null,null,null,null,null,null,null,null,null,null,null,null,null,null,null,null,null,null,null,null,null,null,null,null,null,null,null,null,null,null,null,null,null,null,null,null,null,null,null,null,null,null,null,null,null,null,null,null,null,null,null,null,null,null,null,null,null,null,null,null,null,null,null,null,null,null,null,null,null,null,null,null,null,null,null,null,null,null,null,null,null,null,null,null,null,null,null,null,null,null,null,null,"Область диафрагм внутр.",{"$f":"FP359","v":132},{"$f":"FQ359-FV363","v":158},{"$f":"'Исходные данные'!F34/2+IF(Чертёж!GT2315<0,0,'Исходные данные'!F30-('Исходные данные'!F34/2-'Исходные данные'!F32/2))","v":84},{"$f":"270+(180-GC338)","v":402.63533221286986},{"$f":"270-(180-GC338)","v":137.36466778713014},null,null,null,null,null,null,null,null,null,null,null,null,null,null,null,null,null,{"$f":"GP362+(GR362-GP362)/2-GR363/2","v":123.06636695461452},{"$f":"GQ362-GS363","v":332},80,15,{"$f":"ROUND(GR362-GP362,1)","v":62.1},{"$f":"GU361","v":12},"H"]
[null,null,null,null,null,null,null,null,null,null,null,null,null,null,null,null,null,null,null,null,null,null,null,null,null,null,null,null,null,null,null,null,null,null,null,null,null,null,null,null,null,null,null,null,null,null,null,null,null,null,null,null,null,null,null,null,null,null,null,null,null,null,null,null,null,null,null,null,null,null,null,null,null,null,null,null,null,null,null,null,null,null,null,null,null,null,null,null,null,null,null,null,null,null,null,null,null,null,null,null,null,null,null,null,null,null,null,null,null,null,null,null,null,null,null,null,null,null,null,null,null,null,null,null,null,null,null,null,null,null,null,null,null,null,null,null,null,null,null,null,null,null,null,null,null,null,null,null,null,null,null,null,null,null,null,null,null,null,null,null,null,null,null,null,null,null,null,null,null,null,null,null,null,null,"Область диафрагм наруж.",{"$f":"FP359","v":132},{"$f":"FU363-'Исходные данные'!F16","v":155},{"$f":"FV363+'Исходные данные'!F16","v":87},{"$f":"270+(180-GF338)","v":403.73777806898772},{"$f":"270-(180-GF338)","v":136.26222193101225},null,null,null,null,null,null,null,null,null,null,null,null,null,null,null,null,"Внутренний радиус области диафрагмирования",{"$f":"GR348","v":276},{"$f":"FQ359","v":242},{"$f":"GP364","v":276},{"$f":"GS348","v":324},0.5,64,null,1]
[null,null,null,null,null,null,null,null,null,null,null,null,null,null,null,null,null,null,null,null,null,null,null,null,null,null,null,null,null,null,null,null,null,null,null,null,null,null,null,null,null,null,null,null,null,null,null,null,null,null,null,null,null,null,null,null,null,null,null,null,null,null,null,null,null,null,null,null,null,null,null,null,null,null,null,null,null,null,null,null,null,null,null,null,null,null,null,null,null,null,null,null,null,null,null,null,null,null,null,null,null,null,null,null,null,null,null,null,null,null,null,null,null,null,null,null,null,null,null,null,null,null,null,null,null,null,null,null,null,null,null,null,null,null,null,null,null,null,null,null,null,null,null,null,null,null,null,null,null,null,null,null,null,null,null,null,null,null,null,null,null,null,null,null,null,null,null,null,null,null,null,null,null,null,"Невидимый сектор трубы внут.",{"$f":"FT359","v":132},158,84,{"$f":"FX359","v":136.61971225077531},{"$f":"FW359","v":43.380287749224692},null,null,null,null,null,null,null,null,null,null,null,null,null,null,null,null,null,{"$f":"GP364","v":276},{"$f":"GQ364+(GS364-GQ364)/2-GS365/2","v":243},15,80,{"$f":"ROUND(GS364-GQ364,1)","v":82},{"$f":"GU363","v":12},"V"]
[null,null,null,null,null,null,null,null,null,null,null,null,null,null,null,null,null,null,null,null,null,null,null,null,null,null,null,null,null,null,null,null,null,null,null,null,null,null,null,null,null,null,null,null,null,null,null,null,null,null,null,null,null,null,null,null,null,null,null,null,null,null,null,null,null,null,null,null,null,null,null,null,null,null,null,null,null,null,null,null,null,null,null,null,null,null,null,null,null,null,null,null,null,null,null,null,null,null,null,null,null,null,null,null,null,null,null,null,null,null,null,null,null,null,null,null,null,null,null,null,null,null,null,null,null,null,null,null,null,null,null,null,null,null,null,null,null,null,null,null,null,null,null,null,null,null,null,null,null,null,null,null,null,null,null,null,null,null,null,null,null,null,null,null,null,null,null,null,null,null,null,null,null,null,"Невидимый сектор трубы варуж.",132,155,87,{"$f":"FX360","v":135.57516611256784},{"$f":"FW360","v":44.424833887432158},null,null,null,null,null,null,null,null,null,null,null,null,null,null,null,null,"Наружный радиус области диафрагмирования 1",{"$f":"GR349","v":296},{"$f":"FQ359","v":242},{"$f":"GP366","v":296},{"$f":"GS349","v":324},0.5,64,null,1]
[null,null,null,null,null,null,null,null,null,null,null,null,null,null,null,null,null,null,null,null,null,null,null,null,null,null,null,null,null,null,null,null,null,null,null,null,null,null,null,null,null,null,null,null,null,null,null,null,null,null,null,null,null,null,null,null,null,null,null,null,null,null,null,null,null,null,null,null,null,null,null,null,null,null,null,null,null,null,null,null,null,null,null,null,null,null,null,null,null,null,null,null,null,null,null,null,null,null,null,null,null,null,null,null,null,null,null,null,null,null,null,null,null,null,null,null,null,null,null,null,null,null,null,null,null,null,null,null,null,null,null,null,null,null,null,null,null,null,null,null,null,null,null,null,null,null,null,null,null,null,null,null,null,null,null,null,null,null,null,null,null,null,null,null,null,null,null,null,null,null,null,null,null,null,"Вершины диафрагм",{"$f":"FT364","v":132},{"$f":"FQ359-FV367","v":160},{"$f":"'Исходные данные'!$F$32/2","v":82},{"$f":"270+FT338","v":317.36466778713014},{"$f":"270-FT338","v":222.63533221286986},null,null,null,null,null,null,null,null,null,null,null,null,null,null,null,null,null,{"$f":"GP366","v":296},{"$f":"GQ366+(GS366-GQ366)/2-GS367/2","v":243},15,80,{"$f":"ROUND(GS366-GQ366,1)","v":82},{"$f":"GU365","v":12},"V"]
[null,null,null,null,null,null,null,null,null,null,null,null,null,null,null,null,null,null,null,null,null,null,null,null,null,null,null,null,null,null,null,null,null,null,null,null,null,null,null,null,null,null,null,null,null,null,null,null,null,null,null,null,null,null,null,null,null,null,null,null,null,null,null,null,null,null,null,null,null,null,null,null,null,null,null,null,null,null,null,null,null,null,null,null,null,null,null,null,null,null,null,null,null,null,null,null,null,null,null,null,null,null,null,null,null,null,null,null,null,null,null,null,null,null,null,null,null,null,null,null,null,null,null,null,null,null,null,null,null,null,null,null,null,null,null,null,null,null,null,null,null,null,null,null,null,null,null,null,null,null,null,null,null,null,null,null,null,null,null,null,null,null,null,null,null,null,null,null,null,null,null,null,null,null,null,null,null,null,null,null,null,null,null,null,null,null,null,null,null,null,null,null,null,null,null,null,"Наружный радиус области диафрагмирования 2",{"$f":"GR350","v":316},{"$f":"FQ359","v":242},{"$f":"GP368","v":316},{"$f":"GS350","v":327},0.5,64,null,1]
[null,null,null,null,null,null,null,null,null,null,null,null,null,null,null,null,null,null,null,null,null,null,null,null,null,null,null,null,null,null,null,null,null,null,null,null,null,null,null,null,null,null,null,null,null,null,null,null,null,null,null,null,null,null,null,null,null,null,null,null,null,null,null,null,null,null,null,null,null,null,null,null,null,null,null,null,null,null,null,null,null,null,null,null,null,null,null,null,null,null,null,null,null,null,null,null,null,null,null,null,null,null,null,null,null,null,null,null,null,null,null,null,null,null,null,null,null,null,null,null,null,null,null,null,null,null,null,null,null,null,null,null,null,null,null,null,null,null,null,null,null,null,null,null,null,null,null,null,null,null,null,null,null,null,null,null,null,null,null,null,null,null,null,null,null,null,null,null,null,null,null,null,null,null,null,null,null,null,null,null,null,null,null,null,null,null,null,null,null,null,null,null,null,null,null,null,null,{"$f":"GP368","v":316},{"$f":"GQ368+(GS368-GQ368)/2-GS369/2","v":244.5},15,80,{"$f":"ROUND(GS368-GQ368,1)","v":85},{"$f":"GU367","v":12},"V"]
[null,null,null,null,null,null,null,null,null,null,null,null,null,null,null,null,null,null,null,null,null,null,null,null,null,null,null,null,null,null,null,null,null,null,null,null,null,null,null,null,null,null,null,null,null,null,null,null,null,null,null,null,null,null,null,null,null,null,null,null,null,null,null,null,null,null,null,null,null,null,null,null,null,null,null,null,null,null,null,null,null,null,null,null,null,null,null,null,null,null,null,null,null,null,null,null,null,null,null,null,null,null,null,null,null,null,null,null,null,null,null,null,null,null,null,null,null,null,null,null,null,null,null,null,null,null,null,null,null,null,null,null,null,null,null,null,null,null,null,null,null,null,null,null,null,null,null,null,null,null,null,null,null,null,null,null,null,null,null,null,null,null,null,null,null,null,null,null,null,null,null,null,null,null,null,null,null,null,null,null,null,null,null,null,null,null,null,null,null,null,null,null,null,null,null,null,null,{"$f":"GR351","v":316},{"$f":"FQ359","v":242},{"$f":"GP370","v":316},{"$f":"GS351","v":95},0.5,64]
[null,null,null,null,null,null,null,null,null,null,null,null,null,null,null,null,null,null,null,null,null,null,null,null,null,null,null,null,null,null,null,null,null,null,null,null,null,null,null,null,null,null,null,null,null,null,null,null,null,null,null,null,null,null,null,null,null,null,null,null,null,null,null,null,null,null,null,null,null,null,null,null,null,null,null,null,null,null,null,null,null,null,null,null,null,null,null,null,null,null,null,null,null,null,null,null,null,null,null,null,null,null,null,null,null,null,null,null,null,null,null,null,null,null,null,null,null,null,null,null,null,null,null,null,null,null,null,null,null,null,null,null,null,null,null,null,null,null,null,null,null,null,null,null,null,null,null,null,null,null,null,null,null,null,null,null,null,null,null,null,null,null,null,null,null,null,null,null,null,null,null,null,null,null,null,null,null,null,null,null,null,null,null,null,null,null,null,null,null,null,null,null,null,null,null,null,null,{"$f":"GP370","v":316},{"$f":"GQ370+(GS370-GQ370)/2-GS371/2","v":128.5},15,80,{"$f":"ROUND(GQ370-GS370,1)","v":147},{"$f":"GU369","v":12},"V"]
[null,null,null,null,null,null,null,null,null,null,null,null,null,null,null,null,null,null,null,null,null,null,null,null,null,null,null,null,null,null,null,null,null,null,null,null,null,null,null,null,null,null,null,null,null,null,null,null,null,null,null,null,null,null,null,null,null,null,null,null,null,null,null,null,null,null,null,null,null,null,null,null,null,null,null,null,null,null,null,null,null,null,null,null,null,null,null,null,null,null,null,null,null,null,null,null,null,null,null,null,null,null,null,null,null,null,null,null,null,null,null,null,null,null,null,null,null,null,null,null,null,null,null,null,null,null,null,null,null,null,null,null,null,null,null,null,null,null,null,null,null,null,null,null,null,null,null,null,null,null,null,null,null,null,null,null,null,null,null,null,null,null,null,null,null,null,null,null,null,null,null,null,null,null,null,null,null,null,null,null,null,null,null,null,null,null,null,null,null,null,null,null,null,null,null,null,"Наружный трубы",{"$f":"GR352","v":296},{"$f":"FQ359","v":242},{"$f":"GP372","v":296},{"$f":"GS352","v":155},0.5,64]
[null,null,null,null,null,null,null,null,null,null,null,null,null,null,null,null,null,null,null,null,null,null,null,null,null,null,null,null,null,null,null,null,null,null,null,null,null,null,null,null,null,null,null,null,null,null,null,null,null,null,null,null,null,null,null,null,null,null,null,null,null,null,null,null,null,null,null,null,null,null,null,null,null,null,null,null,null,null,null,null,null,null,null,null,null,null,null,null,null,null,null,null,null,null,null,null,null,null,null,null,null,null,null,null,null,null,null,null,null,null,null,null,null,null,null,null,null,null,null,null,null,null,null,null,null,null,null,null,null,null,null,null,null,null,null,null,null,null,null,null,null,null,null,null,null,null,null,null,null,null,null,null,null,null,null,null,null,null,null,null,null,null,null,null,null,null,null,null,null,null,null,null,null,null,null,null,null,null,null,null,null,null,null,null,null,null,null,null,null,null,null,null,null,null,null,null,null,{"$f":"GP372","v":296},{"$f":"GQ372+(GS372-GQ372)/2-GS373/2","v":158.5},15,80,{"$f":"ROUND(GQ372-GS372,1)","v":87},{"$f":"GU371","v":12},"V"]
[null,null,null,null,null,null,null,null,null,null,null,null,null,null,null,null,null,null,null,null,null,null,null,null,null,null,null,null,null,null,null,null,null,null,null,null,null,null,null,null,null,null,null,null,null,null,null,null,null,null,null,null,null,null,null,null,null,null,null,null,null,null,null,null,null,null,null,null,null,null,null,null,null,null,null,null,null,null,null,null,null,null,null,null,null,null,null,null,null,null,null,null,null,null,null,null,null,null,null,null,null,null,null,null,null,null,null,null,null,null,null,null,null,null,null,null,null,null,null,null,null,null,null,null,null,null,null,null,null,null,null,null,null,null,null,null,null,null,null,null,null,null,null,null,null,null,null,null,null,null,null,null,null,null,null,null,null,null,null,null,null,null,null,null,null,null,null,null,null,null,null,null,null,null,null,null,null,null,null,null,null,null,null,null,null,null,null,null,null,null,null,null,null,null,null,null,"Внутренний радиус трубы",{"$f":"GR353","v":276},{"$f":"FQ359","v":242},{"$f":"GP374","v":276},{"$f":"GS353","v":158},0.5,64]
[null,null,null,null,null,null,null,null,null,null,null,null,null,null,null,null,null,null,null,null,null,null,null,null,null,null,null,null,null,null,null,null,null,null,null,null,null,null,null,null,null,null,null,null,null,null,null,null,null,null,null,null,null,null,null,null,null,null,null,null,null,null,null,null,null,null,null,null,null,null,null,null,null,null,null,null,null,null,null,null,null,null,null,null,null,null,null,null,null,null,null,null,null,null,null,null,null,null,null,null,null,null,null,null,null,null,null,null,null,null,null,null,null,null,null,null,null,null,null,null,null,null,null,null,null,null,null,null,null,null,null,null,null,null,null,null,null,null,null,null,null,null,null,null,null,null,null,null,null,null,null,null,null,null,null,null,null,null,null,null,null,null,null,null,null,null,null,null,null,null,null,null,null,null,null,null,null,null,null,null,null,null,null,null,null,null,null,null,null,null,null,null,null,null,null,null,null,{"$f":"GP374","v":276},{"$f":"GQ374+(GS374-GQ374)/2-GS375/2","v":160},15,80,{"$f":"ROUND(GQ374-GS374,1)","v":84},{"$f":"GU373","v":12},"V"]
[null,null,null,null,null,null,null,null,null,null,null,null,null,null,null,null,null,null,null,null,null,null,null,null,null,null,null,null,null,null,null,null,null,null,null,null,null,null,null,null,null,null,null,null,null,null,null,null,null,null,null,null,null,null,null,null,null,null,null,null,null,null,null,null,null,null,null,null,null,null,null,null,null,null,null,null,null,null,null,null,null,null,null,null,null,null,null,null,null,null,null,null,null,null,null,null,null,null,null,null,null,null,null,null,null,null,null,null,null,null,null,null,null,null,null,null,null,null,null,null,null,null,null,null,null,null,null,null,null,null,null,null,null,null,null,null,null,null,null,null,null,null,null,null,null,null,null,null,null,null,null,null,null,null,null,null,null,null,null,null,null,null,null,null,null,null,null,null,null,null,null,null,null,null,null,null,null,null,null,null,null,null,null,null,null,null,null,null,null,null,null,null,null,null,null,null,"Внутренний радиус области диафрагмирования",{"$f":"GR354","v":256},{"$f":"FQ359","v":242},{"$f":"GP376","v":256},{"$f":"GS354","v":160},0.5,64]
[null,null,null,null,null,null,null,null,null,null,null,null,null,null,null,null,null,null,null,null,null,null,null,null,null,null,null,null,null,null,null,null,null,null,null,null,null,null,null,null,null,null,null,null,null,null,null,null,null,null,null,null,null,null,null,null,null,null,null,null,null,null,null,null,null,null,null,null,null,null,null,null,null,null,null,null,null,null,null,null,null,null,null,null,null,null,null,null,null,null,null,null,null,null,null,null,null,null,null,null,null,null,null,null,null,null,null,null,null,null,null,null,null,null,null,null,null,null,null,null,null,null,null,null,null,null,null,null,null,null,null,null,null,null,null,null,null,null,null,null,null,null,null,null,null,null,null,null,null,null,null,null,null,null,null,null,null,null,null,null,null,null,null,null,null,null,null,null,null,null,null,null,null,null,null,null,null,null,null,null,null,null,null,null,null,null,null,null,null,null,null,null,null,null,null,null,null,{"$f":"GP376","v":256},{"$f":"GQ376+(GS376-GQ376)/2-GS377/2","v":161},15,80,{"$f":"ROUND(GQ376-GS376,1)","v":82},{"$f":"GU375","v":12},"V"]
[null,null,null,null,null,null,null,null,null,null,null,null,null,null,null,null,null,null,null,null,null,null,null,null,null,null,null,null,null,null,null,null,null,null,null,null,null,null,null,null,null,null,null,null,null,null,null,null,null,null,null,null,null,null,null,null,null,null,null,null,null,null,null,null,null,null,null,null,null,null,null,null,null,null,null,null,null,null,null,null,null,null,null,null,null,null,null,null,null,null,null,null,null,null,null,null,null,null,null,null,null,null,null,null,null,null,null,null,null,null,null,null,null,null,null,null,null,null,null,null,null,null,null,null,null,null,null,null,null,null,null,null,null,null,null,null,null,null,null,null,null,null,null,null,null,null,null,null,null,null,null,null,null,null,null,null,null,null,null,null,null,null,null,null,null,null,null,null,null,null,null,null,null,null,null,null,null,null,null,null,null,null,null,null,null,null,null,null,null,null,null,null,null,null,null,null,"Радиус ГЗ",{"$f":"GR355","v":236},{"$f":"FQ359","v":242},{"$f":"GP378","v":236},{"$f":"GS355","v":167},0.5,64]
[null,null,null,null,null,null,null,null,null,null,null,null,null,null,null,null,null,null,null,null,null,null,null,null,null,null,null,null,null,null,null,null,null,null,null,null,null,null,null,null,null,null,null,null,null,null,null,null,null,null,null,null,null,null,null,null,null,null,null,null,null,null,null,null,null,null,null,null,null,null,null,null,null,null,null,null,null,null,null,null,null,null,null,null,null,null,null,null,null,null,null,null,null,null,null,null,null,null,null,null,null,null,null,null,null,null,null,null,null,null,null,null,null,null,null,null,null,null,null,null,null,null,null,null,null,null,null,null,null,null,null,null,null,null,null,null,null,null,null,null,null,null,null,null,null,null,null,null,null,null,null,null,null,null,null,null,null,null,null,null,null,null,null,null,null,null,null,null,null,null,null,null,null,null,null,null,null,null,null,null,null,null,null,null,null,null,null,null,null,null,null,null,null,null,null,null,null,{"$f":"GP378","v":236},{"$f":"GQ378+(GS378-GQ378)/2-GS379/2","v":164.5},15,80,{"$f":"ROUND(GQ378-GS378,1)","v":75},{"$f":"GU377","v":12},"V"]
[null,null,null,null,null,null,null,null,null,null,null,null,null,null,null,null,null,null,null,null,null,null,null,null,null,null,null,null,null,null,null,null,null,null,null,null,null,null,null,null,null,null,null,null,null,null,null,null,null,null,null,null,null,null,null,null,null,null,null,null,null,null,null,null,null,null,null,null,null,null,null,null,null,null,null,null,null,null,null,null,null,null,null,null,null,null,null,null,null,null,null,null,null,null,null,null,null,null,null,null,null,null,null,null,null,null,null,null,null,null,null,null,null,null,null,null,null,null,null,null,null,null,null,null,null,null,null,null,null,null,null,null,null,null,null,null,null,null,null,null,null,null,null,null,null,null,null,null,null,null,null,null,null,null,null,null,null,null,null,null,null,null,null,null,null,null,null,null,null,null,null,null,null,null,null,null,null,null,null,null,null,null,null,null,null,null,null,null,null,null,null,null,null,null,null,null,null,{"$f":"GP372","v":296},{"$f":"GS372","v":155},{"$f":"GP380","v":296},{"$f":"GS370","v":95},0.5,64]
[null,null,null,null,null,null,null,null,null,null,null,null,null,null,null,null,null,null,null,null,null,null,null,null,null,null,null,null,null,null,null,null,null,null,null,null,null,null,null,null,null,null,null,null,null,null,null,null,null,null,null,null,null,null,null,null,null,null,null,null,null,null,null,null,null,null,null,null,null,null,null,null,null,null,null,null,null,null,null,null,null,null,null,null,null,null,null,null,null,null,null,null,null,null,null,null,null,null,null,null,null,null,null,null,null,null,null,null,null,null,null,null,null,null,null,null,null,null,null,null,null,null,null,null,null,null,null,null,null,null,null,null,null,null,null,null,null,null,null,null,null,null,null,null,null,null,null,null,null,null,null,null,null,null,null,null,null,null,null,null,null,null,null,null,null,null,null,null,null,null,null,null,null,null,null,null,null,null,null,null,null,null,null,null,null,null,null,null,null,null,null,null,null,null,null,null,null,{"$f":"GP380","v":296},{"$f":"GQ380+(GS380-GQ380)/2-GS381/2","v":85},15,80,{"$f":"ROUND(GQ380-GS380,1)","v":60},{"$f":"GU379","v":12},"V"]
[null,null,null,null,null,null,null,null,null,null,null,null,null,null,null,null,null,null,null,null,null,null,null,null,null,null,null,null,null,null,null,null,null,null,null,null,null,null,null,null,null,null,null,null,null,null,null,null,null,null,null,null,null,null,null,null,null,null,null,null,null,null,null,null,null,null,null,null,null,null,null,null,null,null,null,null,null,null,null,null,null,null,null,null,null,null,null,null,null,null,null,null,null,null,null,null,null,null,null,null,null,null,null,null,null,null,null,null,null,null,null,null,null,null,null,null,null,null,null,null,null,null,null,null,null,null,null,null,null,null,null,null,null,null,null,null,null,null,null,null,null,null,null,null,null,null,null,null,null,null,null,null,null,null,null,null,null,null,null,null,null,null,null,null,null,null,null,null,null,null,null,null,null,null,null,null,null,null,null,null,null,null,null,null,null,null,null,null,null,null,null,null,null,null,null,null,null,{"$f":"$FP$359-Чертёж!$HR$2254/2","v":118.372},{"$f":"FQ359-'Исходные данные'!$F$12-60","v":35},{"$f":"FP359+Чертёж!$HR$2254/2","v":145.62799999999999},{"$f":"GQ382","v":35},0.5,64]
[null,null,null,null,null,null,null,null,null,null,null,null,null,null,null,null,null,null,null,null,null,null,null,null,null,null,null,null,null,null,null,null,null,null,null,null,null,null,null,null,null,null,null,null,null,null,null,null,null,null,null,null,null,null,null,null,null,null,null,null,null,null,null,null,null,null,null,null,null,null,null,null,null,null,null,null,null,null,null,null,null,null,null,null,null,null,null,null,null,null,null,null,null,null,null,null,null,null,null,null,null,null,null,null,null,null,null,null,null,null,null,null,null,null,null,null,null,null,null,null,null,null,null,null,null,null,null,null,null,null,null,null,null,null,null,null,null,null,null,null,null,null,null,null,null,null,null,null,null,null,null,null,null,null,null,null,null,null,null,null,null,null,null,null,null,null,null,null,null,null,null,null,null,null,null,null,null,null,null,null,null,null,null,null,null,null,null,null,null,null,null,null,null,null,null,null,null,{"$f":"GP382+(GR382-GP382)/2-GR383/2","v":92},{"$f":"GQ382-GS383","v":20},80,15,{"$f":"ROUND(GR382-GP382,1)","v":27.3},{"$f":"GU381","v":12},"H"]
[null,null,null,null,null,null,null,null,null,null,null,null,null,null,null,null,null,null,null,null,null,null,null,null,null,null,null,null,null,null,null,null,null,null,null,null,null,null,null,null,null,null,null,null,null,null,null,null,null,null,null,null,null,null,null,null,null,null,null,null,null,null,null,null,null,null,null,null,null,null,null,null,null,null,null,null,null,null,null,null,null,null,null,null,null,null,null,null,null,null,null,null,null,null,null,null,null,null,null,null,null,null,null,null,null,null,null,null,null,null,null,null,null,null,null,null,null,null,null,null,null,null,null,null,null,null,null,null,null,null,null,null,null,null,null,null,null,null,null,null,null,null,null,null,null,null,null,null,null,null,null,null,null,null,null,null,null,null,null,null,null,null,null,null,null,null,null,null,null,null,null,null,null,null,null,null,null,null,null,null,null,null,null,null,null,null,null,null,null,null,null,null,null,null,null,null,null,{"$f":"$FP$359-'Исходные данные'!$F$18/2","v":124},{"$f":"GQ382+20","v":55},{"$f":"$FP$359+'Исходные данные'!$F$18/2","v":140},{"$f":"GQ384","v":55},0.5,64]
[null,null,null,null,null,null,null,null,null,null,null,null,null,null,null,null,null,null,null,null,null,null,null,null,null,null,null,null,null,null,null,null,null,null,null,null,null,null,null,null,null,null,null,null,null,null,null,null,null,null,null,null,null,null,null,null,null,null,null,null,null,null,null,null,null,null,null,null,null,null,null,null,null,null,null,null,null,null,null,null,null,null,null,null,null,null,null,null,null,null,null,null,null,null,null,null,null,null,null,null,null,null,null,null,null,null,null,null,null,null,null,null,null,null,null,null,null,null,null,null,null,null,null,null,null,null,null,null,null,null,null,null,null,null,null,null,null,null,null,null,null,null,null,null,null,null,null,null,null,null,null,null,null,null,null,null,null,null,null,null,null,null,null,null,null,null,null,null,null,null,null,null,null,null,null,null,null,null,null,null,null,null,null,null,null,null,null,null,null,null,null,null,null,null,null,null,null,{"$f":"GP384+(GR384-GP384)/2-GR385/2","v":92},{"$f":"GQ384-GS385","v":40},80,15,{"$f":"ROUND(GR384-GP384,1)","v":16},{"$f":"GU383","v":12},"H"]
[null,null,null,null,null,null,null,null,null,null,null,null,null,null,null,null,null,null,null,null,null,null,null,null,null,null,null,null,null,null,null,null,null,null,null,null,null,null,null,null,null,null,null,null,null,null,null,null,null,null,null,null,null,null,null,null,null,null,null,null,null,null,null,null,null,null,null,null,null,null,null,null,null,null,null,null,null,null,null,null,null,null,null,null,null,null,null,null,null,null,null,null,null,null,null,null,null,null,null,null,null,null,null,null,null,null,null,null,null,null,null,null,null,null,null,null,null,null,null,null,null,null,null,null,null,null,null,null,null,null,null,null,null,null,null,null,null,null,null,null,null,null,null,null,null,null,null,null,null,null,null,null,null,null,null,null,null,null,null,null,null,null,null,null,null,null,null,null,null,null,null,null,null,null,null,null,null,null,null,null,null,null,null,null,null,null,null,null,null,null,null,null,null,null,null,null,null,{"$f":"$FP$359-'Исходные данные'!$F$10/2","v":122.55500000000001},{"$f":"GQ384+20","v":75},{"$f":"$FP$359+'Исходные данные'!$F$10/2","v":141.44499999999999},{"$f":"GQ386","v":75},0.5,64]
[null,null,null,null,null,null,null,null,null,null,null,null,null,null,null,null,null,null,null,null,null,null,null,null,null,null,null,null,null,null,null,null,null,null,null,null,null,null,null,null,null,null,null,null,null,null,null,null,null,null,null,null,null,null,null,null,null,null,null,null,null,null,null,null,null,null,null,null,null,null,null,null,null,null,null,null,null,null,null,null,null,null,null,null,null,null,null,null,null,null,null,null,null,null,null,null,null,null,null,null,null,null,null,null,null,null,null,null,null,null,null,null,null,null,null,null,null,null,null,null,null,null,null,null,null,null,null,null,null,null,null,null,null,null,null,null,null,null,null,null,null,null,null,null,null,null,null,null,null,null,null,null,null,null,null,null,null,null,null,null,null,null,null,null,null,null,null,null,null,null,null,null,null,null,null,null,null,null,null,null,null,null,null,null,null,null,null,null,null,null,null,null,null,null,null,null,null,{"$f":"GP386+(GR386-GP386)/2-GR387/2","v":92},{"$f":"GQ386-GS387","v":60},80,15,{"$f":"ROUND(GR386-GP386,1)","v":18.899999999999999},{"$f":"GU385","v":12},"H"]
[null,null,null,null,null,null,null,null,null,null,null,null,null,null,null,null,null,null,null,null,null,null,null,null,null,null,null,null,null,null,null,null,null,null,null,null,null,null,null,null,null,null,null,null,null,null,null,null,null,null,null,null,null,null,null,null,null,null,null,null,null,null,null,null,null,null,null,null,null,null,null,null,null,null,null,null,null,null,null,null,null,null,null,null,null,null,null,null,null,null,null,null,null,null,null,null,null,null,null,null,null,null,null,null,null,null,null,null,null,null,null,null,null,null,null,null,null,null,null,null,null,null,null,null,null,null,null,null,null,null,null,null,null,null,null,null,null,null,null,null,null,null,null,null,null,null,null,null,null,null,null,null,null,null,null,null,null,null,null,null,null,null,null,null,null,null,null,null,null,null,null,null,null,null,null,null,null,null,null,null,null,null,null,null,null,null,null,null,null,null,null,null,null,null,null,null,null,{"$f":"$FP$359-'Исходные данные'!$F$46/2","v":109.5012662197594},{"$f":"FQ359+'Исходные данные'!$F$46/2+20","v":284.49873378024063},{"$f":"$FP$359+'Исходные данные'!$F$46/2","v":154.4987337802406},{"$f":"GQ388","v":284.49873378024063},0.5,64]
[null,null,null,null,null,null,null,null,null,null,null,null,null,null,null,null,null,null,null,null,null,null,null,null,null,null,null,null,null,null,null,null,null,null,null,null,null,null,null,null,null,null,null,null,null,null,null,null,null,null,null,null,null,null,null,null,null,null,null,null,null,null,null,null,null,null,null,null,null,null,null,null,null,null,null,null,null,null,null,null,null,null,null,null,null,null,null,null,null,null,null,null,null,null,null,null,null,null,null,null,null,null,null,null,null,null,null,null,null,null,null,null,null,null,null,null,null,null,null,null,null,null,null,null,null,null,null,null,null,null,null,null,null,null,null,null,null,null,null,null,null,null,null,null,null,null,null,null,null,null,null,null,null,null,null,null,null,null,null,null,null,null,null,null,null,null,null,null,null,null,null,null,null,null,null,null,null,null,null,null,null,null,null,null,null,null,null,null,null,null,null,null,null,null,null,null,null,{"$f":"GP388+(GR388-GP388)/2-GR389/2","v":92},{"$f":"GQ388-GS389","v":269.49873378024063},80,15,{"$f":"ROUND(GR388-GP388,1)","v":45},{"$f":"GU387","v":12},"H"]
[null,null,null,null,null,null,null,null,null,null,null,null,null,null,null,null,null,null,null,null,null,null,null,null,null,null,null,null,null,null,null,null,null,null,null,null,null,null,null,null,null,null,null,null,null,null,null,null,null,null,null,null,null,null,null,null,null,null,null,null,null,null,null,null,null,null,null,null,null,null,null,null,null,null,null,null,null,null,null,null,null,null,null,null,null,null,null,null,null,null,null,null,null,null,null,null,null,null,null,null,null,null,null,null,null,null,null,null,null,null,null,null,null,null,null,null,null,null,null,null,null,null,null,null,null,null,null,null,null,null,null,null,null,null,null,null,null,null,null,null,null,null,null,null,null,null,null,null,null,null,null,null,null,null,null,null,null,null,null,null,null,null,null,null,null,null,null,null,null,null,null,null,null,null,null,null,null,null,null,null,null,null,null,null,null,null,null,null,null,null,null,null,null,null,null,null,"Выносные линии",{"$f":"GP382","v":118.372},{"$f":"$FQ$359-'Исходные данные'!$F$12-60","v":35},{"$f":"GP390","v":118.372},{"$f":"$FQ$359-'Исходные данные'!$F$34/2","v":158},0.25,63]
[null,null,null,null,null,null,null,null,null,null,null,null,null,null,null,null,null,null,null,null,null,null,null,null,null,null,null,null,null,null,null,null,null,null,null,null,null,null,null,null,null,null,null,null,null,null,null,null,null,null,null,null,null,null,null,null,null,null,null,null,null,null,null,null,null,null,null,null,null,null,null,null,null,null,null,null,null,null,null,null,null,null,null,null,null,null,null,null,null,null,null,null,null,null,null,null,null,null,null,null,null,null,null,null,null,null,null,null,null,null,null,null,null,null,null,null,null,null,null,null,null,null,null,null,null,null,null,null,null,null,null,null,null,null,null,null,null,null,null,null,null,null,null,null,null,null,null,null,null,null,null,null,null,null,null,null,null,null,null,null,null,null,null,null,null,null,null,null,null,null,null,null,null,null,null,null,null,null,null,null,null,null,null,null,null,null,null,null,null,null,null,null,null,null,null,null,null,{"$f":"GR382","v":145.62799999999999},{"$f":"$FQ$359-'Исходные данные'!$F$12-60","v":35},{"$f":"GR382","v":145.62799999999999},{"$f":"$FQ$359-'Исходные данные'!$F$34/2","v":158},0.25,63]
[null,null,null,null,null,null,null,null,null,null,null,null,null,null,null,null,null,null,null,null,null,null,null,null,null,null,null,null,null,null,null,null,null,null,null,null,null,null,null,null,null,null,null,null,null,null,null,null,null,null,null,null,null,null,null,null,null,null,null,null,null,null,null,null,null,null,null,null,null,null,null,null,null,null,null,null,null,null,null,null,null,null,null,null,null,null,null,null,null,null,null,null,null,null,null,null,null,null,null,null,null,null,null,null,null,null,null,null,null,null,null,null,null,null,null,null,null,null,null,null,null,null,null,null,null,null,null,null,null,null,null,null,null,null,null,null,null,null,null,null,null,null,null,null,null,null,null,null,null,null,null,null,null,null,null,null,null,null,null,null,null,null,null,null,null,null,null,null,null,null,null,null,null,null,null,null,null,null,null,null,null,null,null,null,null,null,null,null,null,null,null,null,null,null,null,null,null,{"$f":"GP384","v":124},{"$f":"GQ384","v":55},{"$f":"GP392","v":124},{"$f":"$FQ$359-'Исходные данные'!$F$12","v":95},0.25,63]
[null,null,null,null,null,null,null,null,null,null,null,null,null,null,null,null,null,null,null,null,null,null,null,null,null,null,null,null,null,null,null,null,null,null,null,null,null,null,null,null,null,null,null,null,null,null,null,null,null,null,null,null,null,null,null,null,null,null,null,null,null,null,null,null,null,null,null,null,null,null,null,null,null,null,null,null,null,null,null,null,null,null,null,null,null,null,null,null,null,null,null,null,null,null,null,null,null,null,null,null,null,null,null,null,null,null,null,null,null,null,null,null,null,null,null,null,null,null,null,null,null,null,null,null,null,null,null,null,null,null,null,null,null,null,null,null,null,null,null,null,null,null,null,null,null,null,null,null,null,null,null,null,null,null,null,null,null,null,null,null,null,null,null,null,null,null,null,null,null,null,null,null,null,null,null,null,null,null,null,null,null,null,null,null,null,null,null,null,null,null,null,null,null,null,null,null,null,{"$f":"GR384","v":140},{"$f":"GQ384","v":55},{"$f":"GR384","v":140},{"$f":"$FQ$359-'Исходные данные'!$F$12","v":95},0.25,63]
[null,null,null,null,null,null,null,null,null,null,null,null,null,null,null,null,null,null,null,null,null,null,null,null,null,null,null,null,null,null,null,null,null,null,null,null,null,null,null,null,null,null,null,null,null,null,null,null,null,null,null,null,null,null,null,null,null,null,null,null,null,null,null,null,null,null,null,null,null,null,null,null,null,null,null,null,null,null,null,null,null,null,null,null,null,null,null,null,null,null,null,null,null,null,null,null,null,null,null,null,null,null,null,null,null,null,null,null,null,null,null,null,null,null,null,null,null,null,null,null,null,null,null,null,null,null,null,null,null,null,null,null,null,null,null,null,null,null,null,null,null,null,null,null,null,null,null,null,null,null,null,null,null,null,null,null,null,null,null,null,null,null,null,null,null,null,null,null,null,null,null,null,null,null,null,null,null,null,null,null,null,null,null,null,null,null,null,null,null,null,null,null,null,null,null,null,null,{"$f":"GP386","v":122.55500000000001},{"$f":"GQ386","v":75},{"$f":"GP386","v":122.55500000000001},{"$f":"$FQ$359-'Исходные данные'!$F$12","v":95},0.25,63]
[null,null,null,null,null,null,null,null,null,null,null,null,null,null,null,null,null,null,null,null,null,null,null,null,null,null,null,null,null,null,null,null,null,null,null,null,null,null,null,null,null,null,null,null,null,null,null,null,null,null,null,null,null,null,null,null,null,null,null,null,null,null,null,null,null,null,null,null,null,null,null,null,null,null,null,null,null,null,null,null,null,null,null,null,null,null,null,null,null,null,null,null,null,null,null,null,null,null,null,null,null,null,null,null,null,null,null,null,null,null,null,null,null,null,null,null,null,null,null,null,null,null,null,null,null,null,null,null,null,null,null,null,null,null,null,null,null,null,null,null,null,null,null,null,null,null,null,null,null,null,null,null,null,null,null,null,null,null,null,null,null,null,null,null,null,null,null,null,null,null,null,null,null,null,null,null,null,null,null,null,null,null,null,null,null,null,null,null,null,null,null,null,null,null,null,null,null,{"$f":"GR386","v":141.44499999999999},{"$f":"GQ386","v":75},{"$f":"GR386","v":141.44499999999999},{"$f":"$FQ$359-'Исходные данные'!$F$12","v":95},0.25,63]
[null,null,null,null,null,null,null,null,null,null,null,null,null,null,null,null,null,null,null,null,null,null,null,null,null,null,null,null,null,null,null,null,null,null,null,null,null,null,null,null,null,null,null,null,null,null,null,null,null,null,null,null,null,null,null,null,null,null,null,null,null,null,null,null,null,null,null,null,null,null,null,null,null,null,null,null,null,null,null,null,null,null,null,null,null,null,null,null,null,null,null,null,null,null,null,null,null,null,null,null,null,null,null,null,null,null,null,null,null,null,null,null,null,null,null,null,null,null,null,null,null,null,null,null,null,null,null,null,null,null,null,null,null,null,null,null,null,null,null,null,null,null,null,null,null,null,null,null,null,null,null,null,null,null,null,null,null,null,null,null,null,null,null,null,null,null,null,null,null,null,null,null,null,null,null,null,null,null,null,null,null,null,null,null,null,null,null,null,null,null,null,null,null,null,null,null,null,{"$f":"GP388","v":109.5012662197594},{"$f":"FQ359","v":242},{"$f":"GP396","v":109.5012662197594},{"$f":"GQ396+'Исходные данные'!$F$46/2+20","v":284.49873378024063},0.25,63]
[null,null,null,null,null,null,null,null,null,null,null,null,null,null,null,null,null,null,null,null,null,null,null,null,null,null,null,null,null,null,null,null,null,null,null,null,null,null,null,null,null,null,null,null,null,null,null,null,null,null,null,null,null,null,null,null,null,null,null,null,null,null,null,null,null,null,null,null,null,null,null,null,null,null,null,null,null,null,null,null,null,null,null,null,null,null,null,null,null,null,null,null,null,null,null,null,null,null,null,null,null,null,null,null,null,null,null,null,null,null,null,null,null,null,null,null,null,null,null,null,null,null,null,null,null,null,null,null,null,null,null,null,null,null,null,null,null,null,null,null,null,null,null,null,null,null,null,null,null,null,null,null,null,null,null,null,null,null,null,null,null,null,null,null,null,null,null,null,null,null,null,null,null,null,null,null,null,null,null,null,null,null,null,null,null,null,null,null,null,null,null,null,null,null,null,null,null,{"$f":"GR388","v":154.4987337802406},{"$f":"FQ359","v":242},{"$f":"GR388","v":154.4987337802406},{"$f":"GQ396+'Исходные данные'!$F$46/2+20","v":284.49873378024063},0.25,63]

{"sheet":"Расчёт диафрагм","index":6,"n_rows":111,"n_cols":11,"rows_kept":111,"cut":false,"hidden":false,"merged":[[4,9,5,9],[4,10,5,10],[4,5,4,6],[4,4,5,4],[4,7,5,7],[4,8,5,8]]}
[]
[]
[]
[]
[null,null,null,null,"№ ","Положение относительно первой диафрагмы",null,"R1 (мм)","R2 (мм)","X1  (мм)","X2  (мм)"]
[null,null,null,null,null,"B1  (мм)","B2  (мм)"]
[null,null,null,null,{"$f":"IF(Чертёж!$GN2318=1,Чертёж!GF2318,\"\")","v":1},{"$f":"IF(Чертёж!$GN2318=1,Чертёж!GG2318,\"\")","v":0},{"$f":"IF(Чертёж!$GN2318=1,Чертёж!GH2318,\"\")","v":0},{"$f":"IF(Чертёж!$GN2318=1,Чертёж!GI2318,\"\")","v":82},{"$f":"IF(Чертёж!$GN2318=1,Чертёж!GJ2318,\"\")","v":82},{"$f":"IF(Чертёж!$GN2318=1,Чертёж!GK2318,\"\")","v":60.325722486524462},{"$f":"IF(Чертёж!$GN2318=1,Чертёж!GL2318,\"\")","v":60.325722486524462}]
[null,null,null,null,{"$f":"IF(Чертёж!$GN2319=1,Чертёж!GF2319,\"\")","v":2},{"$f":"IF(Чертёж!$GN2319=1,Чертёж!GG2319,\"\")","v":0},{"$f":"IF(Чертёж!$GN2319=1,Чертёж!GH2319,\"\")","v":0},{"$f":"IF(Чертёж!$GN2319=1,Чертёж!GI2319,\"\")","v":82},{"$f":"IF(Чертёж!$GN2319=1,Чертёж!GJ2319,\"\")","v":82},{"$f":"IF(Чертёж!$GN2319=1,Чертёж!GK2319,\"\")","v":60.325722486524462},{"$f":"IF(Чертёж!$GN2319=1,Чертёж!GL2319,\"\")","v":60.325722486524462}]
[null,null,null,null,{"$f":"IF(Чертёж!$GN2320=1,Чертёж!GF2320,\"\")","v":3},{"$f":"IF(Чертёж!$GN2320=1,Чертёж!GG2320,\"\")","v":0},{"$f":"IF(Чертёж!$GN2320=1,Чертёж!GH2320,\"\")","v":0},{"$f":"IF(Чертёж!$GN2320=1,Чертёж!GI2320,\"\")","v":82},{"$f":"IF(Чертёж!$GN2320=1,Чертёж!GJ2320,\"\")","v":82},{"$f":"IF(Чертёж!$GN2320=1,Чертёж!GK2320,\"\")","v":60.325722486524462},{"$f":"IF(Чертёж!$GN2320=1,Чертёж!GL2320,\"\")","v":60.325722486524462}]
[null,null,null,null,{"$f":"IF(Чертёж!$GN2321=1,Чертёж!GF2321,\"\")","v":4},{"$f":"IF(Чертёж!$GN2321=1,Чертёж!GG2321,\"\")","v":0},{"$f":"IF(Чертёж!$GN2321=1,Чертёж!GH2321,\"\")","v":0},{"$f":"IF(Чертёж!$GN2321=1,Чертёж!GI2321,\"\")","v":82},{"$f":"IF(Чертёж!$GN2321=1,Чертёж!GJ2321,\"\")","v":82},{"$f":"IF(Чертёж!$GN2321=1,Чертёж!GK2321,\"\")","v":60.325722486524462},{"$f":"IF(Чертёж!$GN2321=1,Чертёж!GL2321,\"\")","v":60.325722486524462}]
[null,null,null,null,{"$f":"IF(Чертёж!$GN2322=1,Чертёж!GF2322,\"\")","v":5},{"$f":"IF(Чертёж!$GN2322=1,Чертёж!GG2322,\"\")","v":0},{"$f":"IF(Чертёж!$GN2322=1,Чертёж!GH2322,\"\")","v":0},{"$f":"IF(Чертёж!$GN2322=1,Чертёж!GI2322,\"\")","v":82},{"$f":"IF(Чертёж!$GN2322=1,Чертёж!GJ2322,\"\")","v":82},{"$f":"IF(Чертёж!$GN2322=1,Чертёж!GK2322,\"\")","v":60.325722486524462},{"$f":"IF(Чертёж!$GN2322=1,Чертёж!GL2322,\"\")","v":60.325722486524462}]
[null,null,null,null,{"$f":"IF(Чертёж!$GN2323=1,Чертёж!GF2323,\"\")","v":6},{"$f":"IF(Чертёж!$GN2323=1,Чертёж!GG2323,\"\")","v":0},{"$f":"IF(Чертёж!$GN2323=1,Чертёж!GH2323,\"\")","v":0},{"$f":"IF(Чертёж!$GN2323=1,Чертёж!GI2323,\"\")","v":82},{"$f":"IF(Чертёж!$GN2323=1,Чертёж!GJ2323,\"\")","v":82},{"$f":"IF(Чертёж!$GN2323=1,Чертёж!GK2323,\"\")","v":60.325722486524462},{"$f":"IF(Чертёж!$GN2323=1,Чертёж!GL2323,\"\")","v":60.325722486524462}]
[null,null,null,null,{"$f":"IF(Чертёж!$GN2324=1,Чертёж!GF2324,\"\")","v":7},{"$f":"IF(Чертёж!$GN2324=1,Чертёж!GG2324,\"\")","v":0},{"$f":"IF(Чертёж!$GN2324=1,Чертёж!GH2324,\"\")","v":0},{"$f":"IF(Чертёж!$GN2324=1,Чертёж!GI2324,\"\")","v":82},{"$f":"IF(Чертёж!$GN2324=1,Чертёж!GJ2324,\"\")","v":82},{"$f":"IF(Чертёж!$GN2324=1,Чертёж!GK2324,\"\")","v":60.325722486524462},{"$f":"IF(Чертёж!$GN2324=1,Чертёж!GL2324,\"\")","v":60.325722486524462}]
[null,null,null,null,{"$f":"IF(Чертёж!$GN2325=1,Чертёж!GF2325,\"\")","v":8},{"$f":"IF(Чертёж!$GN2325=1,Чертёж!GG2325,\"\")","v":0},{"$f":"IF(Чертёж!$GN2325=1,Чертёж!GH2325,\"\")","v":0},{"$f":"IF(Чертёж!$GN2325=1,Чертёж!GI2325,\"\")","v":82},{"$f":"IF(Чертёж!$GN2325=1,Чертёж!GJ2325,\"\")","v":82},{"$f":"IF(Чертёж!$GN2325=1,Чертёж!GK2325,\"\")","v":60.325722486524462},{"$f":"IF(Чертёж!$GN2325=1,Чертёж!GL2325,\"\")","v":60.325722486524462}]
[null,null,null,null,{"$f":"IF(Чертёж!$GN2326=1,Чертёж!GF2326,\"\")","v":9},{"$f":"IF(Чертёж!$GN2326=1,Чертёж!GG2326,\"\")","v":0},{"$f":"IF(Чертёж!$GN2326=1,Чертёж!GH2326,\"\")","v":0},{"$f":"IF(Чертёж!$GN2326=1,Чертёж!GI2326,\"\")","v":82},{"$f":"IF(Чертёж!$GN2326=1,Чертёж!GJ2326,\"\")","v":82},{"$f":"IF(Чертёж!$GN2326=1,Чертёж!GK2326,\"\")","v":60.325722486524462},{"$f":"IF(Чертёж!$GN2326=1,Чертёж!GL2326,\"\")","v":60.325722486524462}]
[null,null,null,null,{"$f":"IF(Чертёж!$GN2327=1,Чертёж!GF2327,\"\")","v":10},{"$f":"IF(Чертёж!$GN2327=1,Чертёж!GG2327,\"\")","v":0},{"$f":"IF(Чертёж!$GN2327=1,Чертёж!GH2327,\"\")","v":0},{"$f":"IF(Чертёж!$GN2327=1,Чертёж!GI2327,\"\")","v":82},{"$f":"IF(Чертёж!$GN2327=1,Чертёж!GJ2327,\"\")","v":82},{"$f":"IF(Чертёж!$GN2327=1,Чертёж!GK2327,\"\")","v":60.325722486524462},{"$f":"IF(Чертёж!$GN2327=1,Чертёж!GL2327,\"\")","v":60.325722486524462}]
[null,null,null,null,{"$f":"IF(Чертёж!$GN2328=1,Чертёж!GF2328,\"\")","v":11},{"$f":"IF(Чертёж!$GN2328=1,Чертёж!GG2328,\"\")","v":0},{"$f":"IF(Чертёж!$GN2328=1,Чертёж!GH2328,\"\")","v":0},{"$f":"IF(Чертёж!$GN2328=1,Чертёж!GI2328,\"\")","v":82},{"$f":"IF(Чертёж!$GN2328=1,Чертёж!GJ2328,\"\")","v":82},{"$f":"IF(Чертёж!$GN2328=1,Чертёж!GK2328,\"\")","v":60.325722486524462},{"$f":"IF(Чертёж!$GN2328=1,Чертёж!GL2328,\"\")","v":60.325722486524462}]
[null,null,null,null,{"$f":"IF(Чертёж!$GN2329=1,Чертёж!GF2329,\"\")","v":12},{"$f":"IF(Чертёж!$GN2329=1,Чертёж!GG2329,\"\")","v":0},{"$f":"IF(Чертёж!$GN2329=1,Чертёж!GH2329,\"\")","v":0},{"$f":"IF(Чертёж!$GN2329=1,Чертёж!GI2329,\"\")","v":82},{"$f":"IF(Чертёж!$GN2329=1,Чертёж!GJ2329,\"\")","v":82},{"$f":"IF(Чертёж!$GN2329=1,Чертёж!GK2329,\"\")","v":60.325722486524462},{"$f":"IF(Чертёж!$GN2329=1,Чертёж!GL2329,\"\")","v":60.325722486524462}]
[null,null,null,null,{"$f":"IF(Чертёж!$GN2330=1,Чертёж!GF2330,\"\")","v":13},{"$f":"IF(Чертёж!$GN2330=1,Чертёж!GG2330,\"\")","v":0},{"$f":"IF(Чертёж!$GN2330=1,Чертёж!GH2330,\"\")","v":0},{"$f":"IF(Чертёж!$GN2330=1,Чертёж!GI2330,\"\")","v":82},{"$f":"IF(Чертёж!$GN2330=1,Чертёж!GJ2330,\"\")","v":82},{"$f":"IF(Чертёж!$GN2330=1,Чертёж!GK2330,\"\")","v":60.325722486524462},{"$f":"IF(Чертёж!$GN2330=1,Чертёж!GL2330,\"\")","v":60.325722486524462}]
[null,null,null,null,{"$f":"IF(Чертёж!$GN2331=1,Чертёж!GF2331,\"\")","v":14},{"$f":"IF(Чертёж!$GN2331=1,Чертёж!GG2331,\"\")","v":0},{"$f":"IF(Чертёж!$GN2331=1,Чертёж!GH2331,\"\")","v":0},{"$f":"IF(Чертёж!$GN2331=1,Чертёж!GI2331,\"\")","v":82},{"$f":"IF(Чертёж!$GN2331=1,Чертёж!GJ2331,\"\")","v":82},{"$f":"IF(Чертёж!$GN2331=1,Чертёж!GK2331,\"\")","v":60.325722486524462},{"$f":"IF(Чертёж!$GN2331=1,Чертёж!GL2331,\"\")","v":60.325722486524462}]
[null,null,null,null,{"$f":"IF(Чертёж!$GN2332=1,Чертёж!GF2332,\"\")","v":15},{"$f":"IF(Чертёж!$GN2332=1,Чертёж!GG2332,\"\")","v":0},{"$f":"IF(Чертёж!$GN2332=1,Чертёж!GH2332,\"\")","v":0},{"$f":"IF(Чертёж!$GN2332=1,Чертёж!GI2332,\"\")","v":82},{"$f":"IF(Чертёж!$GN2332=1,Чертёж!GJ2332,\"\")","v":82},{"$f":"IF(Чертёж!$GN2332=1,Чертёж!GK2332,\"\")","v":60.325722486524462},{"$f":"IF(Чертёж!$GN2332=1,Чертёж!GL2332,\"\")","v":60.325722486524462}]
[null,null,null,null,{"$f":"IF(Чертёж!$GN2333=1,Чертёж!GF2333,\"\")","v":16},{"$f":"IF(Чертёж!$GN2333=1,Чертёж!GG2333,\"\")","v":0},{"$f":"IF(Чертёж!$GN2333=1,Чертёж!GH2333,\"\")","v":0},{"$f":"IF(Чертёж!$GN2333=1,Чертёж!GI2333,\"\")","v":82},{"$f":"IF(Чертёж!$GN2333=1,Чертёж!GJ2333,\"\")","v":82},{"$f":"IF(Чертёж!$GN2333=1,Чертёж!GK2333,\"\")","v":60.325722486524462},{"$f":"IF(Чертёж!$GN2333=1,Чертёж!GL2333,\"\")","v":60.325722486524462}]
[null,null,null,null,{"$f":"IF(Чертёж!$GN2334=1,Чертёж!GF2334,\"\")","v":17},{"$f":"IF(Чертёж!$GN2334=1,Чертёж!GG2334,\"\")","v":0},{"$f":"IF(Чертёж!$GN2334=1,Чертёж!GH2334,\"\")","v":0},{"$f":"IF(Чертёж!$GN2334=1,Чертёж!GI2334,\"\")","v":82},{"$f":"IF(Чертёж!$GN2334=1,Чертёж!GJ2334,\"\")","v":82},{"$f":"IF(Чертёж!$GN2334=1,Чертёж!GK2334,\"\")","v":60.325722486524462},{"$f":"IF(Чертёж!$GN2334=1,Чертёж!GL2334,\"\")","v":60.325722486524462}]
[null,null,null,null,{"$f":"IF(Чертёж!$GN2335=1,Чертёж!GF2335,\"\")","v":18},{"$f":"IF(Чертёж!$GN2335=1,Чертёж!GG2335,\"\")","v":0},{"$f":"IF(Чертёж!$GN2335=1,Чертёж!GH2335,\"\")","v":0},{"$f":"IF(Чертёж!$GN2335=1,Чертёж!GI2335,\"\")","v":82},{"$f":"IF(Чертёж!$GN2335=1,Чертёж!GJ2335,\"\")","v":82},{"$f":"IF(Чертёж!$GN2335=1,Чертёж!GK2335,\"\")","v":60.325722486524462},{"$f":"IF(Чертёж!$GN2335=1,Чертёж!GL2335,\"\")","v":60.325722486524462}]
[null,null,null,null,{"$f":"IF(Чертёж!$GN2336=1,Чертёж!GF2336,\"\")","v":19},{"$f":"IF(Чертёж!$GN2336=1,Чертёж!GG2336,\"\")","v":0},{"$f":"IF(Чертёж!$GN2336=1,Чертёж!GH2336,\"\")","v":0},{"$f":"IF(Чертёж!$GN2336=1,Чертёж!GI2336,\"\")","v":82},{"$f":"IF(Чертёж!$GN2336=1,Чертёж!GJ2336,\"\")","v":82},{"$f":"IF(Чертёж!$GN2336=1,Чертёж!GK2336,\"\")","v":60.325722486524462},{"$f":"IF(Чертёж!$GN2336=1,Чертёж!GL2336,\"\")","v":60.325722486524462}]
[null,null,null,null,{"$f":"IF(Чертёж!$GN2337=1,Чертёж!GF2337,\"\")","v":20},{"$f":"IF(Чертёж!$GN2337=1,Чертёж!GG2337,\"\")","v":0},{"$f":"IF(Чертёж!$GN2337=1,Чертёж!GH2337,\"\")","v":0},{"$f":"IF(Чертёж!$GN2337=1,Чертёж!GI2337,\"\")","v":82},{"$f":"IF(Чертёж!$GN2337=1,Чертёж!GJ2337,\"\")","v":82},{"$f":"IF(Чертёж!$GN2337=1,Чертёж!GK2337,\"\")","v":60.325722486524462},{"$f":"IF(Чертёж!$GN2337=1,Чертёж!GL2337,\"\")","v":60.325722486524462}]
[null,null,null,null,{"$f":"IF(Чертёж!$GN2338=1,Чертёж!GF2338,\"\")","v":21},{"$f":"IF(Чертёж!$GN2338=1,Чертёж!GG2338,\"\")","v":0},{"$f":"IF(Чертёж!$GN2338=1,Чертёж!GH2338,\"\")","v":0},{"$f":"IF(Чертёж!$GN2338=1,Чертёж!GI2338,\"\")","v":82},{"$f":"IF(Чертёж!$GN2338=1,Чертёж!GJ2338,\"\")","v":82},{"$f":"IF(Чертёж!$GN2338=1,Чертёж!GK2338,\"\")","v":60.325722486524462},{"$f":"IF(Чертёж!$GN2338=1,Чертёж!GL2338,\"\")","v":60.325722486524462}]
[null,null,null,null,{"$f":"IF(Чертёж!$GN2339=1,Чертёж!GF2339,\"\")","v":22},{"$f":"IF(Чертёж!$GN2339=1,Чертёж!GG2339,\"\")","v":0},{"$f":"IF(Чертёж!$GN2339=1,Чертёж!GH2339,\"\")","v":0},{"$f":"IF(Чертёж!$GN2339=1,Чертёж!GI2339,\"\")","v":82},{"$f":"IF(Чертёж!$GN2339=1,Чертёж!GJ2339,\"\")","v":82},{"$f":"IF(Чертёж!$GN2339=1,Чертёж!GK2339,\"\")","v":60.325722486524462},{"$f":"IF(Чертёж!$GN2339=1,Чертёж!GL2339,\"\")","v":60.325722486524462}]
[null,null,null,null,{"$f":"IF(Чертёж!$GN2340=1,Чертёж!GF2340,\"\")","v":23},{"$f":"IF(Чертёж!$GN2340=1,Чертёж!GG2340,\"\")","v":0},{"$f":"IF(Чертёж!$GN2340=1,Чертёж!GH2340,\"\")","v":0},{"$f":"IF(Чертёж!$GN2340=1,Чертёж!GI2340,\"\")","v":82},{"$f":"IF(Чертёж!$GN2340=1,Чертёж!GJ2340,\"\")","v":82},{"$f":"IF(Чертёж!$GN2340=1,Чертёж!GK2340,\"\")","v":60.325722486524462},{"$f":"IF(Чертёж!$GN2340=1,Чертёж!GL2340,\"\")","v":60.325722486524462}]
[null,null,null,null,{"$f":"IF(Чертёж!$GN2341=1,Чертёж!GF2341,\"\")","v":24},{"$f":"IF(Чертёж!$GN2341=1,Чертёж!GG2341,\"\")","v":0},{"$f":"IF(Чертёж!$GN2341=1,Чертёж!GH2341,\"\")","v":0},{"$f":"IF(Чертёж!$GN2341=1,Чертёж!GI2341,\"\")","v":82},{"$f":"IF(Чертёж!$GN2341=1,Чертёж!GJ2341,\"\")","v":82},{"$f":"IF(Чертёж!$GN2341=1,Чертёж!GK2341,\"\")","v":60.325722486524462},{"$f":"IF(Чертёж!$GN2341=1,Чертёж!GL2341,\"\")","v":60.325722486524462}]
[null,null,null,null,{"$f":"IF(Чертёж!$GN2342=1,Чертёж!GF2342,\"\")","v":25},{"$f":"IF(Чертёж!$GN2342=1,Чертёж!GG2342,\"\")","v":0},{"$f":"IF(Чертёж!$GN2342=1,Чертёж!GH2342,\"\")","v":0},{"$f":"IF(Чертёж!$GN2342=1,Чертёж!GI2342,\"\")","v":82},{"$f":"IF(Чертёж!$GN2342=1,Чертёж!GJ2342,\"\")","v":82},{"$f":"IF(Чертёж!$GN2342=1,Чертёж!GK2342,\"\")","v":60.325722486524462},{"$f":"IF(Чертёж!$GN2342=1,Чертёж!GL2342,\"\")","v":60.325722486524462}]
[null,null,null,null,{"$f":"IF(Чертёж!$GN2343=1,Чертёж!GF2343,\"\")","v":26},{"$f":"IF(Чертёж!$GN2343=1,Чертёж!GG2343,\"\")","v":0},{"$f":"IF(Чертёж!$GN2343=1,Чертёж!GH2343,\"\")","v":0},{"$f":"IF(Чертёж!$GN2343=1,Чертёж!GI2343,\"\")","v":82},{"$f":"IF(Чертёж!$GN2343=1,Чертёж!GJ2343,\"\")","v":82},{"$f":"IF(Чертёж!$GN2343=1,Чертёж!GK2343,\"\")","v":60.325722486524462},{"$f":"IF(Чертёж!$GN2343=1,Чертёж!GL2343,\"\")","v":60.325722486524462}]
[null,null,null,null,{"$f":"IF(Чертёж!$GN2344=1,Чертёж!GF2344,\"\")","v":27},{"$f":"IF(Чертёж!$GN2344=1,Чертёж!GG2344,\"\")","v":0},{"$f":"IF(Чертёж!$GN2344=1,Чертёж!GH2344,\"\")","v":0},{"$f":"IF(Чертёж!$GN2344=1,Чертёж!GI2344,\"\")","v":82},{"$f":"IF(Чертёж!$GN2344=1,Чертёж!GJ2344,\"\")","v":82},{"$f":"IF(Чертёж!$GN2344=1,Чертёж!GK2344,\"\")","v":60.325722486524462},{"$f":"IF(Чертёж!$GN2344=1,Чертёж!GL2344,\"\")","v":60.325722486524462}]
[null,null,null,null,{"$f":"IF(Чертёж!$GN2345=1,Чертёж!GF2345,\"\")","v":28},{"$f":"IF(Чертёж!$GN2345=1,Чертёж!GG2345,\"\")","v":0},{"$f":"IF(Чертёж!$GN2345=1,Чертёж!GH2345,\"\")","v":0},{"$f":"IF(Чертёж!$GN2345=1,Чертёж!GI2345,\"\")","v":82},{"$f":"IF(Чертёж!$GN2345=1,Чертёж!GJ2345,\"\")","v":82},{"$f":"IF(Чертёж!$GN2345=1,Чертёж!GK2345,\"\")","v":60.325722486524462},{"$f":"IF(Чертёж!$GN2345=1,Чертёж!GL2345,\"\")","v":60.325722486524462}]
[null,null,null,null,{"$f":"IF(Чертёж!$GN2346=1,Чертёж!GF2346,\"\")","v":29},{"$f":"IF(Чертёж!$GN2346=1,Чертёж!GG2346,\"\")","v":0},{"$f":"IF(Чертёж!$GN2346=1,Чертёж!GH2346,\"\")","v":0},{"$f":"IF(Чертёж!$GN2346=1,Чертёж!GI2346,\"\")","v":82},{"$f":"IF(Чертёж!$GN2346=1,Чертёж!GJ2346,\"\")","v":82},{"$f":"IF(Чертёж!$GN2346=1,Чертёж!GK2346,\"\")","v":60.325722486524462},{"$f":"IF(Чертёж!$GN2346=1,Чертёж!GL2346,\"\")","v":60.325722486524462}]
[null,null,null,null,{"$f":"IF(Чертёж!$GN2347=1,Чертёж!GF2347,\"\")","v":30},{"$f":"IF(Чертёж!$GN2347=1,Чертёж!GG2347,\"\")","v":0},{"$f":"IF(Чертёж!$GN2347=1,Чертёж!GH2347,\"\")","v":0},{"$f":"IF(Чертёж!$GN2347=1,Чертёж!GI2347,\"\")","v":82},{"$f":"IF(Чертёж!$GN2347=1,Чертёж!GJ2347,\"\")","v":82},{"$f":"IF(Чертёж!$GN2347=1,Чертёж!GK2347,\"\")","v":60.325722486524462},{"$f":"IF(Чертёж!$GN2347=1,Чертёж!GL2347,\"\")","v":60.325722486524462}]
[null,null,null,null,{"$f":"IF(Чертёж!$GN2348=1,Чертёж!GF2348,\"\")","v":31},{"$f":"IF(Чертёж!$GN2348=1,Чертёж!GG2348,\"\")","v":0},{"$f":"IF(Чертёж!$GN2348=1,Чертёж!GH2348,\"\")","v":0},{"$f":"IF(Чертёж!$GN2348=1,Чертёж!GI2348,\"\")","v":82},{"$f":"IF(Чертёж!$GN2348=1,Чертёж!GJ2348,\"\")","v":82},{"$f":"IF(Чертёж!$GN2348=1,Чертёж!GK2348,\"\")","v":60.325722486524462},{"$f":"IF(Чертёж!$GN2348=1,Чертёж!GL2348,\"\")","v":60.325722486524462}]
[null,null,null,null,{"$f":"IF(Чертёж!$GN2349=1,Чертёж!GF2349,\"\")","v":32},{"$f":"IF(Чертёж!$GN2349=1,Чертёж!GG2349,\"\")","v":0},{"$f":"IF(Чертёж!$GN2349=1,Чертёж!GH2349,\"\")","v":0},{"$f":"IF(Чертёж!$GN2349=1,Чертёж!GI2349,\"\")","v":82},{"$f":"IF(Чертёж!$GN2349=1,Чертёж!GJ2349,\"\")","v":82},{"$f":"IF(Чертёж!$GN2349=1,Чертёж!GK2349,\"\")","v":60.325722486524462},{"$f":"IF(Чертёж!$GN2349=1,Чертёж!GL2349,\"\")","v":60.325722486524462}]
[null,null,null,null,{"$f":"IF(Чертёж!$GN2350=1,Чертёж!GF2350,\"\")","v":33},{"$f":"IF(Чертёж!$GN2350=1,Чертёж!GG2350,\"\")","v":0},{"$f":"IF(Чертёж!$GN2350=1,Чертёж!GH2350,\"\")","v":0},{"$f":"IF(Чертёж!$GN2350=1,Чертёж!GI2350,\"\")","v":82},{"$f":"IF(Чертёж!$GN2350=1,Чертёж!GJ2350,\"\")","v":82},{"$f":"IF(Чертёж!$GN2350=1,Чертёж!GK2350,\"\")","v":60.325722486524462},{"$f":"IF(Чертёж!$GN2350=1,Чертёж!GL2350,\"\")","v":60.325722486524462}]
[null,null,null,null,{"$f":"IF(Чертёж!$GN2351=1,Чертёж!GF2351,\"\")","v":34},{"$f":"IF(Чертёж!$GN2351=1,Чертёж!GG2351,\"\")","v":0},{"$f":"IF(Чертёж!$GN2351=1,Чертёж!GH2351,\"\")","v":0},{"$f":"IF(Чертёж!$GN2351=1,Чертёж!GI2351,\"\")","v":82},{"$f":"IF(Чертёж!$GN2351=1,Чертёж!GJ2351,\"\")","v":82},{"$f":"IF(Чертёж!$GN2351=1,Чертёж!GK2351,\"\")","v":60.325722486524462},{"$f":"IF(Чертёж!$GN2351=1,Чертёж!GL2351,\"\")","v":60.325722486524462}]
[null,null,null,null,{"$f":"IF(Чертёж!$GN2352=1,Чертёж!GF2352,\"\")","v":35},{"$f":"IF(Чертёж!$GN2352=1,Чертёж!GG2352,\"\")","v":0},{"$f":"IF(Чертёж!$GN2352=1,Чертёж!GH2352,\"\")","v":0},{"$f":"IF(Чертёж!$GN2352=1,Чертёж!GI2352,\"\")","v":82},{"$f":"IF(Чертёж!$GN2352=1,Чертёж!GJ2352,\"\")","v":82},{"$f":"IF(Чертёж!$GN2352=1,Чертёж!GK2352,\"\")","v":60.325722486524462},{"$f":"IF(Чертёж!$GN2352=1,Чертёж!GL2352,\"\")","v":60.325722486524462}]
[null,null,null,null,{"$f":"IF(Чертёж!$GN2353=1,Чертёж!GF2353,\"\")","v":36},{"$f":"IF(Чертёж!$GN2353=1,Чертёж!GG2353,\"\")","v":0},{"$f":"IF(Чертёж!$GN2353=1,Чертёж!GH2353,\"\")","v":0},{"$f":"IF(Чертёж!$GN2353=1,Чертёж!GI2353,\"\")","v":82},{"$f":"IF(Чертёж!$GN2353=1,Чертёж!GJ2353,\"\")","v":82},{"$f":"IF(Чертёж!$GN2353=1,Чертёж!GK2353,\"\")","v":60.325722486524462},{"$f":"IF(Чертёж!$GN2353=1,Чертёж!GL2353,\"\")","v":60.325722486524462}]
[null,null,null,null,{"$f":"IF(Чертёж!$GN2354=1,Чертёж!GF2354,\"\")","v":37},{"$f":"IF(Чертёж!$GN2354=1,Чертёж!GG2354,\"\")","v":0},{"$f":"IF(Чертёж!$GN2354=1,Чертёж!GH2354,\"\")","v":0},{"$f":"IF(Чертёж!$GN2354=1,Чертёж!GI2354,\"\")","v":82},{"$f":"IF(Чертёж!$GN2354=1,Чертёж!GJ2354,\"\")","v":82},{"$f":"IF(Чертёж!$GN2354=1,Чертёж!GK2354,\"\")","v":60.325722486524462},{"$f":"IF(Чертёж!$GN2354=1,Чертёж!GL2354,\"\")","v":60.325722486524462}]
[null,null,null,null,{"$f":"IF(Чертёж!$GN2355=1,Чертёж!GF2355,\"\")","v":38},{"$f":"IF(Чертёж!$GN2355=1,Чертёж!GG2355,\"\")","v":0},{"$f":"IF(Чертёж!$GN2355=1,Чертёж!GH2355,\"\")","v":0},{"$f":"IF(Чертёж!$GN2355=1,Чертёж!GI2355,\"\")","v":82},{"$f":"IF(Чертёж!$GN2355=1,Чертёж!GJ2355,\"\")","v":82},{"$f":"IF(Чертёж!$GN2355=1,Чертёж!GK2355,\"\")","v":60.325722486524462},{"$f":"IF(Чертёж!$GN2355=1,Чертёж!GL2355,\"\")","v":60.325722486524462}]
[null,null,null,null,{"$f":"IF(Чертёж!$GN2356=1,Чертёж!GF2356,\"\")","v":39},{"$f":"IF(Чертёж!$GN2356=1,Чертёж!GG2356,\"\")","v":0},{"$f":"IF(Чертёж!$GN2356=1,Чертёж!GH2356,\"\")","v":0},{"$f":"IF(Чертёж!$GN2356=1,Чертёж!GI2356,\"\")","v":82},{"$f":"IF(Чертёж!$GN2356=1,Чертёж!GJ2356,\"\")","v":82},{"$f":"IF(Чертёж!$GN2356=1,Чертёж!GK2356,\"\")","v":60.325722486524462},{"$f":"IF(Чертёж!$GN2356=1,Чертёж!GL2356,\"\")","v":60.325722486524462}]
[null,null,null,null,{"$f":"IF(Чертёж!$GN2357=1,Чертёж!GF2357,\"\")","v":40},{"$f":"IF(Чертёж!$GN2357=1,Чертёж!GG2357,\"\")","v":0},{"$f":"IF(Чертёж!$GN2357=1,Чертёж!GH2357,\"\")","v":0},{"$f":"IF(Чертёж!$GN2357=1,Чертёж!GI2357,\"\")","v":82},{"$f":"IF(Чертёж!$GN2357=1,Чертёж!GJ2357,\"\")","v":82},{"$f":"IF(Чертёж!$GN2357=1,Чертёж!GK2357,\"\")","v":60.325722486524462},{"$f":"IF(Чертёж!$GN2357=1,Чертёж!GL2357,\"\")","v":60.325722486524462}]
[null,null,null,null,{"$f":"IF(Чертёж!$GN2358=1,Чертёж!GF2358,\"\")","v":41},{"$f":"IF(Чертёж!$GN2358=1,Чертёж!GG2358,\"\")","v":0},{"$f":"IF(Чертёж!$GN2358=1,Чертёж!GH2358,\"\")","v":0},{"$f":"IF(Чертёж!$GN2358=1,Чертёж!GI2358,\"\")","v":82},{"$f":"IF(Чертёж!$GN2358=1,Чертёж!GJ2358,\"\")","v":82},{"$f":"IF(Чертёж!$GN2358=1,Чертёж!GK2358,\"\")","v":60.325722486524462},{"$f":"IF(Чертёж!$GN2358=1,Чертёж!GL2358,\"\")","v":60.325722486524462}]
[null,null,null,null,{"$f":"IF(Чертёж!$GN2359=1,Чертёж!GF2359,\"\")","v":42},{"$f":"IF(Чертёж!$GN2359=1,Чертёж!GG2359,\"\")","v":0},{"$f":"IF(Чертёж!$GN2359=1,Чертёж!GH2359,\"\")","v":0},{"$f":"IF(Чертёж!$GN2359=1,Чертёж!GI2359,\"\")","v":82},{"$f":"IF(Чертёж!$GN2359=1,Чертёж!GJ2359,\"\")","v":82},{"$f":"IF(Чертёж!$GN2359=1,Чертёж!GK2359,\"\")","v":60.325722486524462},{"$f":"IF(Чертёж!$GN2359=1,Чертёж!GL2359,\"\")","v":60.325722486524462}]
[null,null,null,null,{"$f":"IF(Чертёж!$GN2360=1,Чертёж!GF2360,\"\")","v":43},{"$f":"IF(Чертёж!$GN2360=1,Чертёж!GG2360,\"\")","v":0},{"$f":"IF(Чертёж!$GN2360=1,Чертёж!GH2360,\"\")","v":0},{"$f":"IF(Чертёж!$GN2360=1,Чертёж!GI2360,\"\")","v":82},{"$f":"IF(Чертёж!$GN2360=1,Чертёж!GJ2360,\"\")","v":82},{"$f":"IF(Чертёж!$GN2360=1,Чертёж!GK2360,\"\")","v":60.325722486524462},{"$f":"IF(Чертёж!$GN2360=1,Чертёж!GL2360,\"\")","v":60.325722486524462}]
[null,null,null,null,{"$f":"IF(Чертёж!$GN2361=1,Чертёж!GF2361,\"\")","v":44},{"$f":"IF(Чертёж!$GN2361=1,Чертёж!GG2361,\"\")","v":0},{"$f":"IF(Чертёж!$GN2361=1,Чертёж!GH2361,\"\")","v":0},{"$f":"IF(Чертёж!$GN2361=1,Чертёж!GI2361,\"\")","v":82},{"$f":"IF(Чертёж!$GN2361=1,Чертёж!GJ2361,\"\")","v":82},{"$f":"IF(Чертёж!$GN2361=1,Чертёж!GK2361,\"\")","v":60.325722486524462},{"$f":"IF(Чертёж!$GN2361=1,Чертёж!GL2361,\"\")","v":60.325722486524462}]
[null,null,null,null,{"$f":"IF(Чертёж!$GN2362=1,Чертёж!GF2362,\"\")","v":45},{"$f":"IF(Чертёж!$GN2362=1,Чертёж!GG2362,\"\")","v":0},{"$f":"IF(Чертёж!$GN2362=1,Чертёж!GH2362,\"\")","v":0},{"$f":"IF(Чертёж!$GN2362=1,Чертёж!GI2362,\"\")","v":82},{"$f":"IF(Чертёж!$GN2362=1,Чертёж!GJ2362,\"\")","v":82},{"$f":"IF(Чертёж!$GN2362=1,Чертёж!GK2362,\"\")","v":60.325722486524462},{"$f":"IF(Чертёж!$GN2362=1,Чертёж!GL2362,\"\")","v":60.325722486524462}]
[null,null,null,null,{"$f":"IF(Чертёж!$GN2363=1,Чертёж!GF2363,\"\")","v":46},{"$f":"IF(Чертёж!$GN2363=1,Чертёж!GG2363,\"\")","v":0},{"$f":"IF(Чертёж!$GN2363=1,Чертёж!GH2363,\"\")","v":0},{"$f":"IF(Чертёж!$GN2363=1,Чертёж!GI2363,\"\")","v":82},{"$f":"IF(Чертёж!$GN2363=1,Чертёж!GJ2363,\"\")","v":82},{"$f":"IF(Чертёж!$GN2363=1,Чертёж!GK2363,\"\")","v":60.325722486524462},{"$f":"IF(Чертёж!$GN2363=1,Чертёж!GL2363,\"\")","v":60.325722486524462}]
[null,null,null,null,{"$f":"IF(Чертёж!$GN2364=1,Чертёж!GF2364,\"\")","v":47},{"$f":"IF(Чертёж!$GN2364=1,Чертёж!GG2364,\"\")","v":0},{"$f":"IF(Чертёж!$GN2364=1,Чертёж!GH2364,\"\")","v":0},{"$f":"IF(Чертёж!$GN2364=1,Чертёж!GI2364,\"\")","v":82},{"$f":"IF(Чертёж!$GN2364=1,Чертёж!GJ2364,\"\")","v":82},{"$f":"IF(Чертёж!$GN2364=1,Чертёж!GK2364,\"\")","v":60.325722486524462},{"$f":"IF(Чертёж!$GN2364=1,Чертёж!GL2364,\"\")","v":60.325722486524462}]
[null,null,null,null,{"$f":"IF(Чертёж!$GN2365=1,Чертёж!GF2365,\"\")","v":48},{"$f":"IF(Чертёж!$GN2365=1,Чертёж!GG2365,\"\")","v":0},{"$f":"IF(Чертёж!$GN2365=1,Чертёж!GH2365,\"\")","v":0},{"$f":"IF(Чертёж!$GN2365=1,Чертёж!GI2365,\"\")","v":82},{"$f":"IF(Чертёж!$GN2365=1,Чертёж!GJ2365,\"\")","v":82},{"$f":"IF(Чертёж!$GN2365=1,Чертёж!GK2365,\"\")","v":60.325722486524462},{"$f":"IF(Чертёж!$GN2365=1,Чертёж!GL2365,\"\")","v":60.325722486524462}]
[null,null,null,null,{"$f":"IF(Чертёж!$GN2366=1,Чертёж!GF2366,\"\")","v":49},{"$f":"IF(Чертёж!$GN2366=1,Чертёж!GG2366,\"\")","v":0},{"$f":"IF(Чертёж!$GN2366=1,Чертёж!GH2366,\"\")","v":0},{"$f":"IF(Чертёж!$GN2366=1,Чертёж!GI2366,\"\")","v":82},{"$f":"IF(Чертёж!$GN2366=1,Чертёж!GJ2366,\"\")","v":82},{"$f":"IF(Чертёж!$GN2366=1,Чертёж!GK2366,\"\")","v":60.325722486524462},{"$f":"IF(Чертёж!$GN2366=1,Чертёж!GL2366,\"\")","v":60.325722486524462}]
[null,null,null,null,{"$f":"IF(Чертёж!$GN2367=1,Чертёж!GF2367,\"\")","v":50},{"$f":"IF(Чертёж!$GN2367=1,Чертёж!GG2367,\"\")","v":0},{"$f":"IF(Чертёж!$GN2367=1,Чертёж!GH2367,\"\")","v":0},{"$f":"IF(Чертёж!$GN2367=1,Чертёж!GI2367,\"\")","v":82},{"$f":"IF(Чертёж!$GN2367=1,Чертёж!GJ2367,\"\")","v":82},{"$f":"IF(Чертёж!$GN2367=1,Чертёж!GK2367,\"\")","v":60.325722486524462},{"$f":"IF(Чертёж!$GN2367=1,Чертёж!GL2367,\"\")","v":60.325722486524462}]
[null,null,null,null,{"$f":"IF(Чертёж!$GN2368=1,Чертёж!GF2368,\"\")","v":51},{"$f":"IF(Чертёж!$GN2368=1,Чертёж!GG2368,\"\")","v":0},{"$f":"IF(Чертёж!$GN2368=1,Чертёж!GH2368,\"\")","v":0},{"$f":"IF(Чертёж!$GN2368=1,Чертёж!GI2368,\"\")","v":82},{"$f":"IF(Чертёж!$GN2368=1,Чертёж!GJ2368,\"\")","v":82},{"$f":"IF(Чертёж!$GN2368=1,Чертёж!GK2368,\"\")","v":60.325722486524462},{"$f":"IF(Чертёж!$GN2368=1,Чертёж!GL2368,\"\")","v":60.325722486524462}]
[null,null,null,null,{"$f":"IF(Чертёж!$GN2369=1,Чертёж!GF2369,\"\")","v":52},{"$f":"IF(Чертёж!$GN2369=1,Чертёж!GG2369,\"\")","v":0},{"$f":"IF(Чертёж!$GN2369=1,Чертёж!GH2369,\"\")","v":0},{"$f":"IF(Чертёж!$GN2369=1,Чертёж!GI2369,\"\")","v":82},{"$f":"IF(Чертёж!$GN2369=1,Чертёж!GJ2369,\"\")","v":82},{"$f":"IF(Чертёж!$GN2369=1,Чертёж!GK2369,\"\")","v":60.325722486524462},{"$f":"IF(Чертёж!$GN2369=1,Чертёж!GL2369,\"\")","v":60.325722486524462}]
[null,null,null,null,{"$f":"IF(Чертёж!$GN2370=1,Чертёж!GF2370,\"\")","v":53},{"$f":"IF(Чертёж!$GN2370=1,Чертёж!GG2370,\"\")","v":0},{"$f":"IF(Чертёж!$GN2370=1,Чертёж!GH2370,\"\")","v":0},{"$f":"IF(Чертёж!$GN2370=1,Чертёж!GI2370,\"\")","v":82},{"$f":"IF(Чертёж!$GN2370=1,Чертёж!GJ2370,\"\")","v":82},{"$f":"IF(Чертёж!$GN2370=1,Чертёж!GK2370,\"\")","v":60.325722486524462},{"$f":"IF(Чертёж!$GN2370=1,Чертёж!GL2370,\"\")","v":60.325722486524462}]
[null,null,null,null,{"$f":"IF(Чертёж!$GN2371=1,Чертёж!GF2371,\"\")","v":54},{"$f":"IF(Чертёж!$GN2371=1,Чертёж!GG2371,\"\")","v":0},{"$f":"IF(Чертёж!$GN2371=1,Чертёж!GH2371,\"\")","v":0},{"$f":"IF(Чертёж!$GN2371=1,Чертёж!GI2371,\"\")","v":82},{"$f":"IF(Чертёж!$GN2371=1,Чертёж!GJ2371,\"\")","v":82},{"$f":"IF(Чертёж!$GN2371=1,Чертёж!GK2371,\"\")","v":60.325722486524462},{"$f":"IF(Чертёж!$GN2371=1,Чертёж!GL2371,\"\")","v":60.325722486524462}]
[null,null,null,null,{"$f":"IF(Чертёж!$GN2372=1,Чертёж!GF2372,\"\")","v":55},{"$f":"IF(Чертёж!$GN2372=1,Чертёж!GG2372,\"\")","v":0},{"$f":"IF(Чертёж!$GN2372=1,Чертёж!GH2372,\"\")","v":0},{"$f":"IF(Чертёж!$GN2372=1,Чертёж!GI2372,\"\")","v":82},{"$f":"IF(Чертёж!$GN2372=1,Чертёж!GJ2372,\"\")","v":82},{"$f":"IF(Чертёж!$GN2372=1,Чертёж!GK2372,\"\")","v":60.325722486524462},{"$f":"IF(Чертёж!$GN2372=1,Чертёж!GL2372,\"\")","v":60.325722486524462}]
[null,null,null,null,{"$f":"IF(Чертёж!$GN2373=1,Чертёж!GF2373,\"\")","v":56},{"$f":"IF(Чертёж!$GN2373=1,Чертёж!GG2373,\"\")","v":0},{"$f":"IF(Чертёж!$GN2373=1,Чертёж!GH2373,\"\")","v":0},{"$f":"IF(Чертёж!$GN2373=1,Чертёж!GI2373,\"\")","v":82},{"$f":"IF(Чертёж!$GN2373=1,Чертёж!GJ2373,\"\")","v":82},{"$f":"IF(Чертёж!$GN2373=1,Чертёж!GK2373,\"\")","v":60.325722486524462},{"$f":"IF(Чертёж!$GN2373=1,Чертёж!GL2373,\"\")","v":60.325722486524462}]
[null,null,null,null,{"$f":"IF(Чертёж!$GN2374=1,Чертёж!GF2374,\"\")","v":57},{"$f":"IF(Чертёж!$GN2374=1,Чертёж!GG2374,\"\")","v":0},{"$f":"IF(Чертёж!$GN2374=1,Чертёж!GH2374,\"\")","v":0},{"$f":"IF(Чертёж!$GN2374=1,Чертёж!GI2374,\"\")","v":82},{"$f":"IF(Чертёж!$GN2374=1,Чертёж!GJ2374,\"\")","v":82},{"$f":"IF(Чертёж!$GN2374=1,Чертёж!GK2374,\"\")","v":60.325722486524462},{"$f":"IF(Чертёж!$GN2374=1,Чертёж!GL2374,\"\")","v":60.325722486524462}]
[null,null,null,null,{"$f":"IF(Чертёж!$GN2375=1,Чертёж!GF2375,\"\")","v":58},{"$f":"IF(Чертёж!$GN2375=1,Чертёж!GG2375,\"\")","v":0},{"$f":"IF(Чертёж!$GN2375=1,Чертёж!GH2375,\"\")","v":0},{"$f":"IF(Чертёж!$GN2375=1,Чертёж!GI2375,\"\")","v":82},{"$f":"IF(Чертёж!$GN2375=1,Чертёж!GJ2375,\"\")","v":82},{"$f":"IF(Чертёж!$GN2375=1,Чертёж!GK2375,\"\")","v":60.325722486524462},{"$f":"IF(Чертёж!$GN2375=1,Чертёж!GL2375,\"\")","v":60.325722486524462}]
[null,null,null,null,{"$f":"IF(Чертёж!$GN2376=1,Чертёж!GF2376,\"\")","v":59},{"$f":"IF(Чертёж!$GN2376=1,Чертёж!GG2376,\"\")","v":0},{"$f":"IF(Чертёж!$GN2376=1,Чертёж!GH2376,\"\")","v":0},{"$f":"IF(Чертёж!$GN2376=1,Чертёж!GI2376,\"\")","v":82},{"$f":"IF(Чертёж!$GN2376=1,Чертёж!GJ2376,\"\")","v":82},{"$f":"IF(Чертёж!$GN2376=1,Чертёж!GK2376,\"\")","v":60.325722486524462},{"$f":"IF(Чертёж!$GN2376=1,Чертёж!GL2376,\"\")","v":60.325722486524462}]
[null,null,null,null,{"$f":"IF(Чертёж!$GN2377=1,Чертёж!GF2377,\"\")","v":60},{"$f":"IF(Чертёж!$GN2377=1,Чертёж!GG2377,\"\")","v":0},{"$f":"IF(Чертёж!$GN2377=1,Чертёж!GH2377,\"\")","v":0},{"$f":"IF(Чертёж!$GN2377=1,Чертёж!GI2377,\"\")","v":82},{"$f":"IF(Чертёж!$GN2377=1,Чертёж!GJ2377,\"\")","v":82},{"$f":"IF(Чертёж!$GN2377=1,Чертёж!GK2377,\"\")","v":60.325722486524462},{"$f":"IF(Чертёж!$GN2377=1,Чертёж!GL2377,\"\")","v":60.325722486524462}]
[null,null,null,null,{"$f":"IF(Чертёж!$GN2378=1,Чертёж!GF2378,\"\")","v":61},{"$f":"IF(Чертёж!$GN2378=1,Чертёж!GG2378,\"\")","v":0},{"$f":"IF(Чертёж!$GN2378=1,Чертёж!GH2378,\"\")","v":0},{"$f":"IF(Чертёж!$GN2378=1,Чертёж!GI2378,\"\")","v":82},{"$f":"IF(Чертёж!$GN2378=1,Чертёж!GJ2378,\"\")","v":82},{"$f":"IF(Чертёж!$GN2378=1,Чертёж!GK2378,\"\")","v":60.325722486524462},{"$f":"IF(Чертёж!$GN2378=1,Чертёж!GL2378,\"\")","v":60.325722486524462}]
[null,null,null,null,{"$f":"IF(Чертёж!$GN2379=1,Чертёж!GF2379,\"\")","v":62},{"$f":"IF(Чертёж!$GN2379=1,Чертёж!GG2379,\"\")","v":0},{"$f":"IF(Чертёж!$GN2379=1,Чертёж!GH2379,\"\")","v":0},{"$f":"IF(Чертёж!$GN2379=1,Чертёж!GI2379,\"\")","v":82},{"$f":"IF(Чертёж!$GN2379=1,Чертёж!GJ2379,\"\")","v":82},{"$f":"IF(Чертёж!$GN2379=1,Чертёж!GK2379,\"\")","v":60.325722486524462},{"$f":"IF(Чертёж!$GN2379=1,Чертёж!GL2379,\"\")","v":60.325722486524462}]
[null,null,null,null,{"$f":"IF(Чертёж!$GN2380=1,Чертёж!GF2380,\"\")","v":63},{"$f":"IF(Чертёж!$GN2380=1,Чертёж!GG2380,\"\")","v":0},{"$f":"IF(Чертёж!$GN2380=1,Чертёж!GH2380,\"\")","v":0},{"$f":"IF(Чертёж!$GN2380=1,Чертёж!GI2380,\"\")","v":82},{"$f":"IF(Чертёж!$GN2380=1,Чертёж!GJ2380,\"\")","v":82},{"$f":"IF(Чертёж!$GN2380=1,Чертёж!GK2380,\"\")","v":60.325722486524462},{"$f":"IF(Чертёж!$GN2380=1,Чертёж!GL2380,\"\")","v":60.325722486524462}]
[null,null,null,null,{"$f":"IF(Чертёж!$GN2381=1,Чертёж!GF2381,\"\")","v":64},{"$f":"IF(Чертёж!$GN2381=1,Чертёж!GG2381,\"\")","v":0},{"$f":"IF(Чертёж!$GN2381=1,Чертёж!GH2381,\"\")","v":0},{"$f":"IF(Чертёж!$GN2381=1,Чертёж!GI2381,\"\")","v":82},{"$f":"IF(Чертёж!$GN2381=1,Чертёж!GJ2381,\"\")","v":82},{"$f":"IF(Чертёж!$GN2381=1,Чертёж!GK2381,\"\")","v":60.325722486524462},{"$f":"IF(Чертёж!$GN2381=1,Чертёж!GL2381,\"\")","v":60.325722486524462}]
[null,null,null,null,{"$f":"IF(Чертёж!$GN2382=1,Чертёж!GF2382,\"\")","v":65},{"$f":"IF(Чертёж!$GN2382=1,Чертёж!GG2382,\"\")","v":0},{"$f":"IF(Чертёж!$GN2382=1,Чертёж!GH2382,\"\")","v":0},{"$f":"IF(Чертёж!$GN2382=1,Чертёж!GI2382,\"\")","v":82},{"$f":"IF(Чертёж!$GN2382=1,Чертёж!GJ2382,\"\")","v":82},{"$f":"IF(Чертёж!$GN2382=1,Чертёж!GK2382,\"\")","v":60.325722486524462},{"$f":"IF(Чертёж!$GN2382=1,Чертёж!GL2382,\"\")","v":60.325722486524462}]
[null,null,null,null,{"$f":"IF(Чертёж!$GN2383=1,Чертёж!GF2383,\"\")","v":66},{"$f":"IF(Чертёж!$GN2383=1,Чертёж!GG2383,\"\")","v":0},{"$f":"IF(Чертёж!$GN2383=1,Чертёж!GH2383,\"\")","v":0},{"$f":"IF(Чертёж!$GN2383=1,Чертёж!GI2383,\"\")","v":82},{"$f":"IF(Чертёж!$GN2383=1,Чертёж!GJ2383,\"\")","v":82},{"$f":"IF(Чертёж!$GN2383=1,Чертёж!GK2383,\"\")","v":60.325722486524462},{"$f":"IF(Чертёж!$GN2383=1,Чертёж!GL2383,\"\")","v":60.325722486524462}]
[null,null,null,null,{"$f":"IF(Чертёж!$GN2384=1,Чертёж!GF2384,\"\")","v":67},{"$f":"IF(Чертёж!$GN2384=1,Чертёж!GG2384,\"\")","v":0},{"$f":"IF(Чертёж!$GN2384=1,Чертёж!GH2384,\"\")","v":0},{"$f":"IF(Чертёж!$GN2384=1,Чертёж!GI2384,\"\")","v":82},{"$f":"IF(Чертёж!$GN2384=1,Чертёж!GJ2384,\"\")","v":82},{"$f":"IF(Чертёж!$GN2384=1,Чертёж!GK2384,\"\")","v":60.325722486524462},{"$f":"IF(Чертёж!$GN2384=1,Чертёж!GL2384,\"\")","v":60.325722486524462}]
[null,null,null,null,{"$f":"IF(Чертёж!$GN2385=1,Чертёж!GF2385,\"\")","v":68},{"$f":"IF(Чертёж!$GN2385=1,Чертёж!GG2385,\"\")","v":0},{"$f":"IF(Чертёж!$GN2385=1,Чертёж!GH2385,\"\")","v":0},{"$f":"IF(Чертёж!$GN2385=1,Чертёж!GI2385,\"\")","v":82},{"$f":"IF(Чертёж!$GN2385=1,Чертёж!GJ2385,\"\")","v":82},{"$f":"IF(Чертёж!$GN2385=1,Чертёж!GK2385,\"\")","v":60.325722486524462},{"$f":"IF(Чертёж!$GN2385=1,Чертёж!GL2385,\"\")","v":60.325722486524462}]
[null,null,null,null,{"$f":"IF(Чертёж!$GN2386=1,Чертёж!GF2386,\"\")","v":69},{"$f":"IF(Чертёж!$GN2386=1,Чертёж!GG2386,\"\")","v":0},{"$f":"IF(Чертёж!$GN2386=1,Чертёж!GH2386,\"\")","v":0},{"$f":"IF(Чертёж!$GN2386=1,Чертёж!GI2386,\"\")","v":82},{"$f":"IF(Чертёж!$GN2386=1,Чертёж!GJ2386,\"\")","v":82},{"$f":"IF(Чертёж!$GN2386=1,Чертёж!GK2386,\"\")","v":60.325722486524462},{"$f":"IF(Чертёж!$GN2386=1,Чертёж!GL2386,\"\")","v":60.325722486524462}]
[null,null,null,null,{"$f":"IF(Чертёж!$GN2387=1,Чертёж!GF2387,\"\")","v":70},{"$f":"IF(Чертёж!$GN2387=1,Чертёж!GG2387,\"\")","v":0},{"$f":"IF(Чертёж!$GN2387=1,Чертёж!GH2387,\"\")","v":0},{"$f":"IF(Чертёж!$GN2387=1,Чертёж!GI2387,\"\")","v":82},{"$f":"IF(Чертёж!$GN2387=1,Чертёж!GJ2387,\"\")","v":82},{"$f":"IF(Чертёж!$GN2387=1,Чертёж!GK2387,\"\")","v":60.325722486524462},{"$f":"IF(Чертёж!$GN2387=1,Чертёж!GL2387,\"\")","v":60.325722486524462}]
[null,null,null,null,{"$f":"IF(Чертёж!$GN2388=1,Чертёж!GF2388,\"\")","v":71},{"$f":"IF(Чертёж!$GN2388=1,Чертёж!GG2388,\"\")","v":0},{"$f":"IF(Чертёж!$GN2388=1,Чертёж!GH2388,\"\")","v":0},{"$f":"IF(Чертёж!$GN2388=1,Чертёж!GI2388,\"\")","v":82},{"$f":"IF(Чертёж!$GN2388=1,Чертёж!GJ2388,\"\")","v":82},{"$f":"IF(Чертёж!$GN2388=1,Чертёж!GK2388,\"\")","v":60.325722486524462},{"$f":"IF(Чертёж!$GN2388=1,Чертёж!GL2388,\"\")","v":60.325722486524462}]
[null,null,null,null,{"$f":"IF(Чертёж!$GN2389=1,Чертёж!GF2389,\"\")","v":72},{"$f":"IF(Чертёж!$GN2389=1,Чертёж!GG2389,\"\")","v":0},{"$f":"IF(Чертёж!$GN2389=1,Чертёж!GH2389,\"\")","v":0},{"$f":"IF(Чертёж!$GN2389=1,Чертёж!GI2389,\"\")","v":82},{"$f":"IF(Чертёж!$GN2389=1,Чертёж!GJ2389,\"\")","v":82},{"$f":"IF(Чертёж!$GN2389=1,Чертёж!GK2389,\"\")","v":60.325722486524462},{"$f":"IF(Чертёж!$GN2389=1,Чертёж!GL2389,\"\")","v":60.325722486524462}]
[null,null,null,null,{"$f":"IF(Чертёж!$GN2390=1,Чертёж!GF2390,\"\")","v":73},{"$f":"IF(Чертёж!$GN2390=1,Чертёж!GG2390,\"\")","v":0},{"$f":"IF(Чертёж!$GN2390=1,Чертёж!GH2390,\"\")","v":0},{"$f":"IF(Чертёж!$GN2390=1,Чертёж!GI2390,\"\")","v":82},{"$f":"IF(Чертёж!$GN2390=1,Чертёж!GJ2390,\"\")","v":82},{"$f":"IF(Чертёж!$GN2390=1,Чертёж!GK2390,\"\")","v":60.325722486524462},{"$f":"IF(Чертёж!$GN2390=1,Чертёж!GL2390,\"\")","v":60.325722486524462}]
[null,null,null,null,{"$f":"IF(Чертёж!$GN2391=1,Чертёж!GF2391,\"\")","v":74},{"$f":"IF(Чертёж!$GN2391=1,Чертёж!GG2391,\"\")","v":0},{"$f":"IF(Чертёж!$GN2391=1,Чертёж!GH2391,\"\")","v":0},{"$f":"IF(Чертёж!$GN2391=1,Чертёж!GI2391,\"\")","v":82},{"$f":"IF(Чертёж!$GN2391=1,Чертёж!GJ2391,\"\")","v":82},{"$f":"IF(Чертёж!$GN2391=1,Чертёж!GK2391,\"\")","v":60.325722486524462},{"$f":"IF(Чертёж!$GN2391=1,Чертёж!GL2391,\"\")","v":60.325722486524462}]
[null,null,null,null,{"$f":"IF(Чертёж!$GN2392=1,Чертёж!GF2392,\"\")","v":75},{"$f":"IF(Чертёж!$GN2392=1,Чертёж!GG2392,\"\")","v":0},{"$f":"IF(Чертёж!$GN2392=1,Чертёж!GH2392,\"\")","v":0},{"$f":"IF(Чертёж!$GN2392=1,Чертёж!GI2392,\"\")","v":82},{"$f":"IF(Чертёж!$GN2392=1,Чертёж!GJ2392,\"\")","v":82},{"$f":"IF(Чертёж!$GN2392=1,Чертёж!GK2392,\"\")","v":60.325722486524462},{"$f":"IF(Чертёж!$GN2392=1,Чертёж!GL2392,\"\")","v":60.325722486524462}]
[null,null,null,null,{"$f":"IF(Чертёж!$GN2393=1,Чертёж!GF2393,\"\")","v":76},{"$f":"IF(Чертёж!$GN2393=1,Чертёж!GG2393,\"\")","v":0},{"$f":"IF(Чертёж!$GN2393=1,Чертёж!GH2393,\"\")","v":0},{"$f":"IF(Чертёж!$GN2393=1,Чертёж!GI2393,\"\")","v":82},{"$f":"IF(Чертёж!$GN2393=1,Чертёж!GJ2393,\"\")","v":82},{"$f":"IF(Чертёж!$GN2393=1,Чертёж!GK2393,\"\")","v":60.325722486524462},{"$f":"IF(Чертёж!$GN2393=1,Чертёж!GL2393,\"\")","v":60.325722486524462}]
[null,null,null,null,{"$f":"IF(Чертёж!$GN2394=1,Чертёж!GF2394,\"\")","v":77},{"$f":"IF(Чертёж!$GN2394=1,Чертёж!GG2394,\"\")","v":0},{"$f":"IF(Чертёж!$GN2394=1,Чертёж!GH2394,\"\")","v":0},{"$f":"IF(Чертёж!$GN2394=1,Чертёж!GI2394,\"\")","v":82},{"$f":"IF(Чертёж!$GN2394=1,Чертёж!GJ2394,\"\")","v":82},{"$f":"IF(Чертёж!$GN2394=1,Чертёж!GK2394,\"\")","v":60.325722486524462},{"$f":"IF(Чертёж!$GN2394=1,Чертёж!GL2394,\"\")","v":60.325722486524462}]
[null,null,null,null,{"$f":"IF(Чертёж!$GN2395=1,Чертёж!GF2395,\"\")","v":78},{"$f":"IF(Чертёж!$GN2395=1,Чертёж!GG2395,\"\")","v":0},{"$f":"IF(Чертёж!$GN2395=1,Чертёж!GH2395,\"\")","v":0},{"$f":"IF(Чертёж!$GN2395=1,Чертёж!GI2395,\"\")","v":82},{"$f":"IF(Чертёж!$GN2395=1,Чертёж!GJ2395,\"\")","v":82},{"$f":"IF(Чертёж!$GN2395=1,Чертёж!GK2395,\"\")","v":60.325722486524462},{"$f":"IF(Чертёж!$GN2395=1,Чертёж!GL2395,\"\")","v":60.325722486524462}]
[null,null,null,null,{"$f":"IF(Чертёж!$GN2396=1,Чертёж!GF2396,\"\")","v":79},{"$f":"IF(Чертёж!$GN2396=1,Чертёж!GG2396,\"\")","v":0},{"$f":"IF(Чертёж!$GN2396=1,Чертёж!GH2396,\"\")","v":0},{"$f":"IF(Чертёж!$GN2396=1,Чертёж!GI2396,\"\")","v":82},{"$f":"IF(Чертёж!$GN2396=1,Чертёж!GJ2396,\"\")","v":82},{"$f":"IF(Чертёж!$GN2396=1,Чертёж!GK2396,\"\")","v":60.325722486524462},{"$f":"IF(Чертёж!$GN2396=1,Чертёж!GL2396,\"\")","v":60.325722486524462}]
[null,null,null,null,{"$f":"IF(Чертёж!$GN2397=1,Чертёж!GF2397,\"\")","v":80},{"$f":"IF(Чертёж!$GN2397=1,Чертёж!GG2397,\"\")","v":0},{"$f":"IF(Чертёж!$GN2397=1,Чертёж!GH2397,\"\")","v":0},{"$f":"IF(Чертёж!$GN2397=1,Чертёж!GI2397,\"\")","v":82},{"$f":"IF(Чертёж!$GN2397=1,Чертёж!GJ2397,\"\")","v":82},{"$f":"IF(Чертёж!$GN2397=1,Чертёж!GK2397,\"\")","v":60.325722486524462},{"$f":"IF(Чертёж!$GN2397=1,Чертёж!GL2397,\"\")","v":60.325722486524462}]
[null,null,null,null,{"$f":"IF(Чертёж!$GN2398=1,Чертёж!GF2398,\"\")","v":81},{"$f":"IF(Чертёж!$GN2398=1,Чертёж!GG2398,\"\")","v":0},{"$f":"IF(Чертёж!$GN2398=1,Чертёж!GH2398,\"\")","v":0},{"$f":"IF(Чертёж!$GN2398=1,Чертёж!GI2398,\"\")","v":82},{"$f":"IF(Чертёж!$GN2398=1,Чертёж!GJ2398,\"\")","v":82},{"$f":"IF(Чертёж!$GN2398=1,Чертёж!GK2398,\"\")","v":60.325722486524462},{"$f":"IF(Чертёж!$GN2398=1,Чертёж!GL2398,\"\")","v":60.325722486524462}]
[null,null,null,null,{"$f":"IF(Чертёж!$GN2399=1,Чертёж!GF2399,\"\")","v":82},{"$f":"IF(Чертёж!$GN2399=1,Чертёж!GG2399,\"\")","v":0},{"$f":"IF(Чертёж!$GN2399=1,Чертёж!GH2399,\"\")","v":0},{"$f":"IF(Чертёж!$GN2399=1,Чертёж!GI2399,\"\")","v":82},{"$f":"IF(Чертёж!$GN2399=1,Чертёж!GJ2399,\"\")","v":82},{"$f":"IF(Чертёж!$GN2399=1,Чертёж!GK2399,\"\")","v":60.325722486524462},{"$f":"IF(Чертёж!$GN2399=1,Чертёж!GL2399,\"\")","v":60.325722486524462}]
[null,null,null,null,{"$f":"IF(Чертёж!$GN2400=1,Чертёж!GF2400,\"\")","v":83},{"$f":"IF(Чертёж!$GN2400=1,Чертёж!GG2400,\"\")","v":0},{"$f":"IF(Чертёж!$GN2400=1,Чертёж!GH2400,\"\")","v":0},{"$f":"IF(Чертёж!$GN2400=1,Чертёж!GI2400,\"\")","v":82},{"$f":"IF(Чертёж!$GN2400=1,Чертёж!GJ2400,\"\")","v":82},{"$f":"IF(Чертёж!$GN2400=1,Чертёж!GK2400,\"\")","v":60.325722486524462},{"$f":"IF(Чертёж!$GN2400=1,Чертёж!GL2400,\"\")","v":60.325722486524462}]
[null,null,null,null,{"$f":"IF(Чертёж!$GN2401=1,Чертёж!GF2401,\"\")","v":84},{"$f":"IF(Чертёж!$GN2401=1,Чертёж!GG2401,\"\")","v":0},{"$f":"IF(Чертёж!$GN2401=1,Чертёж!GH2401,\"\")","v":0},{"$f":"IF(Чертёж!$GN2401=1,Чертёж!GI2401,\"\")","v":82},{"$f":"IF(Чертёж!$GN2401=1,Чертёж!GJ2401,\"\")","v":82},{"$f":"IF(Чертёж!$GN2401=1,Чертёж!GK2401,\"\")","v":60.325722486524462},{"$f":"IF(Чертёж!$GN2401=1,Чертёж!GL2401,\"\")","v":60.325722486524462}]
[null,null,null,null,{"$f":"IF(Чертёж!$GN2402=1,Чертёж!GF2402,\"\")","v":85},{"$f":"IF(Чертёж!$GN2402=1,Чертёж!GG2402,\"\")","v":0},{"$f":"IF(Чертёж!$GN2402=1,Чертёж!GH2402,\"\")","v":0},{"$f":"IF(Чертёж!$GN2402=1,Чертёж!GI2402,\"\")","v":82},{"$f":"IF(Чертёж!$GN2402=1,Чертёж!GJ2402,\"\")","v":82},{"$f":"IF(Чертёж!$GN2402=1,Чертёж!GK2402,\"\")","v":60.325722486524462},{"$f":"IF(Чертёж!$GN2402=1,Чертёж!GL2402,\"\")","v":60.325722486524462}]
[null,null,null,null,{"$f":"IF(Чертёж!$GN2403=1,Чертёж!GF2403,\"\")","v":86},{"$f":"IF(Чертёж!$GN2403=1,Чертёж!GG2403,\"\")","v":0},{"$f":"IF(Чертёж!$GN2403=1,Чертёж!GH2403,\"\")","v":0},{"$f":"IF(Чертёж!$GN2403=1,Чертёж!GI2403,\"\")","v":82},{"$f":"IF(Чертёж!$GN2403=1,Чертёж!GJ2403,\"\")","v":82},{"$f":"IF(Чертёж!$GN2403=1,Чертёж!GK2403,\"\")","v":60.325722486524462},{"$f":"IF(Чертёж!$GN2403=1,Чертёж!GL2403,\"\")","v":60.325722486524462}]
[null,null,null,null,{"$f":"IF(Чертёж!$GN2404=1,Чертёж!GF2404,\"\")","v":87},{"$f":"IF(Чертёж!$GN2404=1,Чертёж!GG2404,\"\")","v":0},{"$f":"IF(Чертёж!$GN2404=1,Чертёж!GH2404,\"\")","v":0},{"$f":"IF(Чертёж!$GN2404=1,Чертёж!GI2404,\"\")","v":82},{"$f":"IF(Чертёж!$GN2404=1,Чертёж!GJ2404,\"\")","v":82},{"$f":"IF(Чертёж!$GN2404=1,Чертёж!GK2404,\"\")","v":60.325722486524462},{"$f":"IF(Чертёж!$GN2404=1,Чертёж!GL2404,\"\")","v":60.325722486524462}]
[null,null,null,null,{"$f":"IF(Чертёж!$GN2405=1,Чертёж!GF2405,\"\")","v":88},{"$f":"IF(Чертёж!$GN2405=1,Чертёж!GG2405,\"\")","v":0},{"$f":"IF(Чертёж!$GN2405=1,Чертёж!GH2405,\"\")","v":0},{"$f":"IF(Чертёж!$GN2405=1,Чертёж!GI2405,\"\")","v":82},{"$f":"IF(Чертёж!$GN2405=1,Чертёж!GJ2405,\"\")","v":82},{"$f":"IF(Чертёж!$GN2405=1,Чертёж!GK2405,\"\")","v":60.325722486524462},{"$f":"IF(Чертёж!$GN2405=1,Чертёж!GL2405,\"\")","v":60.325722486524462}]
[null,null,null,null,{"$f":"IF(Чертёж!$GN2406=1,Чертёж!GF2406,\"\")","v":89},{"$f":"IF(Чертёж!$GN2406=1,Чертёж!GG2406,\"\")","v":0},{"$f":"IF(Чертёж!$GN2406=1,Чертёж!GH2406,\"\")","v":0},{"$f":"IF(Чертёж!$GN2406=1,Чертёж!GI2406,\"\")","v":82},{"$f":"IF(Чертёж!$GN2406=1,Чертёж!GJ2406,\"\")","v":82},{"$f":"IF(Чертёж!$GN2406=1,Чертёж!GK2406,\"\")","v":60.325722486524462},{"$f":"IF(Чертёж!$GN2406=1,Чертёж!GL2406,\"\")","v":60.325722486524462}]
[null,null,null,null,{"$f":"IF(Чертёж!$GN2407=1,Чертёж!GF2407,\"\")","v":90},{"$f":"IF(Чертёж!$GN2407=1,Чертёж!GG2407,\"\")","v":0},{"$f":"IF(Чертёж!$GN2407=1,Чертёж!GH2407,\"\")","v":0},{"$f":"IF(Чертёж!$GN2407=1,Чертёж!GI2407,\"\")","v":82},{"$f":"IF(Чертёж!$GN2407=1,Чертёж!GJ2407,\"\")","v":82},{"$f":"IF(Чертёж!$GN2407=1,Чертёж!GK2407,\"\")","v":60.325722486524462},{"$f":"IF(Чертёж!$GN2407=1,Чертёж!GL2407,\"\")","v":60.325722486524462}]
[null,null,null,null,{"$f":"IF(Чертёж!$GN2408=1,Чертёж!GF2408,\"\")","v":91},{"$f":"IF(Чертёж!$GN2408=1,Чертёж!GG2408,\"\")","v":0},{"$f":"IF(Чертёж!$GN2408=1,Чертёж!GH2408,\"\")","v":0},{"$f":"IF(Чертёж!$GN2408=1,Чертёж!GI2408,\"\")","v":82},{"$f":"IF(Чертёж!$GN2408=1,Чертёж!GJ2408,\"\")","v":82},{"$f":"IF(Чертёж!$GN2408=1,Чертёж!GK2408,\"\")","v":60.325722486524462},{"$f":"IF(Чертёж!$GN2408=1,Чертёж!GL2408,\"\")","v":60.325722486524462}]
[null,null,null,null,{"$f":"IF(Чертёж!$GN2409=1,Чертёж!GF2409,\"\")","v":92},{"$f":"IF(Чертёж!$GN2409=1,Чертёж!GG2409,\"\")","v":0},{"$f":"IF(Чертёж!$GN2409=1,Чертёж!GH2409,\"\")","v":0},{"$f":"IF(Чертёж!$GN2409=1,Чертёж!GI2409,\"\")","v":82},{"$f":"IF(Чертёж!$GN2409=1,Чертёж!GJ2409,\"\")","v":82},{"$f":"IF(Чертёж!$GN2409=1,Чертёж!GK2409,\"\")","v":60.325722486524462},{"$f":"IF(Чертёж!$GN2409=1,Чертёж!GL2409,\"\")","v":60.325722486524462}]
[null,null,null,null,{"$f":"IF(Чертёж!$GN2410=1,Чертёж!GF2410,\"\")","v":93},{"$f":"IF(Чертёж!$GN2410=1,Чертёж!GG2410,\"\")","v":0},{"$f":"IF(Чертёж!$GN2410=1,Чертёж!GH2410,\"\")","v":0},{"$f":"IF(Чертёж!$GN2410=1,Чертёж!GI2410,\"\")","v":82},{"$f":"IF(Чертёж!$GN2410=1,Чертёж!GJ2410,\"\")","v":82},{"$f":"IF(Чертёж!$GN2410=1,Чертёж!GK2410,\"\")","v":60.325722486524462},{"$f":"IF(Чертёж!$GN2410=1,Чертёж!GL2410,\"\")","v":60.325722486524462}]
[null,null,null,null,{"$f":"IF(Чертёж!$GN2411=1,Чертёж!GF2411,\"\")","v":94},{"$f":"IF(Чертёж!$GN2411=1,Чертёж!GG2411,\"\")","v":0},{"$f":"IF(Чертёж!$GN2411=1,Чертёж!GH2411,\"\")","v":0},{"$f":"IF(Чертёж!$GN2411=1,Чертёж!GI2411,\"\")","v":82},{"$f":"IF(Чертёж!$GN2411=1,Чертёж!GJ2411,\"\")","v":82},{"$f":"IF(Чертёж!$GN2411=1,Чертёж!GK2411,\"\")","v":60.325722486524462},{"$f":"IF(Чертёж!$GN2411=1,Чертёж!GL2411,\"\")","v":60.325722486524462}]
[null,null,null,null,{"$f":"IF(Чертёж!$GN2412=1,Чертёж!GF2412,\"\")","v":95},{"$f":"IF(Чертёж!$GN2412=1,Чертёж!GG2412,\"\")","v":0},{"$f":"IF(Чертёж!$GN2412=1,Чертёж!GH2412,\"\")","v":0},{"$f":"IF(Чертёж!$GN2412=1,Чертёж!GI2412,\"\")","v":82},{"$f":"IF(Чертёж!$GN2412=1,Чертёж!GJ2412,\"\")","v":82},{"$f":"IF(Чертёж!$GN2412=1,Чертёж!GK2412,\"\")","v":60.325722486524462},{"$f":"IF(Чертёж!$GN2412=1,Чертёж!GL2412,\"\")","v":60.325722486524462}]
[null,null,null,null,{"$f":"IF(Чертёж!$GN2413=1,Чертёж!GF2413,\"\")","v":96},{"$f":"IF(Чертёж!$GN2413=1,Чертёж!GG2413,\"\")","v":0},{"$f":"IF(Чертёж!$GN2413=1,Чертёж!GH2413,\"\")","v":0},{"$f":"IF(Чертёж!$GN2413=1,Чертёж!GI2413,\"\")","v":82},{"$f":"IF(Чертёж!$GN2413=1,Чертёж!GJ2413,\"\")","v":82},{"$f":"IF(Чертёж!$GN2413=1,Чертёж!GK2413,\"\")","v":60.325722486524462},{"$f":"IF(Чертёж!$GN2413=1,Чертёж!GL2413,\"\")","v":60.325722486524462}]
[null,null,null,null,{"$f":"IF(Чертёж!$GN2414=1,Чертёж!GF2414,\"\")","v":97},{"$f":"IF(Чертёж!$GN2414=1,Чертёж!GG2414,\"\")","v":0},{"$f":"IF(Чертёж!$GN2414=1,Чертёж!GH2414,\"\")","v":0},{"$f":"IF(Чертёж!$GN2414=1,Чертёж!GI2414,\"\")","v":82},{"$f":"IF(Чертёж!$GN2414=1,Чертёж!GJ2414,\"\")","v":82},{"$f":"IF(Чертёж!$GN2414=1,Чертёж!GK2414,\"\")","v":60.325722486524462},{"$f":"IF(Чертёж!$GN2414=1,Чертёж!GL2414,\"\")","v":60.325722486524462}]
[null,null,null,null,{"$f":"IF(Чертёж!$GN2415=1,Чертёж!GF2415,\"\")","v":98},{"$f":"IF(Чертёж!$GN2415=1,Чертёж!GG2415,\"\")","v":0},{"$f":"IF(Чертёж!$GN2415=1,Чертёж!GH2415,\"\")","v":0},{"$f":"IF(Чертёж!$GN2415=1,Чертёж!GI2415,\"\")","v":82},{"$f":"IF(Чертёж!$GN2415=1,Чертёж!GJ2415,\"\")","v":82},{"$f":"IF(Чертёж!$GN2415=1,Чертёж!GK2415,\"\")","v":60.325722486524462},{"$f":"IF(Чертёж!$GN2415=1,Чертёж!GL2415,\"\")","v":60.325722486524462}]
[null,null,null,null,{"$f":"IF(Чертёж!$GN2416=1,Чертёж!GF2416,\"\")","v":""},{"$f":"IF(Чертёж!$GN2416=1,Чертёж!GG2416,\"\")","v":""},{"$f":"IF(Чертёж!$GN2416=1,Чертёж!GH2416,\"\")","v":""},{"$f":"IF(Чертёж!$GN2416=1,Чертёж!GI2416,\"\")","v":""},{"$f":"IF(Чертёж!$GN2416=1,Чертёж!GJ2416,\"\")","v":""},{"$f":"IF(Чертёж!$GN2416=1,Чертёж!GK2416,\"\")","v":""},{"$f":"IF(Чертёж!$GN2416=1,Чертёж!GL2416,\"\")","v":""}]
[null,null,null,null,{"$f":"IF(Чертёж!$GN2417=1,Чертёж!GF2417,\"\")","v":""},{"$f":"IF(Чертёж!$GN2417=1,Чертёж!GG2417,\"\")","v":""},{"$f":"IF(Чертёж!$GN2417=1,Чертёж!GH2417,\"\")","v":""},{"$f":"IF(Чертёж!$GN2417=1,Чертёж!GI2417,\"\")","v":""},{"$f":"IF(Чертёж!$GN2417=1,Чертёж!GJ2417,\"\")","v":""},{"$f":"IF(Чертёж!$GN2417=1,Чертёж!GK2417,\"\")","v":""},{"$f":"IF(Чертёж!$GN2417=1,Чертёж!GL2417,\"\")","v":""}]
[null,null,null,null,{"$f":"IF(Чертёж!$GN2418=1,Чертёж!GF2418,\"\")","v":""},{"$f":"IF(Чертёж!$GN2418=1,Чертёж!GG2418,\"\")","v":""},{"$f":"IF(Чертёж!$GN2418=1,Чертёж!GH2418,\"\")","v":""},{"$f":"IF(Чертёж!$GN2418=1,Чертёж!GI2418,\"\")","v":""},{"$f":"IF(Чертёж!$GN2418=1,Чертёж!GJ2418,\"\")","v":""},{"$f":"IF(Чертёж!$GN2418=1,Чертёж!GK2418,\"\")","v":""},{"$f":"IF(Чертёж!$GN2418=1,Чертёж!GL2418,\"\")","v":""}]
[null,null,null,null,{"$f":"IF(Чертёж!$GN2419=1,Чертёж!GF2419,\"\")","v":""},{"$f":"IF(Чертёж!$GN2419=1,Чертёж!GG2419,\"\")","v":""},{"$f":"IF(Чертёж!$GN2419=1,Чертёж!GH2419,\"\")","v":""},{"$f":"IF(Чертёж!$GN2419=1,Чертёж!GI2419,\"\")","v":""},{"$f":"IF(Чертёж!$GN2419=1,Чертёж!GJ2419,\"\")","v":""},{"$f":"IF(Чертёж!$GN2419=1,Чертёж!GK2419,\"\")","v":""},{"$f":"IF(Чертёж!$GN2419=1,Чертёж!GL2419,\"\")","v":""}]
[null,null,null,null,{"$f":"IF(Чертёж!$GN2420=1,Чертёж!GF2420,\"\")","v":""},{"$f":"IF(Чертёж!$GN2420=1,Чертёж!GG2420,\"\")","v":""},{"$f":"IF(Чертёж!$GN2420=1,Чертёж!GH2420,\"\")","v":""},{"$f":"IF(Чертёж!$GN2420=1,Чертёж!GI2420,\"\")","v":""},{"$f":"IF(Чертёж!$GN2420=1,Чертёж!GJ2420,\"\")","v":""},{"$f":"IF(Чертёж!$GN2420=1,Чертёж!GK2420,\"\")","v":""},{"$f":"IF(Чертёж!$GN2420=1,Чертёж!GL2420,\"\")","v":""}]
[null,null,null,null,{"$f":"IF(Чертёж!$GN2421=1,Чертёж!GF2421,\"\")","v":""},{"$f":"IF(Чертёж!$GN2421=1,Чертёж!GG2421,\"\")","v":""},{"$f":"IF(Чертёж!$GN2421=1,Чертёж!GH2421,\"\")","v":""},{"$f":"IF(Чертёж!$GN2421=1,Чертёж!GI2421,\"\")","v":""},{"$f":"IF(Чертёж!$GN2421=1,Чертёж!GJ2421,\"\")","v":""},{"$f":"IF(Чертёж!$GN2421=1,Чертёж!GK2421,\"\")","v":""},{"$f":"IF(Чертёж!$GN2421=1,Чертёж!GL2421,\"\")","v":""}]
[null,null,null,null,{"$f":"IF(Чертёж!$GN2422=1,Чертёж!GF2422,\"\")","v":""},{"$f":"IF(Чертёж!$GN2422=1,Чертёж!GG2422,\"\")","v":""},{"$f":"IF(Чертёж!$GN2422=1,Чертёж!GH2422,\"\")","v":""},{"$f":"IF(Чертёж!$GN2422=1,Чертёж!GI2422,\"\")","v":""},{"$f":"IF(Чертёж!$GN2422=1,Чертёж!GJ2422,\"\")","v":""},{"$f":"IF(Чертёж!$GN2422=1,Чертёж!GK2422,\"\")","v":""},{"$f":"IF(Чертёж!$GN2422=1,Чертёж!GL2422,\"\")","v":""}]

{"sheet":"Элементы конструкции","index":7,"n_rows":43,"n_cols":12,"rows_kept":43,"cut":false,"hidden":false,"merged":[[42,1,42,5],[42,7,42,11]]}
[]
[]
[]
[]
[]
[]
[]
[]
[]
[]
[]
[]
[]
[]
[]
[]
[]
[]
[]
[null,"GSO M-CRF",null,null,"hmin  (mm)=",82,null,"GSO M-MLP",null,null,"hmin  (mm)=",62]
[null,null,null,null,"hmax (mm)=",117,null,null,null,null,"hmax (mm)=",101]
[]
[]
[]
[]
[]
[]
[]
[]
[]
[]
[]
[]
[]
[]
[]
[]
[]
[]
[]
[]
[null,"Astrophoto-1",null,null,"hmin  (mm)=",92,null,"Astrophoto-2",null,null,"hmin  (mm)=",138]
[null,"GSO M-CRF + Paracorr Type-2 + off axis guide + CANON EOS 400D",null,null,null,null,null,"GSO M-CRF + off axis guide + CANON EOS 400D"]

{"sheet":"О программе","index":8,"n_rows":0,"n_cols":0,"rows_kept":0,"cut":false,"hidden":false,"merged":[]}